BEGIN:VCALENDAR
VERSION:2.0
PRODID:-//Birmingham Mommy - ECPv6.3.5//NONSGML v1.0//EN
CALSCALE:GREGORIAN
METHOD:PUBLISH
X-WR-CALNAME:Birmingham Mommy
X-ORIGINAL-URL:https://birminghammommy.com
X-WR-CALDESC:Events for Birmingham Mommy
REFRESH-INTERVAL;VALUE=DURATION:PT1H
X-Robots-Tag:noindex
X-PUBLISHED-TTL:PT1H
BEGIN:VTIMEZONE
TZID:America/Chicago
BEGIN:DAYLIGHT
TZOFFSETFROM:-0600
TZOFFSETTO:-0500
TZNAME:CDT
DTSTART:20170312T080000
END:DAYLIGHT
BEGIN:STANDARD
TZOFFSETFROM:-0500
TZOFFSETTO:-0600
TZNAME:CST
DTSTART:20171105T070000
END:STANDARD
BEGIN:DAYLIGHT
TZOFFSETFROM:-0600
TZOFFSETTO:-0500
TZNAME:CDT
DTSTART:20180311T080000
END:DAYLIGHT
BEGIN:STANDARD
TZOFFSETFROM:-0500
TZOFFSETTO:-0600
TZNAME:CST
DTSTART:20181104T070000
END:STANDARD
END:VTIMEZONE
BEGIN:VEVENT
DTSTART;TZID=America/Chicago:20180805T143000
DTEND;TZID=America/Chicago:20180805T143000
DTSTAMP:20260421T044025
CREATED:20180720T005352Z
LAST-MODIFIED:20180720T005352Z
UID:25892-1533479400-1533479400@birminghammommy.com
SUMMARY:STARS presents Hairspray Jr.
DESCRIPTION:The 1950s are out\, and change is in the air! Hairspray JR. is the family-friendly musical piled bouffant-high with laughter\, romance and deliriously tuneful songs.  Adapted from the Broadway production that won eight Tony Awards\, including Best Musical\, Hairspray JR. is a show that celebrates diversity and brings audiences to their feet with its positive message and uproarious sense of humor.
URL:https://birminghammommy.com/event/stars-presents-hairspray-jr-8/
LOCATION:Virginia Samford Theatre\, 1116 26th Street South\, Birmingham\, AL\, 35205
GEO:33.5033233;-86.7871392
X-APPLE-STRUCTURED-LOCATION;VALUE=URI;X-ADDRESS=Virginia Samford Theatre 1116 26th Street South Birmingham AL 35205;X-APPLE-RADIUS=500;X-TITLE=1116 26th Street South:geo:-86.7871392,33.5033233
END:VEVENT
BEGIN:VEVENT
DTSTART;TZID=America/Chicago:20180804T143000
DTEND;TZID=America/Chicago:20180804T143000
DTSTAMP:20260421T044025
CREATED:20180720T005352Z
LAST-MODIFIED:20180720T005352Z
UID:25890-1533393000-1533393000@birminghammommy.com
SUMMARY:STARS presents Hairspray Jr.
DESCRIPTION:The 1950s are out\, and change is in the air! Hairspray JR. is the family-friendly musical piled bouffant-high with laughter\, romance and deliriously tuneful songs.  Adapted from the Broadway production that won eight Tony Awards\, including Best Musical\, Hairspray JR. is a show that celebrates diversity and brings audiences to their feet with its positive message and uproarious sense of humor.
URL:https://birminghammommy.com/event/stars-presents-hairspray-jr-7/
LOCATION:Virginia Samford Theatre\, 1116 26th Street South\, Birmingham\, AL\, 35205
GEO:33.5033233;-86.7871392
X-APPLE-STRUCTURED-LOCATION;VALUE=URI;X-ADDRESS=Virginia Samford Theatre 1116 26th Street South Birmingham AL 35205;X-APPLE-RADIUS=500;X-TITLE=1116 26th Street South:geo:-86.7871392,33.5033233
END:VEVENT
BEGIN:VEVENT
DTSTART;TZID=America/Chicago:20180803T193000
DTEND;TZID=America/Chicago:20180803T213000
DTSTAMP:20260421T044025
CREATED:20180720T005352Z
LAST-MODIFIED:20180803T135450Z
UID:25888-1533324600-1533331800@birminghammommy.com
SUMMARY:STARS presents Hairspray Jr.
DESCRIPTION:The 1950s are out\, and change is in the air! Hairspray JR. is the family-friendly musical piled bouffant-high with laughter\, romance and deliriously tuneful songs.  Adapted from the Broadway production that won eight Tony Awards\, including Best Musical\, Hairspray JR. is a show that celebrates diversity and brings audiences to their feet with its positive message and uproarious sense of humor.
URL:https://birminghammommy.com/event/stars-presents-hairspray-jr-6/
LOCATION:Virginia Samford Theatre\, 1116 26th Street South\, Birmingham\, AL\, 35205
GEO:33.5033233;-86.7871392
X-APPLE-STRUCTURED-LOCATION;VALUE=URI;X-ADDRESS=Virginia Samford Theatre 1116 26th Street South Birmingham AL 35205;X-APPLE-RADIUS=500;X-TITLE=1116 26th Street South:geo:-86.7871392,33.5033233
END:VEVENT
BEGIN:VEVENT
DTSTART;TZID=America/Chicago:20180802T193000
DTEND;TZID=America/Chicago:20180802T193000
DTSTAMP:20260421T044025
CREATED:20180720T005352Z
LAST-MODIFIED:20180720T005352Z
UID:25886-1533238200-1533238200@birminghammommy.com
SUMMARY:STARS presents Hairspray Jr.
DESCRIPTION:The 1950s are out\, and change is in the air! Hairspray JR. is the family-friendly musical piled bouffant-high with laughter\, romance and deliriously tuneful songs.  Adapted from the Broadway production that won eight Tony Awards\, including Best Musical\, Hairspray JR. is a show that celebrates diversity and brings audiences to their feet with its positive message and uproarious sense of humor.
URL:https://birminghammommy.com/event/stars-presents-hairspray-jr-5/
LOCATION:Virginia Samford Theatre\, 1116 26th Street South\, Birmingham\, AL\, 35205
GEO:33.5033233;-86.7871392
X-APPLE-STRUCTURED-LOCATION;VALUE=URI;X-ADDRESS=Virginia Samford Theatre 1116 26th Street South Birmingham AL 35205;X-APPLE-RADIUS=500;X-TITLE=1116 26th Street South:geo:-86.7871392,33.5033233
END:VEVENT
BEGIN:VEVENT
DTSTART;TZID=America/Chicago:20180729T143000
DTEND;TZID=America/Chicago:20180729T143000
DTSTAMP:20260421T044025
CREATED:20180720T005351Z
LAST-MODIFIED:20180720T005351Z
UID:25884-1532874600-1532874600@birminghammommy.com
SUMMARY:STARS presents Hairspray Jr.
DESCRIPTION:The 1950s are out\, and change is in the air! Hairspray JR. is the family-friendly musical piled bouffant-high with laughter\, romance and deliriously tuneful songs.  Adapted from the Broadway production that won eight Tony Awards\, including Best Musical\, Hairspray JR. is a show that celebrates diversity and brings audiences to their feet with its positive message and uproarious sense of humor.
URL:https://birminghammommy.com/event/stars-presents-hairspray-jr-4/
LOCATION:Virginia Samford Theatre\, 1116 26th Street South\, Birmingham\, AL\, 35205
GEO:33.5033233;-86.7871392
X-APPLE-STRUCTURED-LOCATION;VALUE=URI;X-ADDRESS=Virginia Samford Theatre 1116 26th Street South Birmingham AL 35205;X-APPLE-RADIUS=500;X-TITLE=1116 26th Street South:geo:-86.7871392,33.5033233
END:VEVENT
BEGIN:VEVENT
DTSTART;TZID=America/Chicago:20180728T143000
DTEND;TZID=America/Chicago:20180728T143000
DTSTAMP:20260421T044025
CREATED:20180720T005351Z
LAST-MODIFIED:20180720T005351Z
UID:25882-1532788200-1532788200@birminghammommy.com
SUMMARY:STARS presents Hairspray Jr.
DESCRIPTION:The 1950s are out\, and change is in the air! Hairspray JR. is the family-friendly musical piled bouffant-high with laughter\, romance and deliriously tuneful songs.  Adapted from the Broadway production that won eight Tony Awards\, including Best Musical\, Hairspray JR. is a show that celebrates diversity and brings audiences to their feet with its positive message and uproarious sense of humor.
URL:https://birminghammommy.com/event/stars-presents-hairspray-jr-3/
LOCATION:Virginia Samford Theatre\, 1116 26th Street South\, Birmingham\, AL\, 35205
GEO:33.5033233;-86.7871392
X-APPLE-STRUCTURED-LOCATION;VALUE=URI;X-ADDRESS=Virginia Samford Theatre 1116 26th Street South Birmingham AL 35205;X-APPLE-RADIUS=500;X-TITLE=1116 26th Street South:geo:-86.7871392,33.5033233
END:VEVENT
BEGIN:VEVENT
DTSTART;TZID=America/Chicago:20180727T193000
DTEND;TZID=America/Chicago:20180727T193000
DTSTAMP:20260421T044025
CREATED:20180720T005351Z
LAST-MODIFIED:20180720T005351Z
UID:25880-1532719800-1532719800@birminghammommy.com
SUMMARY:STARS presents Hairspray Jr.
DESCRIPTION:The 1950s are out\, and change is in the air! Hairspray JR. is the family-friendly musical piled bouffant-high with laughter\, romance and deliriously tuneful songs.  Adapted from the Broadway production that won eight Tony Awards\, including Best Musical\, Hairspray JR. is a show that celebrates diversity and brings audiences to their feet with its positive message and uproarious sense of humor.
URL:https://birminghammommy.com/event/stars-presents-hairspray-jr-2/
LOCATION:Virginia Samford Theatre\, 1116 26th Street South\, Birmingham\, AL\, 35205
GEO:33.5033233;-86.7871392
X-APPLE-STRUCTURED-LOCATION;VALUE=URI;X-ADDRESS=Virginia Samford Theatre 1116 26th Street South Birmingham AL 35205;X-APPLE-RADIUS=500;X-TITLE=1116 26th Street South:geo:-86.7871392,33.5033233
END:VEVENT
BEGIN:VEVENT
DTSTART;TZID=America/Chicago:20180726T193000
DTEND;TZID=America/Chicago:20180726T193000
DTSTAMP:20260421T044025
CREATED:20180720T005351Z
LAST-MODIFIED:20180720T005351Z
UID:25878-1532633400-1532633400@birminghammommy.com
SUMMARY:STARS presents Hairspray Jr.
DESCRIPTION:The 1950s are out\, and change is in the air! Hairspray JR. is the family-friendly musical piled bouffant-high with laughter\, romance and deliriously tuneful songs.  Adapted from the Broadway production that won eight Tony Awards\, including Best Musical\, Hairspray JR. is a show that celebrates diversity and brings audiences to their feet with its positive message and uproarious sense of humor.
URL:https://birminghammommy.com/event/stars-presents-hairspray-jr/
LOCATION:Virginia Samford Theatre\, 1116 26th Street South\, Birmingham\, AL\, 35205
GEO:33.5033233;-86.7871392
X-APPLE-STRUCTURED-LOCATION;VALUE=URI;X-ADDRESS=Virginia Samford Theatre 1116 26th Street South Birmingham AL 35205;X-APPLE-RADIUS=500;X-TITLE=1116 26th Street South:geo:-86.7871392,33.5033233
END:VEVENT
BEGIN:VEVENT
DTSTART;TZID=America/Chicago:20171119T143000
DTEND;TZID=America/Chicago:20171119T163000
DTSTAMP:20260421T044025
CREATED:20171101T160619Z
LAST-MODIFIED:20171101T160619Z
UID:22675-1511101800-1511109000@birminghammommy.com
SUMMARY:STARS Presents A Charlie Brown Christmas
DESCRIPTION:When Charlie Brown complains about the overwhelming materialism he sees among everyone during the Christmas season\, Lucy suggests that he become director of the school Christmas pageant. Charlie Brown accepts\, but this proves to be a frustrating endeavor. When an attempt to restore the proper holiday spirit with a forlorn little Christmas fir tree fails\, he needs Linus’ help to discover the real meaning of Christmas. \nSTARS (Students Take A Role at the Samford) was created to give every child the opportunity to learn and grow in a safe and supportive arts environment. By offering classes in conjunction with productions\, our children are able to apply what they have learned in a hands-on and collaborative environment. \nTickets: $20 Adult\, $15 Student
URL:https://birminghammommy.com/event/stars-presents-charlie-brown-christmas-5/
LOCATION:Virginia Samford Theatre\, 1116 26th Street South\, Birmingham\, AL\, 35205
GEO:33.5033233;-86.7871392
X-APPLE-STRUCTURED-LOCATION;VALUE=URI;X-ADDRESS=Virginia Samford Theatre 1116 26th Street South Birmingham AL 35205;X-APPLE-RADIUS=500;X-TITLE=1116 26th Street South:geo:-86.7871392,33.5033233
END:VEVENT
BEGIN:VEVENT
DTSTART;TZID=America/Chicago:20171118T193000
DTEND;TZID=America/Chicago:20171118T213000
DTSTAMP:20260421T044025
CREATED:20171101T160457Z
LAST-MODIFIED:20171101T160457Z
UID:22673-1511033400-1511040600@birminghammommy.com
SUMMARY:STARS Presents A Charlie Brown Christmas
DESCRIPTION:When Charlie Brown complains about the overwhelming materialism he sees among everyone during the Christmas season\, Lucy suggests that he become director of the school Christmas pageant. Charlie Brown accepts\, but this proves to be a frustrating endeavor. When an attempt to restore the proper holiday spirit with a forlorn little Christmas fir tree fails\, he needs Linus’ help to discover the real meaning of Christmas. \nSTARS (Students Take A Role at the Samford) was created to give every child the opportunity to learn and grow in a safe and supportive arts environment. By offering classes in conjunction with productions\, our children are able to apply what they have learned in a hands-on and collaborative environment. \nTickets: $20 Adult\, $15 Student
URL:https://birminghammommy.com/event/stars-presents-charlie-brown-christmas-4/
LOCATION:Virginia Samford Theatre\, 1116 26th Street South\, Birmingham\, AL\, 35205
GEO:33.5033233;-86.7871392
X-APPLE-STRUCTURED-LOCATION;VALUE=URI;X-ADDRESS=Virginia Samford Theatre 1116 26th Street South Birmingham AL 35205;X-APPLE-RADIUS=500;X-TITLE=1116 26th Street South:geo:-86.7871392,33.5033233
END:VEVENT
BEGIN:VEVENT
DTSTART;TZID=America/Chicago:20171118T110000
DTEND;TZID=America/Chicago:20171118T130000
DTSTAMP:20260421T044025
CREATED:20171101T160246Z
LAST-MODIFIED:20171101T160246Z
UID:22669-1511002800-1511010000@birminghammommy.com
SUMMARY:STARS Presents A Charlie Brown Christmas
DESCRIPTION:When Charlie Brown complains about the overwhelming materialism he sees among everyone during the Christmas season\, Lucy suggests that he become director of the school Christmas pageant. Charlie Brown accepts\, but this proves to be a frustrating endeavor. When an attempt to restore the proper holiday spirit with a forlorn little Christmas fir tree fails\, he needs Linus’ help to discover the real meaning of Christmas. \nSTARS (Students Take A Role at the Samford) was created to give every child the opportunity to learn and grow in a safe and supportive arts environment. By offering classes in conjunction with productions\, our children are able to apply what they have learned in a hands-on and collaborative environment. \nTickets: $20 Adult\, $15 Student
URL:https://birminghammommy.com/event/stars-presents-charlie-brown-christmas-2/
LOCATION:Virginia Samford Theatre\, 1116 26th Street South\, Birmingham\, AL\, 35205
GEO:33.5033233;-86.7871392
X-APPLE-STRUCTURED-LOCATION;VALUE=URI;X-ADDRESS=Virginia Samford Theatre 1116 26th Street South Birmingham AL 35205;X-APPLE-RADIUS=500;X-TITLE=1116 26th Street South:geo:-86.7871392,33.5033233
END:VEVENT
BEGIN:VEVENT
DTSTART;TZID=America/Chicago:20171117T193000
DTEND;TZID=America/Chicago:20171117T213000
DTSTAMP:20260421T044025
CREATED:20171101T160357Z
LAST-MODIFIED:20171101T160357Z
UID:22671-1510947000-1510954200@birminghammommy.com
SUMMARY:STARS Presents A Charlie Brown Christmas
DESCRIPTION:When Charlie Brown complains about the overwhelming materialism he sees among everyone during the Christmas season\, Lucy suggests that he become director of the school Christmas pageant. Charlie Brown accepts\, but this proves to be a frustrating endeavor. When an attempt to restore the proper holiday spirit with a forlorn little Christmas fir tree fails\, he needs Linus’ help to discover the real meaning of Christmas. \nSTARS (Students Take A Role at the Samford) was created to give every child the opportunity to learn and grow in a safe and supportive arts environment. By offering classes in conjunction with productions\, our children are able to apply what they have learned in a hands-on and collaborative environment. \nTickets: $20 Adult\, $15 Student
URL:https://birminghammommy.com/event/stars-presents-charlie-brown-christmas-3/
LOCATION:Virginia Samford Theatre\, 1116 26th Street South\, Birmingham\, AL\, 35205
GEO:33.5033233;-86.7871392
X-APPLE-STRUCTURED-LOCATION;VALUE=URI;X-ADDRESS=Virginia Samford Theatre 1116 26th Street South Birmingham AL 35205;X-APPLE-RADIUS=500;X-TITLE=1116 26th Street South:geo:-86.7871392,33.5033233
END:VEVENT
BEGIN:VEVENT
DTSTART;TZID=America/Chicago:20171116T193000
DTEND;TZID=America/Chicago:20171116T213000
DTSTAMP:20260421T044025
CREATED:20171101T160149Z
LAST-MODIFIED:20171101T160149Z
UID:22666-1510860600-1510867800@birminghammommy.com
SUMMARY:STARS Presents A Charlie Brown Christmas
DESCRIPTION:When Charlie Brown complains about the overwhelming materialism he sees among everyone during the Christmas season\, Lucy suggests that he become director of the school Christmas pageant. Charlie Brown accepts\, but this proves to be a frustrating endeavor. When an attempt to restore the proper holiday spirit with a forlorn little Christmas fir tree fails\, he needs Linus’ help to discover the real meaning of Christmas. \nSTARS (Students Take A Role at the Samford) was created to give every child the opportunity to learn and grow in a safe and supportive arts environment. By offering classes in conjunction with productions\, our children are able to apply what they have learned in a hands-on and collaborative environment. \nTickets: $20 Adult\, $15 Student
URL:https://birminghammommy.com/event/stars-presents-charlie-brown-christmas/
LOCATION:Virginia Samford Theatre\, 1116 26th Street South\, Birmingham\, AL\, 35205
GEO:33.5033233;-86.7871392
X-APPLE-STRUCTURED-LOCATION;VALUE=URI;X-ADDRESS=Virginia Samford Theatre 1116 26th Street South Birmingham AL 35205;X-APPLE-RADIUS=500;X-TITLE=1116 26th Street South:geo:-86.7871392,33.5033233
END:VEVENT
END:VCALENDAR