BEGIN:VCALENDAR
VERSION:2.0
PRODID:-//Birmingham Mommy - ECPv6.3.5//NONSGML v1.0//EN
CALSCALE:GREGORIAN
METHOD:PUBLISH
X-WR-CALNAME:Birmingham Mommy
X-ORIGINAL-URL:https://birminghammommy.com
X-WR-CALDESC:Events for Birmingham Mommy
REFRESH-INTERVAL;VALUE=DURATION:PT1H
X-Robots-Tag:noindex
X-PUBLISHED-TTL:PT1H
BEGIN:VTIMEZONE
TZID:America/Chicago
BEGIN:DAYLIGHT
TZOFFSETFROM:-0600
TZOFFSETTO:-0500
TZNAME:CDT
DTSTART:20190310T080000
END:DAYLIGHT
BEGIN:STANDARD
TZOFFSETFROM:-0500
TZOFFSETTO:-0600
TZNAME:CST
DTSTART:20191103T070000
END:STANDARD
END:VTIMEZONE
BEGIN:VEVENT
DTSTART;TZID=America/Chicago:20190921T080000
DTEND;TZID=America/Chicago:20190921T110000
DTSTAMP:20260421T031453
CREATED:20190624T131124Z
LAST-MODIFIED:20190624T131124Z
UID:30743-1569052800-1569063600@birminghammommy.com
SUMMARY:10th Annual Head Over Teal 5K/10K Family Fall Festival
DESCRIPTION:Join us for a family fun day at The Preserve in Hoover\, AL on Saturday\, September 21st\, as the Laura Crandall Brown Foundation hosts its 10th Annual Head Over Teal Race Day & Fall Festival.  Online registration is available by visiting www.ThinkOfLaura.org/HeadOverTeal and following the links. Discounted prices are available for all who register before September 19\, 2019. Participants and supporters can set up a team or individual fundraising page or donate through the LCBF web site. \nThe 10k and 5k race courses are people and pet-friendly with some hills. It is a great neighborhood for a race with scenic houses and people to cheer you on along the way.  You can walk or run your way to the finish line.  After the race\, enjoy a morning of activities for the whole family.  The Fall Festival is a free event.  You do not have to race to come and join the fun.  Family activities include food\, live music\, and children’s activities from 8:30 until 11:00 am. Children’s activities include inflatables\, art activities\, face painting\, crazy hair\, and more. Awards for both the 10k and 5k will be presented at 9:30 am. \nThe proceeds from the race benefit the Laura Crandall Brown Foundation.  This annual event helps us provide GYN cancer programs to women\, patients\, and caregivers throughout the year. LCBF focuses on early detection research\, awareness education\, and support services for GYN cancer patients and families.  Since our founding in 2009\, we have granted more than $500\,000 for ovarian cancer early detection research\, educated tens of thousands of community members on GYN cancer prevention info\, signs and symptoms\, and provided emotional\, educational\, and direct financial support to thousands of GYN cancer patients and their loved ones.
URL:https://birminghammommy.com/event/10th-annual-head-over-teal-5k-10k-family-fall-festival/
LOCATION:The Preserve Town Hall\, 601 Preserve Way\, Hoover\, AL\, 35226\, United States
ATTACH;FMTTYPE=image/jpeg:https://birminghammommy.com/wp-content/uploads/2019/06/Head-Over-Teal-Heart-Logo.jpg
END:VEVENT
END:VCALENDAR