BEGIN:VCALENDAR
VERSION:2.0
PRODID:-//Birmingham Mommy - ECPv6.3.5//NONSGML v1.0//EN
CALSCALE:GREGORIAN
METHOD:PUBLISH
X-WR-CALNAME:Birmingham Mommy
X-ORIGINAL-URL:https://birminghammommy.com
X-WR-CALDESC:Events for Birmingham Mommy
REFRESH-INTERVAL;VALUE=DURATION:PT1H
X-Robots-Tag:noindex
X-PUBLISHED-TTL:PT1H
BEGIN:VTIMEZONE
TZID:UTC
BEGIN:STANDARD
TZOFFSETFROM:+0000
TZOFFSETTO:+0000
TZNAME:UTC
DTSTART:20170101T000000
END:STANDARD
END:VTIMEZONE
BEGIN:VEVENT
DTSTART;TZID=UTC:20170801T180000
DTEND;TZID=UTC:20170801T200000
DTSTAMP:20260424T092552
CREATED:20170728T173617Z
LAST-MODIFIED:20170728T173617Z
UID:21187-1501610400-1501617600@birminghammommy.com
SUMMARY:National Night Out Hoover
DESCRIPTION:The Hoover Police Department will host an event at the Super Target at the Grove Shopping Center. \nThis FREE Event features: Hoover Police Department Displays\, Hoover Fire Department Displays\, Local Business Exhibits\, Food Truck Options (available for purchase)\, Car Show\, Inflatables and Giveaways.
URL:https://birminghammommy.com/event/national-night-hoover/
LOCATION:Target Hoover\, The Grove Shopping Center\, Hoover\, AL
GEO:33.3616551;-86.8527603
X-APPLE-STRUCTURED-LOCATION;VALUE=URI;X-ADDRESS=Target Hoover The Grove Shopping Center Hoover AL;X-APPLE-RADIUS=500;X-TITLE=The Grove Shopping Center:geo:-86.8527603,33.3616551
END:VEVENT
END:VCALENDAR