BEGIN:VCALENDAR
VERSION:2.0
PRODID:-//Birmingham Mommy - ECPv6.3.5//NONSGML v1.0//EN
CALSCALE:GREGORIAN
METHOD:PUBLISH
X-WR-CALNAME:Birmingham Mommy
X-ORIGINAL-URL:https://birminghammommy.com
X-WR-CALDESC:Events for Birmingham Mommy
REFRESH-INTERVAL;VALUE=DURATION:PT1H
X-Robots-Tag:noindex
X-PUBLISHED-TTL:PT1H
BEGIN:VTIMEZONE
TZID:America/Chicago
BEGIN:DAYLIGHT
TZOFFSETFROM:-0600
TZOFFSETTO:-0500
TZNAME:CDT
DTSTART:20180311T080000
END:DAYLIGHT
BEGIN:STANDARD
TZOFFSETFROM:-0500
TZOFFSETTO:-0600
TZNAME:CST
DTSTART:20181104T070000
END:STANDARD
END:VTIMEZONE
BEGIN:VEVENT
DTSTART;TZID=America/Chicago:20180520T110000
DTEND;TZID=America/Chicago:20180520T150000
DTSTAMP:20260421T074524
CREATED:20180518T124101Z
LAST-MODIFIED:20180518T124101Z
UID:25188-1526814000-1526828400@birminghammommy.com
SUMMARY:St. Patrick Catholic Church Springfest
DESCRIPTION:St. Patrick Catholic Church\, located at 301 Shamrock Trail in Adamsville\, invites everyone to our 34th annual Springfest set for Sunday\, May 20th from 11:00 a.m. until 3:00 p.m. Fun for the entire family! GREAT HOMEMADE Italian foods\, a raffle with a Grand Prize of $2\,000 CASH (drawing at 3:00) and ten $100 CASH Prizes drawn throughout the day. We will have inflatables\, the Game Zone Bus\, glitter tattoos\, a dunking booth and a large variety of kids’ games indoors! Spin to win a home-baked cake and enjoy our plant sale. Our auction has some fantastic packages to bid on or you can purchase most packages until 1:00 p.m. Live auction begins at 1:30. We accept credit and debit cards! Don’t miss out on our Vendor section. For more info on Springfest and to see our menu\, auction items (you can purchase now)\, and more\, visit our website: www.saintpatrickcc.com/Springfest.
URL:https://birminghammommy.com/event/st-patrick-catholic-church-springfest/
LOCATION:St. Patrick Catholic Church\, 301 Shamrock Trail\, Adamsville\, AL\, 35005\, United States
ATTACH;FMTTYPE=image/jpeg:https://birminghammommy.com/wp-content/uploads/2018/05/SpringfestFlyer2018-Image-smallest.jpg
GEO:33.5810559;-86.928766
X-APPLE-STRUCTURED-LOCATION;VALUE=URI;X-ADDRESS=St. Patrick Catholic Church 301 Shamrock Trail Adamsville AL 35005 United States;X-APPLE-RADIUS=500;X-TITLE=301 Shamrock Trail:geo:-86.928766,33.5810559
END:VEVENT
END:VCALENDAR