BEGIN:VCALENDAR
VERSION:2.0
PRODID:-//Birmingham Mommy - ECPv6.3.5//NONSGML v1.0//EN
CALSCALE:GREGORIAN
METHOD:PUBLISH
X-ORIGINAL-URL:https://birminghammommy.com
X-WR-CALDESC:Events for Birmingham Mommy
REFRESH-INTERVAL;VALUE=DURATION:PT1H
X-Robots-Tag:noindex
X-PUBLISHED-TTL:PT1H
BEGIN:VTIMEZONE
TZID:America/Chicago
BEGIN:DAYLIGHT
TZOFFSETFROM:-0600
TZOFFSETTO:-0500
TZNAME:CDT
DTSTART:20190310T080000
END:DAYLIGHT
BEGIN:STANDARD
TZOFFSETFROM:-0500
TZOFFSETTO:-0600
TZNAME:CST
DTSTART:20191103T070000
END:STANDARD
END:VTIMEZONE
BEGIN:VEVENT
DTSTART;TZID=America/Chicago:20190922T123000
DTEND;TZID=America/Chicago:20190922T160000
DTSTAMP:20260423T114345
CREATED:20190613T134207Z
LAST-MODIFIED:20190613T134207Z
UID:30668-1569155400-1569168000@birminghammommy.com
SUMMARY:2019 Walk to End Alzheimer's - Heart of Alabama
DESCRIPTION:Join us for the 2019 Heart of Alabama Walk to End Alzheimer’s. When you participate in Walk\, your fundraising dollars fuel our mission\, and your participation in the event helps to change the level of Alzheimer’s awareness in your community. The Alzheimer’s Association provides free\, easy-to-use tools and staff support to help participants reach their fundraising goal. While there is no fee to register\, we encourage participants to fundraise and contribute to the cause to raise awareness. Register online: act.alz.org/heartofalabama Once you register\, you will have access to a wide range of tools and support through your customized Participant Center. Join us and be inspired by all the footsteps that fall into place behind yours. Together\, we can end Alzheimer’s! Like our Facebook page\, “Heart of Alabama Walk to End Alzheimer’s”\, to stay up to date on information concerning the Walk!
URL:https://birminghammommy.com/event/2019-walk-to-end-alzheimers-heart-of-alabama/
LOCATION:Sloss Furnace\, 20 32nd St N. Birmingham\, AL 35222\, Birmingham\, 35222\, United States
END:VEVENT
END:VCALENDAR