BEGIN:VCALENDAR
VERSION:2.0
PRODID:-//Birmingham Mommy - ECPv6.3.5//NONSGML v1.0//EN
CALSCALE:GREGORIAN
METHOD:PUBLISH
X-WR-CALNAME:Birmingham Mommy
X-ORIGINAL-URL:https://birminghammommy.com
X-WR-CALDESC:Events for Birmingham Mommy
REFRESH-INTERVAL;VALUE=DURATION:PT1H
X-Robots-Tag:noindex
X-PUBLISHED-TTL:PT1H
BEGIN:VTIMEZONE
TZID:America/Chicago
BEGIN:DAYLIGHT
TZOFFSETFROM:-0600
TZOFFSETTO:-0500
TZNAME:CDT
DTSTART:20190310T080000
END:DAYLIGHT
BEGIN:STANDARD
TZOFFSETFROM:-0500
TZOFFSETTO:-0600
TZNAME:CST
DTSTART:20191103T070000
END:STANDARD
END:VTIMEZONE
BEGIN:VEVENT
DTSTART;TZID=America/Chicago:20190529T123000
DTEND;TZID=America/Chicago:20190529T153000
DTSTAMP:20260421T055119
CREATED:20190507T012602Z
LAST-MODIFIED:20190507T012602Z
UID:29716-1559133000-1559143800@birminghammommy.com
SUMMARY:Birmingham Barons V. Montgomery Biscuits
DESCRIPTION:Rickwood Classic  \n\n\n\n\n\n\nJoin us at legendary Rickwood Field for the 23rd annual Rickwood Classic! This year’s classic will celebrate the first-ever game played at Rickwood Field on August\, 18th 1910 between the Birmingham Coal Barons and the Montgomery Climbers. Former veteran MLB player and Manager “Sweet Lou” Piniella will be the special guest of honor and will be available for autographs during the game. | Presented By Levy’s Fine Jewelry
URL:https://birminghammommy.com/event/birmingham-barons-v-montgomery-biscuits-16/
LOCATION:Rickwood Field\, 1137 2nd Ave W\, Birmingham\, AL\, 35204
END:VEVENT
END:VCALENDAR