BEGIN:VCALENDAR
VERSION:2.0
PRODID:-//Birmingham Mommy - ECPv6.3.5//NONSGML v1.0//EN
CALSCALE:GREGORIAN
METHOD:PUBLISH
X-WR-CALNAME:Birmingham Mommy
X-ORIGINAL-URL:https://birminghammommy.com
X-WR-CALDESC:Events for Birmingham Mommy
REFRESH-INTERVAL;VALUE=DURATION:PT1H
X-Robots-Tag:noindex
X-PUBLISHED-TTL:PT1H
BEGIN:VTIMEZONE
TZID:America/Chicago
BEGIN:DAYLIGHT
TZOFFSETFROM:-0600
TZOFFSETTO:-0500
TZNAME:CDT
DTSTART:20170312T080000
END:DAYLIGHT
BEGIN:STANDARD
TZOFFSETFROM:-0500
TZOFFSETTO:-0600
TZNAME:CST
DTSTART:20171105T070000
END:STANDARD
BEGIN:DAYLIGHT
TZOFFSETFROM:-0600
TZOFFSETTO:-0500
TZNAME:CDT
DTSTART:20180311T080000
END:DAYLIGHT
BEGIN:STANDARD
TZOFFSETFROM:-0500
TZOFFSETTO:-0600
TZNAME:CST
DTSTART:20181104T070000
END:STANDARD
BEGIN:DAYLIGHT
TZOFFSETFROM:-0600
TZOFFSETTO:-0500
TZNAME:CDT
DTSTART:20190310T080000
END:DAYLIGHT
BEGIN:STANDARD
TZOFFSETFROM:-0500
TZOFFSETTO:-0600
TZNAME:CST
DTSTART:20191103T070000
END:STANDARD
BEGIN:DAYLIGHT
TZOFFSETFROM:-0600
TZOFFSETTO:-0500
TZNAME:CDT
DTSTART:20200308T080000
END:DAYLIGHT
BEGIN:STANDARD
TZOFFSETFROM:-0500
TZOFFSETTO:-0600
TZNAME:CST
DTSTART:20201101T070000
END:STANDARD
END:VTIMEZONE
BEGIN:VEVENT
DTSTART;TZID=America/Chicago:20200314T110000
DTEND;TZID=America/Chicago:20200315T200000
DTSTAMP:20260421T055042
CREATED:20200126T235117Z
LAST-MODIFIED:20200126T235117Z
UID:33487-1584183600-1584302400@birminghammommy.com
SUMMARY:Birmingham HammerFest
DESCRIPTION:The Hammerfest is returning for it’s second year as more than 20 USA CRITS D1 professional cycling teams will be racing through the streets of downtown Birmingham. This exciting\, fast-paced criterium racing is not just for the pros. Amateurs and juniors will be tackling the same course and putting their skills to the test. Sunday join us for a recovery ride with the pros with lunch provided afterwards.
URL:https://birminghammommy.com/event/birmingham-hammerfest-2/
LOCATION:Pepper Place\, 2829 2nd Avenue South\, Birmingham\, AL\, 35233
ATTACH;FMTTYPE=image/jpeg:https://birminghammommy.com/wp-content/uploads/2020/01/Female-Cyclists-scaled.jpg
GEO:33.5164022;-86.7909086
X-APPLE-STRUCTURED-LOCATION;VALUE=URI;X-ADDRESS=Pepper Place 2829 2nd Avenue South Birmingham AL 35233;X-APPLE-RADIUS=500;X-TITLE=2829 2nd Avenue South:geo:-86.7909086,33.5164022
END:VEVENT
BEGIN:VEVENT
DTSTART;TZID=America/Chicago:20191102T170000
DTEND;TZID=America/Chicago:20191102T230000
DTSTAMP:20260421T055042
CREATED:20191027T200751Z
LAST-MODIFIED:20191027T200751Z
UID:32387-1572714000-1572735600@birminghammommy.com
SUMMARY:Dia de los Muertos
DESCRIPTION:Join Bare Hands in the streets of Pepper Place as we celebrate life at our Día de los Muertos Numero 17 on Saturday\, November 2\, 2019. Celebrate the lives of those that came before and those that are still with us through music\, the memorial roll call\, jazz street parade\, the Frida Kahlo Ceremony\, dance\, food vendors\, art\, kids’ activities and most importantly the altars erected to those we have loved\, including public and pet altars. \nTICKETS ON SALE NOW \nDia de low Muertos could not be possible without the generous support of our presenting sponsor SPIRE. As well as Buffalo Rock/Pepsi\, Modelo\, Pepper Place\, Hornitos\, Birmingham Mountain Radio\, ABC 33/40\, The Latino News\, B-Metro\, and La Jefa. \nPlease note. No coolers\, pets\, large baskets allowed. Please bring friends and a small altar or memento of remembrance. \nFor more info visit www.bhamdayofthedead.org
URL:https://birminghammommy.com/event/dia-de-los-muertos-3/
LOCATION:Pepper Place\, 2829 2nd Avenue South\, Birmingham\, AL\, 35233
GEO:33.5164022;-86.7909086
X-APPLE-STRUCTURED-LOCATION;VALUE=URI;X-ADDRESS=Pepper Place 2829 2nd Avenue South Birmingham AL 35233;X-APPLE-RADIUS=500;X-TITLE=2829 2nd Avenue South:geo:-86.7909086,33.5164022
END:VEVENT
BEGIN:VEVENT
DTSTART;TZID=America/Chicago:20190305T170000
DTEND;TZID=America/Chicago:20190305T210000
DTSTAMP:20260421T055042
CREATED:20190302T134354Z
LAST-MODIFIED:20190302T134354Z
UID:28589-1551805200-1551819600@birminghammommy.com
SUMMARY:Inaugural Magic City Gras
DESCRIPTION:Get your beads & mask ready because Mardi Gras is coming back to the HAM! Join us as we celebrate Fat Tuesday BHM Style. \nAdmission $5\nEach bracelet includes:\n✔️special discounted pricing at participating locations\,\n✔️1 free face painting\,\n✔️1 free mask for kids activity area\,\n✔️1 person access to listen to band.\n~Proceeds Benefit the Global Scholars and Birmingham students.~ \n<< Schedule >>\nTuesday\, March 5\, 2019\n5:00pm – 6:00pm :: pre-party\n6:00pm – 7:00pm :: parade Le Tour de Ham\n7:30pm – 9:00pm :: bands featuring Chad Fisher\n~Rain or Shine Event~
URL:https://birminghammommy.com/event/inaugural-magic-city-gras/
LOCATION:Pepper Place\, 2829 2nd Avenue South\, Birmingham\, AL\, 35233
GEO:33.5164022;-86.7909086
X-APPLE-STRUCTURED-LOCATION;VALUE=URI;X-ADDRESS=Pepper Place 2829 2nd Avenue South Birmingham AL 35233;X-APPLE-RADIUS=500;X-TITLE=2829 2nd Avenue South:geo:-86.7909086,33.5164022
END:VEVENT
BEGIN:VEVENT
DTSTART;TZID=America/Chicago:20181102T170000
DTEND;TZID=America/Chicago:20181102T230000
DTSTAMP:20260421T055042
CREATED:20181102T132348Z
LAST-MODIFIED:20181102T132348Z
UID:26985-1541178000-1541199600@birminghammommy.com
SUMMARY:Dia de los Muertos
DESCRIPTION:This event has become one of the largest and most popular events in the city because of its attention to tradition and the cultural significance it celebrates. The festival is made possible by countless volunteer hours\, given to create an experience that respects the tradition and heart of Mexico’s sacred Day of the Dead remembrance\, which combines flowers\, music\, food\, stories\, friends\, family and memorials in honor of those who have gone before. Many say the gathering has brought them a stronger\, broader sense of community. Personal remembrances (ofrendas)\, family crafts\, puppet shows\, music\, procession\, memorial roll call\, local artists’ market (mercado)\, food and beverage vendors\, face painters and more are all part of this unique cross-cultural celebration.
URL:https://birminghammommy.com/event/dia-de-los-muertos-2/
LOCATION:Pepper Place\, 2829 2nd Avenue South\, Birmingham\, AL\, 35233
GEO:33.5164022;-86.7909086
X-APPLE-STRUCTURED-LOCATION;VALUE=URI;X-ADDRESS=Pepper Place 2829 2nd Avenue South Birmingham AL 35233;X-APPLE-RADIUS=500;X-TITLE=2829 2nd Avenue South:geo:-86.7909086,33.5164022
END:VEVENT
BEGIN:VEVENT
DTSTART;TZID=America/Chicago:20171102T160000
DTEND;TZID=America/Chicago:20171102T220000
DTSTAMP:20260421T055042
CREATED:20171101T210115Z
LAST-MODIFIED:20171101T210308Z
UID:22786-1509638400-1509660000@birminghammommy.com
SUMMARY:Dia de los Muertos
DESCRIPTION:Join Bare Hands as we celebrate life at our Día de los Muertos quinceañera (Day of the Dead Festival no.15) on Thursday\, November 2\, 2017 in the streets of Pepper Place. Celebrate the lives of those that came before and those that are still with us through music\, memorial roll call\, jazz street parade\, the Frida Kahlo Ceremony\, dance\, food vendors\, the Corona Beer Garden\, art\, kids’ activities brought to you by the Birmingham Museum of Art and most importantly the altars erected to those we have loved. \nAdult: $10 plus ticketing fees\nChildren ages 7-12: $5 plus ticketing fees\nChildren under 6 FREE\nTickets may be purchased through the website at www.barehandsinc.org
URL:https://birminghammommy.com/event/dia-de-los-muertos/
LOCATION:Pepper Place\, 2829 2nd Avenue South\, Birmingham\, AL\, 35233
GEO:33.5164022;-86.7909086
X-APPLE-STRUCTURED-LOCATION;VALUE=URI;X-ADDRESS=Pepper Place 2829 2nd Avenue South Birmingham AL 35233;X-APPLE-RADIUS=500;X-TITLE=2829 2nd Avenue South:geo:-86.7909086,33.5164022
END:VEVENT
END:VCALENDAR