BEGIN:VCALENDAR
VERSION:2.0
PRODID:-//Birmingham Mommy - ECPv6.3.5//NONSGML v1.0//EN
CALSCALE:GREGORIAN
METHOD:PUBLISH
X-ORIGINAL-URL:https://birminghammommy.com
X-WR-CALDESC:Events for Birmingham Mommy
REFRESH-INTERVAL;VALUE=DURATION:PT1H
X-Robots-Tag:noindex
X-PUBLISHED-TTL:PT1H
BEGIN:VTIMEZONE
TZID:America/Chicago
BEGIN:DAYLIGHT
TZOFFSETFROM:-0600
TZOFFSETTO:-0500
TZNAME:CDT
DTSTART:20190310T080000
END:DAYLIGHT
BEGIN:STANDARD
TZOFFSETFROM:-0500
TZOFFSETTO:-0600
TZNAME:CST
DTSTART:20191103T070000
END:STANDARD
TZID:UTC
BEGIN:STANDARD
TZOFFSETFROM:+0000
TZOFFSETTO:+0000
TZNAME:UTC
DTSTART:20170101T000000
END:STANDARD
END:VTIMEZONE
BEGIN:VEVENT
DTSTART;TZID=America/Chicago:20190824T163000
DTEND;TZID=America/Chicago:20190824T203000
DTSTAMP:20260422T134636
CREATED:20190604T124010Z
LAST-MODIFIED:20190604T124056Z
UID:30157-1566664200-1566678600@birminghammommy.com
SUMMARY:Back to School Bash
DESCRIPTION:2019 (All Ages) Join us at the Back to School Bash at Patriot Park to learn all about our Fall programming!
URL:https://birminghammommy.com/event/back-to-school-bash/
LOCATION:Patriot Park\, 710 Oak Grove Rd\, Homewood\, AL\, 35209
GEO:33.4594361;-86.8296824
X-APPLE-STRUCTURED-LOCATION;VALUE=URI;X-ADDRESS=Patriot Park 710 Oak Grove Rd Homewood AL 35209;X-APPLE-RADIUS=500;X-TITLE=710 Oak Grove Rd:geo:-86.8296824,33.4594361
END:VEVENT
BEGIN:VEVENT
DTSTART;TZID=UTC:20170513T160000
DTEND;TZID=UTC:20170513T210000
DTSTAMP:20260422T134636
CREATED:20170424T034534Z
LAST-MODIFIED:20170424T034534Z
UID:19839-1494691200-1494709200@birminghammommy.com
SUMMARY:Patriot Park Spring Streetfest
DESCRIPTION:You\, your neighbors\, friends and family are invited to a free event featuring live music\, local food and inflatables for the kids on the street right next to the beautiful Patriot Park.
URL:https://birminghammommy.com/event/patriot-park-spring-streetfest/
LOCATION:Patriot Park\, 710 Oak Grove Rd\, Homewood\, AL\, 35209
GEO:33.4594361;-86.8296824
X-APPLE-STRUCTURED-LOCATION;VALUE=URI;X-ADDRESS=Patriot Park 710 Oak Grove Rd Homewood AL 35209;X-APPLE-RADIUS=500;X-TITLE=710 Oak Grove Rd:geo:-86.8296824,33.4594361
END:VEVENT
END:VCALENDAR