BEGIN:VCALENDAR
VERSION:2.0
PRODID:-//Birmingham Mommy - ECPv6.3.5//NONSGML v1.0//EN
CALSCALE:GREGORIAN
METHOD:PUBLISH
X-ORIGINAL-URL:https://birminghammommy.com
X-WR-CALDESC:Events for Birmingham Mommy
REFRESH-INTERVAL;VALUE=DURATION:PT1H
X-Robots-Tag:noindex
X-PUBLISHED-TTL:PT1H
BEGIN:VTIMEZONE
TZID:America/Chicago
BEGIN:DAYLIGHT
TZOFFSETFROM:-0600
TZOFFSETTO:-0500
TZNAME:CDT
DTSTART:20190310T080000
END:DAYLIGHT
BEGIN:STANDARD
TZOFFSETFROM:-0500
TZOFFSETTO:-0600
TZNAME:CST
DTSTART:20191103T070000
END:STANDARD
END:VTIMEZONE
BEGIN:VEVENT
DTSTART;TZID=America/Chicago:20191223T110000
DTEND;TZID=America/Chicago:20191223T130000
DTSTAMP:20260421T032937
CREATED:20191119T020852Z
LAST-MODIFIED:20191119T020852Z
UID:32670-1577098800-1577106000@birminghammommy.com
SUMMARY:Movie Morning
DESCRIPTION:Join us for a Christmas movie classic on the big screen. Free\, no registration required.
URL:https://birminghammommy.com/event/movie-morning/
LOCATION:Parnell Memorial Library\, 277 Park Drive\, Montevallo\, 35115\, United States
END:VEVENT
BEGIN:VEVENT
DTSTART;TZID=America/Chicago:20191221T100000
DTEND;TZID=America/Chicago:20191221T110000
DTSTAMP:20260421T032937
CREATED:20191119T020852Z
LAST-MODIFIED:20191119T020852Z
UID:32669-1576922400-1576926000@birminghammommy.com
SUMMARY:Family Play Group
DESCRIPTION:Drop by for a fun time and a chance to play with friends and all our toddler toys. Open to children from birth-5 years accompanied by caregivers.
URL:https://birminghammommy.com/event/family-play-group-3/
LOCATION:Parnell Memorial Library\, 277 Park Drive\, Montevallo\, 35115\, United States
END:VEVENT
BEGIN:VEVENT
DTSTART;TZID=America/Chicago:20191219T153000
DTEND;TZID=America/Chicago:20191219T170000
DTSTAMP:20260421T032937
CREATED:20191119T020852Z
LAST-MODIFIED:20191119T020852Z
UID:32666-1576769400-1576774800@birminghammommy.com
SUMMARY:Holiday Movie
DESCRIPTION:Join us for a free holiday movie in our library theater. No registration required.
URL:https://birminghammommy.com/event/holiday-movie/
LOCATION:Parnell Memorial Library\, 277 Park Drive\, Montevallo\, 35115\, United States
END:VEVENT
BEGIN:VEVENT
DTSTART;TZID=America/Chicago:20191217T160000
DTEND;TZID=America/Chicago:20191217T200000
DTSTAMP:20260421T032937
CREATED:20191119T020852Z
LAST-MODIFIED:20191119T020852Z
UID:32661-1576598400-1576612800@birminghammommy.com
SUMMARY:Teen Event: Semester Exam Study Session
DESCRIPTION:Come to the library for a perfect place to study for your semester exams and unwind with a little free pizza.
URL:https://birminghammommy.com/event/teen-event-semester-exam-study-session/
LOCATION:Parnell Memorial Library\, 277 Park Drive\, Montevallo\, 35115\, United States
END:VEVENT
BEGIN:VEVENT
DTSTART;TZID=America/Chicago:20191216T151500
DTEND;TZID=America/Chicago:20191216T161500
DTSTAMP:20260421T032937
CREATED:20191119T020852Z
LAST-MODIFIED:20191119T020852Z
UID:32660-1576509300-1576512900@birminghammommy.com
SUMMARY:Kid's Craft
DESCRIPTION:Join us for a hands-on craft\, perfect for kids grades K – 5! Call the library to register.
URL:https://birminghammommy.com/event/kids-craft/
LOCATION:Parnell Memorial Library\, 277 Park Drive\, Montevallo\, 35115\, United States
END:VEVENT
BEGIN:VEVENT
DTSTART;TZID=America/Chicago:20191209T154500
DTEND;TZID=America/Chicago:20191209T164500
DTSTAMP:20260421T032937
CREATED:20191119T020853Z
LAST-MODIFIED:20191119T020853Z
UID:32645-1575906300-1575909900@birminghammommy.com
SUMMARY:Teen Event: Hour of Code
DESCRIPTION:Ever wanted to learn how to code? Participate in Hour of Code™  at your local library! Call the library to reserve one of our laptops\, or just bring your own. \n‘Hour of Code™’ is a nationwide initiative by Computer Science Education Week and Code.org to introduce millions of students to one hour of computer science and computer programming.
URL:https://birminghammommy.com/event/teen-event-hour-of-code/2019-12-09/
LOCATION:Parnell Memorial Library\, 277 Park Drive\, Montevallo\, 35115\, United States
END:VEVENT
BEGIN:VEVENT
DTSTART;TZID=America/Chicago:20191209T153000
DTEND;TZID=America/Chicago:20191209T163000
DTSTAMP:20260421T032937
CREATED:20191119T020853Z
LAST-MODIFIED:20191119T020853Z
UID:32644-1575905400-1575909000@birminghammommy.com
SUMMARY:Cookies and Coloring
DESCRIPTION:Join us for Christmas cookies and some holiday coloring! For kids in grades K – 5\, no registration required.
URL:https://birminghammommy.com/event/cookies-and-coloring/
LOCATION:Parnell Memorial Library\, 277 Park Drive\, Montevallo\, 35115\, United States
END:VEVENT
BEGIN:VEVENT
DTSTART;TZID=America/Chicago:20191207T110000
DTEND;TZID=America/Chicago:20191207T120000
DTSTAMP:20260421T032937
CREATED:20191119T020930Z
LAST-MODIFIED:20191119T020930Z
UID:32643-1575716400-1575720000@birminghammommy.com
SUMMARY:Cookies with Mrs. Claus
DESCRIPTION:Join us for milk\, cookies\, and Christmas stories with Mrs. Claus!
URL:https://birminghammommy.com/event/cookies-with-mrs-claus/
LOCATION:Parnell Memorial Library\, 277 Park Drive\, Montevallo\, 35115\, United States
END:VEVENT
BEGIN:VEVENT
DTSTART;TZID=America/Chicago:20191204T100000
DTEND;TZID=America/Chicago:20191204T110000
DTSTAMP:20260421T032937
CREATED:20191119T020931Z
LAST-MODIFIED:20191119T020931Z
UID:32639-1575453600-1575457200@birminghammommy.com
SUMMARY:Family Play Group
DESCRIPTION:Drop by for a fun time and a chance to play with friends and all our toddler toys. Open to children from birth-5 years accompanied by caregivers.
URL:https://birminghammommy.com/event/family-play-group-4/2019-12-04/
LOCATION:Parnell Memorial Library\, 277 Park Drive\, Montevallo\, 35115\, United States
END:VEVENT
BEGIN:VEVENT
DTSTART;TZID=America/Chicago:20191204T091500
DTEND;TZID=America/Chicago:20191204T100000
DTSTAMP:20260421T032937
CREATED:20191119T020931Z
LAST-MODIFIED:20191119T020931Z
UID:32636-1575450900-1575453600@birminghammommy.com
SUMMARY:Storytime with Mr. Mac
DESCRIPTION:Stories and songs for kids and their caregivers\, featuring Mr. Mac! Free\, no registration required.
URL:https://birminghammommy.com/event/storytime-with-mr-mac-2/2019-12-04/
LOCATION:Parnell Memorial Library\, 277 Park Drive\, Montevallo\, 35115\, United States
END:VEVENT
BEGIN:VEVENT
DTSTART;TZID=America/Chicago:20191204T091500
DTEND;TZID=America/Chicago:20191204T100000
DTSTAMP:20260421T032937
CREATED:20191119T020852Z
LAST-MODIFIED:20191119T020852Z
UID:32662-1575450900-1575453600@birminghammommy.com
SUMMARY:Storytime with Mr. Mac
DESCRIPTION:Stories and songs for kids and their caregivers\, featuring Mr. Mac! Free\, no registration required.
URL:https://birminghammommy.com/event/storytime-with-mr-mac/2019-12-04/
LOCATION:Parnell Memorial Library\, 277 Park Drive\, Montevallo\, 35115\, United States
END:VEVENT
BEGIN:VEVENT
DTSTART;TZID=America/Chicago:20191122T150000
DTEND;TZID=America/Chicago:20191122T163000
DTSTAMP:20260421T032937
CREATED:20191108T155923Z
LAST-MODIFIED:20191108T155923Z
UID:32444-1574434800-1574440200@birminghammommy.com
SUMMARY:LEGO Club
DESCRIPTION:You bring the skills\, we’ll bring the LEGOS! Show off your creativity and have fun in the library. Kids K – 5\, no registration required.
URL:https://birminghammommy.com/event/lego-club-8/
LOCATION:Parnell Memorial Library\, 277 Park Drive\, Montevallo\, 35115\, United States
END:VEVENT
BEGIN:VEVENT
DTSTART;TZID=America/Chicago:20191119T153000
DTEND;TZID=America/Chicago:20191119T173000
DTSTAMP:20260421T032937
CREATED:20191108T155923Z
LAST-MODIFIED:20191108T155923Z
UID:32443-1574177400-1574184600@birminghammommy.com
SUMMARY:Movie sing along
DESCRIPTION:Sing along with your favorite frosty musical animated movie (hint hint!) in the Parnell Library Theatre! No registration required.
URL:https://birminghammommy.com/event/movie-sing-along/
LOCATION:Parnell Memorial Library\, 277 Park Drive\, Montevallo\, 35115\, United States
END:VEVENT
BEGIN:VEVENT
DTSTART;TZID=America/Chicago:20191116T100000
DTEND;TZID=America/Chicago:20191116T110000
DTSTAMP:20260421T032937
CREATED:20191104T170611Z
LAST-MODIFIED:20191104T170611Z
UID:32429-1573898400-1573902000@birminghammommy.com
SUMMARY:Family Play Group
DESCRIPTION:Drop by for a fun time and a chance to play with friends and all our toddler toys. Open to children from birth-5 years accompanied by caregivers.
URL:https://birminghammommy.com/event/family-play-group/
LOCATION:Parnell Memorial Library\, 277 Park Drive\, Montevallo\, 35115\, United States
END:VEVENT
BEGIN:VEVENT
DTSTART;TZID=America/Chicago:20191116T091500
DTEND;TZID=America/Chicago:20191116T220000
DTSTAMP:20260421T032937
CREATED:20191104T170611Z
LAST-MODIFIED:20191104T170611Z
UID:32422-1573895700-1573941600@birminghammommy.com
SUMMARY:Family Storytime
DESCRIPTION:Join us for Family Storytime with Ms. Jennifer! Perfect for babies\, toddlers\, and preschool kids. No registration required.
URL:https://birminghammommy.com/event/family-storytime-3/
LOCATION:Parnell Memorial Library\, 277 Park Drive\, Montevallo\, 35115\, United States
CATEGORIES:StoryTime
END:VEVENT
BEGIN:VEVENT
DTSTART;TZID=America/Chicago:20191106T100000
DTEND;TZID=America/Chicago:20191106T110000
DTSTAMP:20260421T032937
CREATED:20191104T170611Z
LAST-MODIFIED:20191104T170611Z
UID:32418-1573034400-1573038000@birminghammommy.com
SUMMARY:Family Play Group
DESCRIPTION:Drop by for a fun time and a chance to play with friends and all our toddler toys. Open to children from birth-5 years accompanied by caregivers.
URL:https://birminghammommy.com/event/family-play-group-2/2019-11-06/
LOCATION:Parnell Memorial Library\, 277 Park Drive\, Montevallo\, 35115\, United States
END:VEVENT
BEGIN:VEVENT
DTSTART;TZID=America/Chicago:20191028T170000
DTEND;TZID=America/Chicago:20191028T190000
DTSTAMP:20260421T032937
CREATED:20191011T155155Z
LAST-MODIFIED:20191011T155155Z
UID:32212-1572282000-1572289200@birminghammommy.com
SUMMARY:Fall Festival
DESCRIPTION:Join us for our first-ever Fall Festival! Games\, prizes\, snacks\, and a costume contest for kids\, teens\, and adults. Bring the whole family for a night of free fun! No registration required.
URL:https://birminghammommy.com/event/fall-festival/
LOCATION:Parnell Memorial Library\, 277 Park Drive\, Montevallo\, 35115\, United States
END:VEVENT
BEGIN:VEVENT
DTSTART;TZID=America/Chicago:20191021T151500
DTEND;TZID=America/Chicago:20191021T161500
DTSTAMP:20260421T032937
CREATED:20191011T155155Z
LAST-MODIFIED:20191011T155155Z
UID:32211-1571670900-1571674500@birminghammommy.com
SUMMARY:Pumpkin Painting: BYOP
DESCRIPTION:It’ s a BYOP (Bring Your Own Pumpkin) painting party! Paint and brushes will be provided; please bring your own pumpkin and come dressed to make a mess. Open to the whole family. Call the library to register. 205-665-9207 x2
URL:https://birminghammommy.com/event/pumpkin-painting-byop/
LOCATION:Parnell Memorial Library\, 277 Park Drive\, Montevallo\, 35115\, United States
END:VEVENT
BEGIN:VEVENT
DTSTART;TZID=America/Chicago:20190601T110000
DTEND;TZID=America/Chicago:20190601T120000
DTSTAMP:20260421T032937
CREATED:20190604T125226Z
LAST-MODIFIED:20190604T125226Z
UID:30101-1559386800-1559390400@birminghammommy.com
SUMMARY:Summer Reading Kickoff at Parnell Memorial Library
DESCRIPTION:Join us for Summer Reading Kickoff Party\, featuring Ed’s Pet World! Free\, no registration required.
URL:https://birminghammommy.com/event/summer-reading-kickoff-at-parnell-memorial-library/2019-06-01/
LOCATION:Parnell Memorial Library\, 277 Park Drive\, Montevallo\, 35115\, United States
ORGANIZER;CN="Parnell Memorial Library":MAILTO:skitchens@shelbycounty-al.org
END:VEVENT
END:VCALENDAR