BEGIN:VCALENDAR
VERSION:2.0
PRODID:-//Birmingham Mommy - ECPv6.3.5//NONSGML v1.0//EN
CALSCALE:GREGORIAN
METHOD:PUBLISH
X-WR-CALNAME:Birmingham Mommy
X-ORIGINAL-URL:https://birminghammommy.com
X-WR-CALDESC:Events for Birmingham Mommy
REFRESH-INTERVAL;VALUE=DURATION:PT1H
X-Robots-Tag:noindex
X-PUBLISHED-TTL:PT1H
BEGIN:VTIMEZONE
TZID:America/Chicago
BEGIN:DAYLIGHT
TZOFFSETFROM:-0600
TZOFFSETTO:-0500
TZNAME:CDT
DTSTART:20190310T080000
END:DAYLIGHT
BEGIN:STANDARD
TZOFFSETFROM:-0500
TZOFFSETTO:-0600
TZNAME:CST
DTSTART:20191103T070000
END:STANDARD
BEGIN:DAYLIGHT
TZOFFSETFROM:-0600
TZOFFSETTO:-0500
TZNAME:CDT
DTSTART:20200308T080000
END:DAYLIGHT
BEGIN:STANDARD
TZOFFSETFROM:-0500
TZOFFSETTO:-0600
TZNAME:CST
DTSTART:20201101T070000
END:STANDARD
END:VTIMEZONE
BEGIN:VEVENT
DTSTART;TZID=America/Chicago:20200304T100000
DTEND;TZID=America/Chicago:20200304T110000
DTSTAMP:20260421T060948
CREATED:20200219T140657Z
LAST-MODIFIED:20200219T140657Z
UID:33746-1583316000-1583319600@birminghammommy.com
SUMMARY:Family Play Group
DESCRIPTION:Drop by for a fun time and a chance to play with friends and all our toddler toys. Open to children from birth-5 years accompanied by caregivers.
URL:https://birminghammommy.com/event/family-play-group-9/2020-03-04/
LOCATION:Parnell Memorial Library\, 277 Park Drive\, Montevallo\, AL\, 35115\, United States
ATTACH;FMTTYPE=image/jpeg:https://birminghammommy.com/wp-content/uploads/2020/02/Family-Play-group.jpg
END:VEVENT
BEGIN:VEVENT
DTSTART;TZID=America/Chicago:20200210T151500
DTEND;TZID=America/Chicago:20200210T161500
DTSTAMP:20260421T060948
CREATED:20200114T161410Z
LAST-MODIFIED:20200114T161410Z
UID:33245-1581347700-1581351300@birminghammommy.com
SUMMARY:Kid's Craft
DESCRIPTION:Join us for a hands-on craft\, perfect for kids in elementary school. Call the library to register.
URL:https://birminghammommy.com/event/kids-craft-3/
LOCATION:Parnell Memorial Library\, 277 Park Drive\, Montevallo\, AL\, 35115\, United States
ATTACH;FMTTYPE=image/jpeg:https://birminghammommy.com/wp-content/uploads/2020/01/Crafts.jpg
END:VEVENT
BEGIN:VEVENT
DTSTART;TZID=America/Chicago:20191218T153000
DTEND;TZID=America/Chicago:20191218T170000
DTSTAMP:20260421T060948
CREATED:20191119T020852Z
LAST-MODIFIED:20191119T020852Z
UID:32665-1576683000-1576688400@birminghammommy.com
SUMMARY:Holiday Movie
DESCRIPTION:Join us for a free holiday movie in our library theater. No registration required.
URL:https://birminghammommy.com/event/holiday-movie-2/
LOCATION:Parnell Memorial Library\, 277 Park Drive\, Montevallo\, AL\, 35115\, United States
END:VEVENT
BEGIN:VEVENT
DTSTART;TZID=America/Chicago:20190605T091500
DTEND;TZID=America/Chicago:20190605T094500
DTSTAMP:20260421T060948
CREATED:20190604T125226Z
LAST-MODIFIED:20190607T141655Z
UID:30104-1559726100-1559727900@birminghammommy.com
SUMMARY:Storytime at Parnell Memorial Library
DESCRIPTION:Stories and songs for kids and their caregivers\, featuring Mr. Mac! Free\, no registration required.
URL:https://birminghammommy.com/event/storytime-at-parnell-memorial-library/2019-06-05/
LOCATION:Parnell Memorial Library\, 277 Park Drive\, Montevallo\, AL\, 35115\, United States
ORGANIZER;CN="Parnell Memorial Library":MAILTO:skitchens@shelbycounty-al.org
END:VEVENT
END:VCALENDAR