BEGIN:VCALENDAR
VERSION:2.0
PRODID:-//Birmingham Mommy - ECPv6.3.5//NONSGML v1.0//EN
CALSCALE:GREGORIAN
METHOD:PUBLISH
X-ORIGINAL-URL:https://birminghammommy.com
X-WR-CALDESC:Events for Birmingham Mommy
REFRESH-INTERVAL;VALUE=DURATION:PT1H
X-Robots-Tag:noindex
X-PUBLISHED-TTL:PT1H
BEGIN:VTIMEZONE
TZID:America/Chicago
BEGIN:DAYLIGHT
TZOFFSETFROM:-0600
TZOFFSETTO:-0500
TZNAME:CDT
DTSTART:20190310T080000
END:DAYLIGHT
BEGIN:STANDARD
TZOFFSETFROM:-0500
TZOFFSETTO:-0600
TZNAME:CST
DTSTART:20191103T070000
END:STANDARD
END:VTIMEZONE
BEGIN:VEVENT
DTSTART;TZID=America/Chicago:20190209T103000
DTEND;TZID=America/Chicago:20190209T111500
DTSTAMP:20260421T044015
CREATED:20181217T003541Z
LAST-MODIFIED:20181217T003541Z
UID:28035-1549708200-1549710900@birminghammommy.com
SUMMARY:Books in the Brook Pop-Up Storytime
DESCRIPTION:Join your Emmet O’Neal Library children’s librarian for stories\, puppets\, and music in Mountain Brook.
URL:https://birminghammommy.com/event/books-in-the-brook-pop-up-storytime-3/
LOCATION:Magic Muffin
END:VEVENT
END:VCALENDAR