BEGIN:VCALENDAR
VERSION:2.0
PRODID:-//Birmingham Mommy - ECPv6.3.5//NONSGML v1.0//EN
CALSCALE:GREGORIAN
METHOD:PUBLISH
X-WR-CALNAME:Birmingham Mommy
X-ORIGINAL-URL:https://birminghammommy.com
X-WR-CALDESC:Events for Birmingham Mommy
REFRESH-INTERVAL;VALUE=DURATION:PT1H
X-Robots-Tag:noindex
X-PUBLISHED-TTL:PT1H
BEGIN:VTIMEZONE
TZID:America/Chicago
BEGIN:DAYLIGHT
TZOFFSETFROM:-0600
TZOFFSETTO:-0500
TZNAME:CDT
DTSTART:20190310T080000
END:DAYLIGHT
BEGIN:STANDARD
TZOFFSETFROM:-0500
TZOFFSETTO:-0600
TZNAME:CST
DTSTART:20191103T070000
END:STANDARD
END:VTIMEZONE
BEGIN:VEVENT
DTSTART;VALUE=DATE:20190521
DTEND;VALUE=DATE:20190527
DTSTAMP:20260420T015818
CREATED:20190423T131821Z
LAST-MODIFIED:20190423T131821Z
UID:29318-1558396800-1558915199@birminghammommy.com
SUMMARY:SEC Baseball Tournament
DESCRIPTION:Catch some of the nation’s best baseball as the top teams battle it out for the 2019 SEC Baseball Tournament title May 21-26 at the Hoover Metropolitan Stadium. Find family-friendly fun for all ages at the FanFest\, free to the public and open every day of the tournament. Learn more at http://www.secsports.com/championship/baseball
URL:https://birminghammommy.com/event/sec-baseball-tournament/
LOCATION:Hoover Metropolitan Stadium\, Select a Country:
ATTACH;FMTTYPE=image/jpeg:https://birminghammommy.com/wp-content/uploads/2019/04/SECBaseball2019.jpg
END:VEVENT
END:VCALENDAR