BEGIN:VCALENDAR
VERSION:2.0
PRODID:-//Birmingham Mommy - ECPv6.3.5//NONSGML v1.0//EN
CALSCALE:GREGORIAN
METHOD:PUBLISH
X-ORIGINAL-URL:https://birminghammommy.com
X-WR-CALDESC:Events for Birmingham Mommy
REFRESH-INTERVAL;VALUE=DURATION:PT1H
X-Robots-Tag:noindex
X-PUBLISHED-TTL:PT1H
BEGIN:VTIMEZONE
TZID:America/Chicago
BEGIN:DAYLIGHT
TZOFFSETFROM:-0600
TZOFFSETTO:-0500
TZNAME:CDT
DTSTART:20190310T080000
END:DAYLIGHT
BEGIN:STANDARD
TZOFFSETFROM:-0500
TZOFFSETTO:-0600
TZNAME:CST
DTSTART:20191103T070000
END:STANDARD
END:VTIMEZONE
BEGIN:VEVENT
DTSTART;TZID=America/Chicago:20190413T090000
DTEND;TZID=America/Chicago:20190413T163000
DTSTAMP:20260419T083253
CREATED:20190407T141341Z
LAST-MODIFIED:20190407T141341Z
UID:29043-1555146000-1555173000@birminghammommy.com
SUMMARY:Reduce\, Reuse\, Recycle at CHOM!
DESCRIPTION:Reduce\, Reuse\, Recycle at CHOM! \nSaturday\, April 13\, 2019   9-4:30 pm \nCreate recycled art! Play the three R’s game! \nLearn where to recycle in Tuscaloosa! \nKitchen Chemistry with UA Chemical Engineers! (10-2 pm) \n  \n  \n  \n 
URL:https://birminghammommy.com/event/reduce-reuse-recycle-at-chom/
LOCATION:Children’s Hands-On Museum\, 2213 University Blvd.\, Tuscaloosa\, AL\, 35401\, United States
ATTACH;FMTTYPE=image/jpeg:https://birminghammommy.com/wp-content/uploads/2019/04/Reduce-Reuse-Recycle-4-13.jpg
END:VEVENT
END:VCALENDAR