BEGIN:VCALENDAR
VERSION:2.0
PRODID:-//Birmingham Mommy - ECPv6.3.5//NONSGML v1.0//EN
CALSCALE:GREGORIAN
METHOD:PUBLISH
X-ORIGINAL-URL:https://birminghammommy.com
X-WR-CALDESC:Events for Birmingham Mommy
REFRESH-INTERVAL;VALUE=DURATION:PT1H
X-Robots-Tag:noindex
X-PUBLISHED-TTL:PT1H
BEGIN:VTIMEZONE
TZID:America/Chicago
BEGIN:DAYLIGHT
TZOFFSETFROM:-0600
TZOFFSETTO:-0500
TZNAME:CDT
DTSTART:20190310T080000
END:DAYLIGHT
BEGIN:STANDARD
TZOFFSETFROM:-0500
TZOFFSETTO:-0600
TZNAME:CST
DTSTART:20191103T070000
END:STANDARD
END:VTIMEZONE
BEGIN:VEVENT
DTSTART;TZID=America/Chicago:20190427T090000
DTEND;TZID=America/Chicago:20190427T163000
DTSTAMP:20260419T080351
CREATED:20190407T141302Z
LAST-MODIFIED:20190407T141302Z
UID:29040-1556355600-1556382600@birminghammommy.com
SUMMARY:CHOM'S Day of Play !
DESCRIPTION:CHOM’S Day of Play! \nSaturday\, April 27\, 2019   9-4:30 pm \nBuild with LEGOS and DUPLOS! \nPlay Wii Games! Race Toy Cars! \n  \n 
URL:https://birminghammommy.com/event/choms-day-of-play/
LOCATION:Children’s Hands-On Museum\, 2213 University Blvd.\, Tuscaloosa\, AL\, 35401\, United States
ATTACH;FMTTYPE=image/jpeg:https://birminghammommy.com/wp-content/uploads/2019/04/CHOM-Day-of-Play-4-27.jpg
END:VEVENT
END:VCALENDAR