BEGIN:VCALENDAR
VERSION:2.0
PRODID:-//Birmingham Mommy - ECPv6.3.5//NONSGML v1.0//EN
CALSCALE:GREGORIAN
METHOD:PUBLISH
X-WR-CALNAME:Birmingham Mommy
X-ORIGINAL-URL:https://birminghammommy.com
X-WR-CALDESC:Events for Birmingham Mommy
REFRESH-INTERVAL;VALUE=DURATION:PT1H
X-Robots-Tag:noindex
X-PUBLISHED-TTL:PT1H
BEGIN:VTIMEZONE
TZID:America/Chicago
BEGIN:DAYLIGHT
TZOFFSETFROM:-0600
TZOFFSETTO:-0500
TZNAME:CDT
DTSTART:20180311T080000
END:DAYLIGHT
BEGIN:STANDARD
TZOFFSETFROM:-0500
TZOFFSETTO:-0600
TZNAME:CST
DTSTART:20181104T070000
END:STANDARD
END:VTIMEZONE
BEGIN:VEVENT
DTSTART;TZID=America/Chicago:20181201T090000
DTEND;TZID=America/Chicago:20181201T163000
DTSTAMP:20260421T060057
CREATED:20190201T012554Z
LAST-MODIFIED:20190201T012554Z
UID:27462-1543654800-1543681800@birminghammommy.com
SUMMARY:Christmas on the River with "Riverboat John" at CHOM!
DESCRIPTION:Come join us at CHOM for a day with “Riverboat John” with singing  and  storytelling! \nHoliday Crafts all day!
URL:https://birminghammommy.com/event/christmas-on-the-river-with-riverboat-john-at-chom/
LOCATION:Children’s Hands-On Museum\, 2213 University Blvd.\, Tuscaloosa\, AL\, 35401\, United States
ATTACH;FMTTYPE=image/jpeg:https://birminghammommy.com/wp-content/uploads/2018/11/River-boat-John-Christmas-on-the-River-12-1.jpg
END:VEVENT
END:VCALENDAR