BEGIN:VCALENDAR
VERSION:2.0
PRODID:-//Birmingham Mommy - ECPv6.3.5//NONSGML v1.0//EN
CALSCALE:GREGORIAN
METHOD:PUBLISH
X-ORIGINAL-URL:https://birminghammommy.com
X-WR-CALDESC:Events for Birmingham Mommy
REFRESH-INTERVAL;VALUE=DURATION:PT1H
X-Robots-Tag:noindex
X-PUBLISHED-TTL:PT1H
BEGIN:VTIMEZONE
TZID:America/Chicago
BEGIN:DAYLIGHT
TZOFFSETFROM:-0600
TZOFFSETTO:-0500
TZNAME:CDT
DTSTART:20180311T080000
END:DAYLIGHT
BEGIN:STANDARD
TZOFFSETFROM:-0500
TZOFFSETTO:-0600
TZNAME:CST
DTSTART:20181104T070000
END:STANDARD
BEGIN:DAYLIGHT
TZOFFSETFROM:-0600
TZOFFSETTO:-0500
TZNAME:CDT
DTSTART:20190310T080000
END:DAYLIGHT
BEGIN:STANDARD
TZOFFSETFROM:-0500
TZOFFSETTO:-0600
TZNAME:CST
DTSTART:20191103T070000
END:STANDARD
END:VTIMEZONE
BEGIN:VEVENT
DTSTART;TZID=America/Chicago:20190921T090000
DTEND;TZID=America/Chicago:20190921T163000
DTSTAMP:20260420T175519
CREATED:20190919T235749Z
LAST-MODIFIED:20190919T235749Z
UID:31789-1569056400-1569083400@birminghammommy.com
SUMMARY:Elephant Appreciation Day at CHOM!
DESCRIPTION:Elephant Appreciation Day at CHOM! \nSaturday\, September 21\, 2019   9-4:30 pm \nCome learn about the world’s largest living \nland mammal and what You can do to help \nConservation efforts through games\, crafts and more! \nAll activities included in Admission!
URL:https://birminghammommy.com/event/elephant-appreciation-day-at-chom/
LOCATION:Children’s Hands-On Museum\, 2213 University Blvd.\, Tuscaloosa\, AL\, 35401\, United States
ATTACH;FMTTYPE=image/jpeg:https://birminghammommy.com/wp-content/uploads/2019/09/Elephant-Appreciation-Day-9-21.jpg
END:VEVENT
BEGIN:VEVENT
DTSTART;TZID=America/Chicago:20181117T090000
DTEND;TZID=America/Chicago:20181117T163000
DTSTAMP:20260420T175519
CREATED:20181102T221315Z
LAST-MODIFIED:20181102T221315Z
UID:26931-1542445200-1542472200@birminghammommy.com
SUMMARY:Quirky Turkey at CHOM!
DESCRIPTION:Quirky Turkey at CHOM! \nSaturday\, November 17\, 2018   9-4:30 pm \nPlay Roll-A-Turkey! \nMake a “good luck” football turkey! \nPin your feather on the turkey! \nAll Activities Included in Admission \n  \n 
URL:https://birminghammommy.com/event/quirky-turkey-at-chom/
LOCATION:Children’s Hands-On Museum\, 2213 University Blvd.\, Tuscaloosa\, AL\, 35401\, United States
ATTACH;FMTTYPE=image/jpeg:https://birminghammommy.com/wp-content/uploads/2018/10/Quirky-Turkey-11-17-18-RG.jpg
END:VEVENT
END:VCALENDAR