BEGIN:VCALENDAR
VERSION:2.0
PRODID:-//Birmingham Mommy - ECPv6.3.5//NONSGML v1.0//EN
CALSCALE:GREGORIAN
METHOD:PUBLISH
X-WR-CALNAME:Birmingham Mommy
X-ORIGINAL-URL:https://birminghammommy.com
X-WR-CALDESC:Events for Birmingham Mommy
REFRESH-INTERVAL;VALUE=DURATION:PT1H
X-Robots-Tag:noindex
X-PUBLISHED-TTL:PT1H
BEGIN:VTIMEZONE
TZID:America/Chicago
BEGIN:DAYLIGHT
TZOFFSETFROM:-0600
TZOFFSETTO:-0500
TZNAME:CDT
DTSTART:20180311T080000
END:DAYLIGHT
BEGIN:STANDARD
TZOFFSETFROM:-0500
TZOFFSETTO:-0600
TZNAME:CST
DTSTART:20181104T070000
END:STANDARD
END:VTIMEZONE
BEGIN:VEVENT
DTSTART;TZID=America/Chicago:20180407T100000
DTEND;TZID=America/Chicago:20180407T160000
DTSTAMP:20260419T075225
CREATED:20180405T131118Z
LAST-MODIFIED:20180405T131118Z
UID:24663-1523095200-1523116800@birminghammommy.com
SUMMARY:It's NOT JUST A BOX at CHOM!
DESCRIPTION:It’s NOT Just A BOX at CHOM!\nSaturday\, April 7\, 2018\n​10 am-4 pm \nEverybody has a story! So Do the Rivers! \nParke Towing & Riverworks Discovery presents \nRiver Enviro-stories and Songs with RIVERBOAT JOHN! \nConserve\, Protect\, and Enjoy our Rivers! \nCreate Box Masterpieces as we Recycle boxes\, boxes \, and MORE boxes! \n  \n  \n 
URL:https://birminghammommy.com/event/its-not-just-a-box-at-chom/
LOCATION:Children’s Hands-On Museum\, 2213 University Blvd.\, Tuscaloosa\, AL\, 35401\, United States
ATTACH;FMTTYPE=image/jpeg:https://birminghammommy.com/wp-content/uploads/2018/04/Its-NOT-Just-a-Box-4-7-18-Revised-Apr-2.18.jpg
GEO:33.210036;-87.5661959
X-APPLE-STRUCTURED-LOCATION;VALUE=URI;X-ADDRESS=Children’s Hands-On Museum 2213 University Blvd. Tuscaloosa AL 35401 United States;X-APPLE-RADIUS=500;X-TITLE=2213 University Blvd.:geo:-87.5661959,33.210036
END:VEVENT
END:VCALENDAR