BEGIN:VCALENDAR
VERSION:2.0
PRODID:-//Birmingham Mommy - ECPv6.3.5//NONSGML v1.0//EN
CALSCALE:GREGORIAN
METHOD:PUBLISH
X-ORIGINAL-URL:https://birminghammommy.com
X-WR-CALDESC:Events for Birmingham Mommy
REFRESH-INTERVAL;VALUE=DURATION:PT1H
X-Robots-Tag:noindex
X-PUBLISHED-TTL:PT1H
BEGIN:VTIMEZONE
TZID:America/Chicago
BEGIN:DAYLIGHT
TZOFFSETFROM:-0600
TZOFFSETTO:-0500
TZNAME:CDT
DTSTART:20170312T080000
END:DAYLIGHT
BEGIN:STANDARD
TZOFFSETFROM:-0500
TZOFFSETTO:-0600
TZNAME:CST
DTSTART:20171105T070000
END:STANDARD
TZID:UTC
BEGIN:STANDARD
TZOFFSETFROM:+0000
TZOFFSETTO:+0000
TZNAME:UTC
DTSTART:20170101T000000
END:STANDARD
END:VTIMEZONE
BEGIN:VEVENT
DTSTART;TZID=America/Chicago:20171207T180000
DTEND;TZID=America/Chicago:20171207T200000
DTSTAMP:20260419T141219
CREATED:20171119T024057Z
LAST-MODIFIED:20171119T024057Z
UID:22978-1512669600-1512676800@birminghammommy.com
SUMMARY:Dinner with Santa
DESCRIPTION:Join us as we celebrate the Holiday Season! On Thursday\, December 7th from 6-8 pm\, Santa will be dropping by Chick-fil-A Wildwood Centre for visit–he may even bring some surprises! Receive a complimentary pictures with Santa with purchase of an adult meal. No reservations needed.\nIf you have questions\, please email lyndsey.jackson@cfabirmingham.com.
URL:https://birminghammommy.com/event/dinner-with-santa/
LOCATION:Chick Fil A Wildwood\, 211 Lakeshore Parkway \, Homewood\, AL\, 35209
GEO:33.4468742;-86.8234955
X-APPLE-STRUCTURED-LOCATION;VALUE=URI;X-ADDRESS=Chick Fil A Wildwood 211 Lakeshore Parkway  Homewood AL 35209;X-APPLE-RADIUS=500;X-TITLE=211 Lakeshore Parkway:geo:-86.8234955,33.4468742
END:VEVENT
BEGIN:VEVENT
DTSTART;TZID=UTC:20170515T170000
DTEND;TZID=UTC:20170515T184500
DTSTAMP:20260419T141219
CREATED:20170501T233003Z
LAST-MODIFIED:20170501T233003Z
UID:19946-1494867600-1494873900@birminghammommy.com
SUMMARY:Mother and Son Date Night at Chick Fil A
DESCRIPTION:You are formally invited to a night of enchantment at Chick-fil-A Wildwood Centre on the evening of Monday\, May 15th! This event is meant to honor the special relationship between mothers and sons by treating you both to an incredible medieval experience–complete with AMAZING balloon artists\, special activities\, a visit by Princess Cow\, and\, of course\, a few surprises to delight you and your son! Castles\, draw bridges\, moats–who knows what adventures you may encounter?! \nChick-fil-A Wildwood Centre also asks that if you register for one of the seatings\, please email a favorite photo of you and your son(s) to lyndsey.jackson@cfabirmingham.com no later than Wednesday\, May 10th at 5:00 pm–this is for a very special commemorative surprise! \nThe event and activities are free to attend/experience but registration is required so that adequate preparation can be made; one ticket admits up to four people. All menu items are available at full price but both mother and son(s) will receive a complimentary dessert at the conclusion of your meal. There are two time slots available 5:00 pm- 5:45 pm and 6:00- 6:45 pm. You will receive an email the day before the event with a more detailed agenda of the evening’s events. \nWe can’t wait to see you and your little knight on the evening of Monday\, May 15th! \nClick Here to Register
URL:https://birminghammommy.com/event/mother-son-date-night-chick-fil-2/
LOCATION:Chick Fil A Wildwood\, 211 Lakeshore Parkway \, Homewood\, AL\, 35209
GEO:33.4468742;-86.8234955
X-APPLE-STRUCTURED-LOCATION;VALUE=URI;X-ADDRESS=Chick Fil A Wildwood 211 Lakeshore Parkway  Homewood AL 35209;X-APPLE-RADIUS=500;X-TITLE=211 Lakeshore Parkway:geo:-86.8234955,33.4468742
END:VEVENT
END:VCALENDAR