BEGIN:VCALENDAR
VERSION:2.0
PRODID:-//Birmingham Mommy - ECPv6.3.5//NONSGML v1.0//EN
CALSCALE:GREGORIAN
METHOD:PUBLISH
X-ORIGINAL-URL:https://birminghammommy.com
X-WR-CALDESC:Events for Birmingham Mommy
REFRESH-INTERVAL;VALUE=DURATION:PT1H
X-Robots-Tag:noindex
X-PUBLISHED-TTL:PT1H
BEGIN:VTIMEZONE
TZID:America/Chicago
BEGIN:DAYLIGHT
TZOFFSETFROM:-0600
TZOFFSETTO:-0500
TZNAME:CDT
DTSTART:20170312T080000
END:DAYLIGHT
BEGIN:STANDARD
TZOFFSETFROM:-0500
TZOFFSETTO:-0600
TZNAME:CST
DTSTART:20171105T070000
END:STANDARD
BEGIN:DAYLIGHT
TZOFFSETFROM:-0600
TZOFFSETTO:-0500
TZNAME:CDT
DTSTART:20180311T080000
END:DAYLIGHT
BEGIN:STANDARD
TZOFFSETFROM:-0500
TZOFFSETTO:-0600
TZNAME:CST
DTSTART:20181104T070000
END:STANDARD
BEGIN:DAYLIGHT
TZOFFSETFROM:-0600
TZOFFSETTO:-0500
TZNAME:CDT
DTSTART:20190310T080000
END:DAYLIGHT
BEGIN:STANDARD
TZOFFSETFROM:-0500
TZOFFSETTO:-0600
TZNAME:CST
DTSTART:20191103T070000
END:STANDARD
BEGIN:DAYLIGHT
TZOFFSETFROM:-0600
TZOFFSETTO:-0500
TZNAME:CDT
DTSTART:20200308T080000
END:DAYLIGHT
BEGIN:STANDARD
TZOFFSETFROM:-0500
TZOFFSETTO:-0600
TZNAME:CST
DTSTART:20201101T070000
END:STANDARD
END:VTIMEZONE
BEGIN:VEVENT
DTSTART;TZID=America/Chicago:20200328T190000
DTEND;TZID=America/Chicago:20200328T203000
DTSTAMP:20260419T114102
CREATED:20200305T004139Z
LAST-MODIFIED:20200305T004139Z
UID:33765-1585422000-1585427400@birminghammommy.com
SUMMARY:Darci Lynne Headlines the BJCC Concert Hall
DESCRIPTION:On the heels of a record-breaking 2019\, the gifted Singer/Ventriloquist Darci Lynne kicked off the 2020 leg of her hugely successful “Fresh Out of The Box” National Tour where she is sharing her passion for performing and taking her enchanting show across the US From Nevada to New York. Darci Lynne’s popularity on stage and TV has expanded onto the social media scene.  Her TikTok profile soared from 7K followers in January 2020 to an astounding 1M followers and 8.7M total likes in less than 2 weeks. Darci Lynne’s TikTok profile can be found at https://vm.tiktok.com/4KMdEd/ \n  \nAdding to the excitement\, the exceptionally talented performer partnered with Mattel as a Role Model for Barbie’s “Be Anything Tour” in celebration of Barbie’s 60th Anniversary. Darci’s appearances were some of the most attended tour stops attracting a packed multi-generational audience. \n  \nNot only has the singer/ventriloquist been performing coast to coast\, logging more than 50 stops across the country and selling collectively more than 100\,000 tickets\, but she also performed and hosted her first original TV special “Darci Lynne: My Hometown Christmas” on NBC. The program was a hit\, attracting 6.565 million total viewers and earning a re-air by the network the week following its premiere. To top it off\, Darci released her first-ever single “Rockin’ Around the Christmas Tree” from the special. She marked more important career milestones with her stage debut at the Grand Ole Opry and opening for Fergie at Caesar’s Palace on New Year’s Eve 2017. \n  \nWinning NBCs “Americas Got Talent” at just 12-years old by the most votes for a final performance in the history of the show\, Singer/Ventriloquist Darci Lynne impresses audiences across the country with her sweetheart disposition and undeniable\, show-stopping talent beyond her years. Accompanied by her musical friends including a divaesque rabbit: Petunia\, a shy and \nsoulful mouse: Oscar\, and a sarcastic old woman: Edna.  Singing through her friends helped the young entertainer find a voice inside she didn’t know she had and helped her overcome a lifelong struggle with shyness. Darci kicked off 2019 with some of the most memorable AGT contestants from 184 countries becoming the runner up out of the 50 top competitors on the first ever “America’s Got Talent: Champions.” Recently the AGT alum was invited back as a Special Guest on Season 14 where she delivered a stand-out performance of James Brown’s “It’s a Man’s World.”  The exuberant performer was featured in Forbes magazine who said of the talent “For someone who has already made a pretty amazing dream come true at a very early age\, the possibilities are endless.” \nAn Oklahoma native\, Darci began participating in talent-based pageants at a young age and picked up ventriloquism shortly after. Two weeks later\, Darci began tackling talent shows\, eventually making it to the biggest talent show on television.  Darci has been seen on “America’s Got Talent\,” “America’s Got Talent: Champions\,” NBC’s “Little Big Shots\,” “Food Networks” kids Baking Championship\,” Nickelodeon’s “All That\,” “Ellen\,” NBC’s “The Kelly Clarkson Show” and the “Today.” For more information visit: https://www.darcilynne.com/. \nShowtime: Sat. 7:00PM / Tickets: $27.75 \nCall: 800-745-3000 / Visit: https://www.darcilynne.com/ \nThe BJCC Concert Hall is located at 2100 Richard Arrington Jr. Blvd.\, Birmingham\, AL 35203
URL:https://birminghammommy.com/event/darci-lynne-headlines-the-bjcc-concert-hall/
LOCATION:BJCC Concert Hall\, 2100 Richard Arrington Jr. Blvd. North\, Birmingham\, AL\, 35203
ATTACH;FMTTYPE=image/jpeg:https://birminghammommy.com/wp-content/uploads/2020/02/Darci-and-Petunia-March-2019.jpg
GEO:33.5249488;-86.8082265
X-APPLE-STRUCTURED-LOCATION;VALUE=URI;X-ADDRESS=BJCC Concert Hall 2100 Richard Arrington Jr. Blvd. North Birmingham AL 35203;X-APPLE-RADIUS=500;X-TITLE=2100 Richard Arrington Jr. Blvd. North:geo:-86.8082265,33.5249488
END:VEVENT
BEGIN:VEVENT
DTSTART;TZID=America/Chicago:20200204T180000
DTEND;TZID=America/Chicago:20200204T200000
DTSTAMP:20260419T114102
CREATED:20200126T233418Z
LAST-MODIFIED:20200126T233418Z
UID:33545-1580839200-1580846400@birminghammommy.com
SUMMARY:Blippi Live
DESCRIPTION:Stevin John is the creator of Blippi and acts as the writer and creative force behind the Blippi character. Now that Blippi has evolved as a character he is excited that a dynamic stage performer has been cast as Blippi to entertain and thrill audiences across all of the tour
URL:https://birminghammommy.com/event/blippi-live/
LOCATION:BJCC Concert Hall\, 2100 Richard Arrington Jr. Blvd. North\, Birmingham\, AL\, 35203
GEO:33.5249488;-86.8082265
X-APPLE-STRUCTURED-LOCATION;VALUE=URI;X-ADDRESS=BJCC Concert Hall 2100 Richard Arrington Jr. Blvd. North Birmingham AL 35203;X-APPLE-RADIUS=500;X-TITLE=2100 Richard Arrington Jr. Blvd. North:geo:-86.8082265,33.5249488
END:VEVENT
BEGIN:VEVENT
DTSTART;TZID=America/Chicago:20191123T140000
DTEND;TZID=America/Chicago:20191123T160000
DTSTAMP:20260419T114102
CREATED:20191027T201952Z
LAST-MODIFIED:20191027T201952Z
UID:32394-1574517600-1574524800@birminghammommy.com
SUMMARY:Sesame Street LIVE! Let's Party
DESCRIPTION:Jump to the beat with your friends on Sesame Street! Introducing an all-new\, interactive show that unfolds on one of the world’s most famous streets at the funniest\, furriest party in the neighborhood…get ready for Sesame Street Live! Let’s Party!
URL:https://birminghammommy.com/event/sesame-street-live-lets-party-2/2019-11-23/
LOCATION:BJCC Concert Hall\, 2100 Richard Arrington Jr. Blvd. North\, Birmingham\, AL\, 35203
GEO:33.5249488;-86.8082265
X-APPLE-STRUCTURED-LOCATION;VALUE=URI;X-ADDRESS=BJCC Concert Hall 2100 Richard Arrington Jr. Blvd. North Birmingham AL 35203;X-APPLE-RADIUS=500;X-TITLE=2100 Richard Arrington Jr. Blvd. North:geo:-86.8082265,33.5249488
END:VEVENT
BEGIN:VEVENT
DTSTART;TZID=America/Chicago:20191123T103000
DTEND;TZID=America/Chicago:20191123T123000
DTSTAMP:20260419T114102
CREATED:20191027T201832Z
LAST-MODIFIED:20191027T201832Z
UID:32391-1574505000-1574512200@birminghammommy.com
SUMMARY:Sesame Street LIVE! Let's Party
DESCRIPTION:Jump to the beat with your friends on Sesame Street! Introducing an all-new\, interactive show that unfolds on one of the world’s most famous streets at the funniest\, furriest party in the neighborhood… get ready for Sesame Street Live! Let’s Party!
URL:https://birminghammommy.com/event/sesame-street-live-lets-party/2019-11-23/
LOCATION:BJCC Concert Hall\, 2100 Richard Arrington Jr. Blvd. North\, Birmingham\, AL\, 35203
GEO:33.5249488;-86.8082265
X-APPLE-STRUCTURED-LOCATION;VALUE=URI;X-ADDRESS=BJCC Concert Hall 2100 Richard Arrington Jr. Blvd. North Birmingham AL 35203;X-APPLE-RADIUS=500;X-TITLE=2100 Richard Arrington Jr. Blvd. North:geo:-86.8082265,33.5249488
END:VEVENT
BEGIN:VEVENT
DTSTART;TZID=America/Chicago:20191121T180000
DTEND;TZID=America/Chicago:20191121T203000
DTSTAMP:20260419T114102
CREATED:20191106T132509Z
LAST-MODIFIED:20191108T160135Z
UID:32465-1574359200-1574368200@birminghammommy.com
SUMMARY:Elf on the Shelf Musical
DESCRIPTION:The beloved tradition that continues to capture the hearts of children and their families everywhere comes to the life stage for the first time ever in this all-new musical and premiere stage production.
URL:https://birminghammommy.com/event/elf-on-the-shelf-musical/
LOCATION:BJCC Concert Hall\, 2100 Richard Arrington Jr. Blvd. North\, Birmingham\, AL\, 35203
ATTACH;FMTTYPE=image/jpeg:https://birminghammommy.com/wp-content/uploads/2019/11/EOTS_250x250-Bham.jpg
GEO:33.5249488;-86.8082265
X-APPLE-STRUCTURED-LOCATION;VALUE=URI;X-ADDRESS=BJCC Concert Hall 2100 Richard Arrington Jr. Blvd. North Birmingham AL 35203;X-APPLE-RADIUS=500;X-TITLE=2100 Richard Arrington Jr. Blvd. North:geo:-86.8082265,33.5249488
END:VEVENT
BEGIN:VEVENT
DTSTART;TZID=America/Chicago:20190915T140000
DTEND;TZID=America/Chicago:20190915T160000
DTSTAMP:20260419T114102
CREATED:20190723T130931Z
LAST-MODIFIED:20190723T130931Z
UID:31026-1568556000-1568563200@birminghammommy.com
SUMMARY:PAW Patrol Live! The Great Pirate Adventure
DESCRIPTION:X barks the spot in PAW Patrol Live! “The Great Pirate Adventure”! It’s Pirate Day in Adventure Bay\, and Mayor Goodway is getting ready for a big celebration! But first\, Ryder and his team of pirate pups must rescue Cap’n Turbot from a mysterious cavern. When they do\, they also discover a secret pirate treasure map! The PAW Patrol set out over land and sea to find the treasure for Mayor Goodway’s celebration before Mayor Humdinger finds it first! The pups will need all paws on deck for this pirate adventure\, including some help from the newest pup … Tracker!
URL:https://birminghammommy.com/event/paw-patrol-live-the-great-pirate-adventure-3/
LOCATION:BJCC Concert Hall\, 2100 Richard Arrington Jr. Blvd. North\, Birmingham\, AL\, 35203
ATTACH;FMTTYPE=image/png:https://birminghammommy.com/wp-content/uploads/2019/07/Screen-Shot-2019-07-23-at-7.49.16-AM-e1563886508898.png
GEO:33.5249488;-86.8082265
X-APPLE-STRUCTURED-LOCATION;VALUE=URI;X-ADDRESS=BJCC Concert Hall 2100 Richard Arrington Jr. Blvd. North Birmingham AL 35203;X-APPLE-RADIUS=500;X-TITLE=2100 Richard Arrington Jr. Blvd. North:geo:-86.8082265,33.5249488
END:VEVENT
BEGIN:VEVENT
DTSTART;TZID=America/Chicago:20190914T100000
DTEND;TZID=America/Chicago:20190914T140000
DTSTAMP:20260419T114102
CREATED:20190723T130722Z
LAST-MODIFIED:20190723T130722Z
UID:31023-1568455200-1568469600@birminghammommy.com
SUMMARY:PAW Patrol Live! The Great Pirate Adventure
DESCRIPTION:X barks the spot in PAW Patrol Live! “The Great Pirate Adventure”! It’s Pirate Day in Adventure Bay\, and Mayor Goodway is getting ready for a big celebration! But first\, Ryder and his team of pirate pups must rescue Cap’n Turbot from a mysterious cavern. When they do\, they also discover a secret pirate treasure map! The PAW Patrol set out over land and sea to find the treasure for Mayor Goodway’s celebration before Mayor Humdinger finds it first! The pups will need all paws on deck for this pirate adventure\, including some help from the newest pup … Tracker!
URL:https://birminghammommy.com/event/paw-patrol-live-the-great-pirate-adventure-2/2019-09-14/
LOCATION:BJCC Concert Hall\, 2100 Richard Arrington Jr. Blvd. North\, Birmingham\, AL\, 35203
ATTACH;FMTTYPE=image/png:https://birminghammommy.com/wp-content/uploads/2019/07/Screen-Shot-2019-07-23-at-7.49.16-AM-e1563886508898.png
GEO:33.5249488;-86.8082265
X-APPLE-STRUCTURED-LOCATION;VALUE=URI;X-ADDRESS=BJCC Concert Hall 2100 Richard Arrington Jr. Blvd. North Birmingham AL 35203;X-APPLE-RADIUS=500;X-TITLE=2100 Richard Arrington Jr. Blvd. North:geo:-86.8082265,33.5249488
END:VEVENT
BEGIN:VEVENT
DTSTART;TZID=America/Chicago:20190913T180000
DTEND;TZID=America/Chicago:20190913T200000
DTSTAMP:20260419T114102
CREATED:20190723T130441Z
LAST-MODIFIED:20190723T130441Z
UID:31021-1568397600-1568404800@birminghammommy.com
SUMMARY:Paw Patrol Live! The Great Pirate Adventure
DESCRIPTION:X barks the spot in PAW Patrol Live! “The Great Pirate Adventure”! It’s Pirate Day in Adventure Bay\, and Mayor Goodway is getting ready for a big celebration! But first\, Ryder and his team of pirate pups must rescue Cap’n Turbot from a mysterious cavern. When they do\, they also discover a secret pirate treasure map! The PAW Patrol set out over land and sea to find the treasure for Mayor Goodway’s celebration before Mayor Humdinger finds it first! The pups will need all paws on deck for this pirate adventure\, including some help from the newest pup … Tracker!
URL:https://birminghammommy.com/event/paw-patrol-live-the-great-pirate-adventure/
LOCATION:BJCC Concert Hall\, 2100 Richard Arrington Jr. Blvd. North\, Birmingham\, AL\, 35203
ATTACH;FMTTYPE=image/png:https://birminghammommy.com/wp-content/uploads/2019/07/Screen-Shot-2019-07-23-at-7.49.16-AM-e1563886508898.png
GEO:33.5249488;-86.8082265
X-APPLE-STRUCTURED-LOCATION;VALUE=URI;X-ADDRESS=BJCC Concert Hall 2100 Richard Arrington Jr. Blvd. North Birmingham AL 35203;X-APPLE-RADIUS=500;X-TITLE=2100 Richard Arrington Jr. Blvd. North:geo:-86.8082265,33.5249488
END:VEVENT
BEGIN:VEVENT
DTSTART;TZID=America/Chicago:20181214T190000
DTEND;TZID=America/Chicago:20181214T210000
DTSTAMP:20260419T114102
CREATED:20181127T192427Z
LAST-MODIFIED:20181127T192427Z
UID:27444-1544814000-1544821200@birminghammommy.com
SUMMARY:A Charlie Brown Christmas
DESCRIPTION:Our favorite Peanuts characters come to life in this all-new touring stage adaptation of Charles M. Schulz’s classic award winning animated television special\, all set to the unforgettable music of Vince Guaraldi. Join the gang as they put on their own Christmas play and discover the true meaning of the season. A Charlie Brown Christmas Live Onstage is a present the whole family can enjoy.
URL:https://birminghammommy.com/event/a-charlie-brown-christmas/
LOCATION:BJCC Concert Hall\, 2100 Richard Arrington Jr. Blvd. North\, Birmingham\, AL\, 35203
GEO:33.5249488;-86.8082265
X-APPLE-STRUCTURED-LOCATION;VALUE=URI;X-ADDRESS=BJCC Concert Hall 2100 Richard Arrington Jr. Blvd. North Birmingham AL 35203;X-APPLE-RADIUS=500;X-TITLE=2100 Richard Arrington Jr. Blvd. North:geo:-86.8082265,33.5249488
END:VEVENT
BEGIN:VEVENT
DTSTART;TZID=America/Chicago:20181120T103000
DTEND;TZID=America/Chicago:20181120T123000
DTSTAMP:20260419T114102
CREATED:20181111T144811Z
LAST-MODIFIED:20181111T144811Z
UID:27088-1542709800-1542717000@birminghammommy.com
SUMMARY:Sesame Street Live!
DESCRIPTION:Elmo teams up with Abby and Justin\, embarking on an extraordinary journey where Elmo discovers that you can do anything. \nWhen magician extraordinaire Justin visits Sesame Street to put on a magic show for the whole neighborhood\, Elmo wants to be part of the big event. But there’s one problem … Elmo doesn’t know how to do magic. \nThat’s when Elmo teams up with Abby and Justin\, embarking on an amazing journey where Elmo will discover the “power of yet” —the lesson that with perseverance and practice\, nothing can stand between you and your dream. Along the way\, Elmo and Abby\, joined by their friends Cookie Monster\, Big Bird\, Grover\, Rosita\, Count von Count\, and Gonger\, discover the many magical moments in everyday life. \nIn the end\, Elmo learns that you can do anything you set your mind to if you just keep trying! Join your favorite Sesame Street friends on this magical adventure when Sesame Street Live! Make Your Magic comes to your neighborhood.
URL:https://birminghammommy.com/event/sesame-street-live-2/2018-11-20/
LOCATION:BJCC Concert Hall\, 2100 Richard Arrington Jr. Blvd. North\, Birmingham\, AL\, 35203
GEO:33.5249488;-86.8082265
X-APPLE-STRUCTURED-LOCATION;VALUE=URI;X-ADDRESS=BJCC Concert Hall 2100 Richard Arrington Jr. Blvd. North Birmingham AL 35203;X-APPLE-RADIUS=500;X-TITLE=2100 Richard Arrington Jr. Blvd. North:geo:-86.8082265,33.5249488
END:VEVENT
BEGIN:VEVENT
DTSTART;TZID=America/Chicago:20181119T143000
DTEND;TZID=America/Chicago:20181119T163000
DTSTAMP:20260419T114102
CREATED:20181111T144631Z
LAST-MODIFIED:20181111T144631Z
UID:27086-1542637800-1542645000@birminghammommy.com
SUMMARY:Sesame Street Live!
DESCRIPTION:Elmo teams up with Abby and Justin\, embarking on an extraordinary journey where Elmo discovers that you can do anything. \nWhen magician extraordinaire Justin visits Sesame Street to put on a magic show for the whole neighborhood\, Elmo wants to be part of the big event. But there’s one problem … Elmo doesn’t know how to do magic. \nThat’s when Elmo teams up with Abby and Justin\, embarking on an amazing journey where Elmo will discover the “power of yet” —the lesson that with perseverance and practice\, nothing can stand between you and your dream. Along the way\, Elmo and Abby\, joined by their friends Cookie Monster\, Big Bird\, Grover\, Rosita\, Count von Count\, and Gonger\, discover the many magical moments in everyday life. \nIn the end\, Elmo learns that you can do anything you set your mind to if you just keep trying! Join your favorite Sesame Street friends on this magical adventure when Sesame Street Live! Make Your Magic comes to your neighborhood.
URL:https://birminghammommy.com/event/sesame-street-live/
LOCATION:BJCC Concert Hall\, 2100 Richard Arrington Jr. Blvd. North\, Birmingham\, AL\, 35203
GEO:33.5249488;-86.8082265
X-APPLE-STRUCTURED-LOCATION;VALUE=URI;X-ADDRESS=BJCC Concert Hall 2100 Richard Arrington Jr. Blvd. North Birmingham AL 35203;X-APPLE-RADIUS=500;X-TITLE=2100 Richard Arrington Jr. Blvd. North:geo:-86.8082265,33.5249488
END:VEVENT
BEGIN:VEVENT
DTSTART;TZID=America/Chicago:20180909T140000
DTEND;TZID=America/Chicago:20180909T160000
DTSTAMP:20260419T114102
CREATED:20180829T133029Z
LAST-MODIFIED:20180829T133029Z
UID:26302-1536501600-1536508800@birminghammommy.com
SUMMARY:PAW Patrol Live Race to the Rescue
DESCRIPTION:Come roll with the PAW Patrol as everybody’s favorite heroic pups race to the rescue on the day of the Great Adventure Bay Race. When Mayor Goodway goes missing\, Chase\, Marshall\, Skye and the rest of the PAW Patrol will need to team up with Ryder to save Adventure Bay’s mayor and stop Foggy Bottom’s Mayor Humdinger from winning the race.
URL:https://birminghammommy.com/event/paw-patrol-live-race-to-the-rescue-4/
LOCATION:BJCC Concert Hall\, 2100 Richard Arrington Jr. Blvd. North\, Birmingham\, AL\, 35203
GEO:33.5249488;-86.8082265
X-APPLE-STRUCTURED-LOCATION;VALUE=URI;X-ADDRESS=BJCC Concert Hall 2100 Richard Arrington Jr. Blvd. North Birmingham AL 35203;X-APPLE-RADIUS=500;X-TITLE=2100 Richard Arrington Jr. Blvd. North:geo:-86.8082265,33.5249488
END:VEVENT
BEGIN:VEVENT
DTSTART;TZID=America/Chicago:20180908T140000
DTEND;TZID=America/Chicago:20180908T160000
DTSTAMP:20260419T114102
CREATED:20180829T132935Z
LAST-MODIFIED:20180829T132935Z
UID:26300-1536415200-1536422400@birminghammommy.com
SUMMARY:PAW Patrol Live Race to the Rescue
DESCRIPTION:Come roll with the PAW Patrol as everybody’s favorite heroic pups race to the rescue on the day of the Great Adventure Bay Race. When Mayor Goodway goes missing\, Chase\, Marshall\, Skye and the rest of the PAW Patrol will need to team up with Ryder to save Adventure Bay’s mayor and stop Foggy Bottom’s Mayor Humdinger from winning the race.
URL:https://birminghammommy.com/event/paw-patrol-live-race-to-the-rescue-3/
LOCATION:BJCC Concert Hall\, 2100 Richard Arrington Jr. Blvd. North\, Birmingham\, AL\, 35203
GEO:33.5249488;-86.8082265
X-APPLE-STRUCTURED-LOCATION;VALUE=URI;X-ADDRESS=BJCC Concert Hall 2100 Richard Arrington Jr. Blvd. North Birmingham AL 35203;X-APPLE-RADIUS=500;X-TITLE=2100 Richard Arrington Jr. Blvd. North:geo:-86.8082265,33.5249488
END:VEVENT
BEGIN:VEVENT
DTSTART;TZID=America/Chicago:20180908T100000
DTEND;TZID=America/Chicago:20180908T120000
DTSTAMP:20260419T114102
CREATED:20180902T231601Z
LAST-MODIFIED:20180902T231601Z
UID:26353-1536400800-1536408000@birminghammommy.com
SUMMARY:PAW Patrol Live! Race to the Rescue
DESCRIPTION:It’s the day of the Great Adventure Bay Race between Adventure Bay’s Mayor Goodway and Foggy Bottom’s Mayor Humdinger\, but Mayor Goodway is nowhere to be found. PAW Patrol Race to the Rescue! Ryder summons Marshall\, Chase\, Skye\, Rubble\, Rocky\, Zuma and Everest to rescue Mayor Goodway and to run the race in her place. \nOn sale to General Public: Fri 06/08/18 10:00 am CDT. Prices: Check Ticketmaster for pricing and availability. Price Range: $23 and up. Children who have celebrated their first birthday are required to purchase a ticket. No professional cameras/no recording. Groups of 10 or more\, contact 205-458-8449 or groupsales@bjcc.org. Show lasts 75 minutes including a 15 minute intermission.
URL:https://birminghammommy.com/event/paw-patrol-live-race-to-the-rescue-6/2018-09-08/
LOCATION:BJCC Concert Hall\, 2100 Richard Arrington Jr. Blvd. North\, Birmingham\, AL\, 35203
GEO:33.5249488;-86.8082265
X-APPLE-STRUCTURED-LOCATION;VALUE=URI;X-ADDRESS=BJCC Concert Hall 2100 Richard Arrington Jr. Blvd. North Birmingham AL 35203;X-APPLE-RADIUS=500;X-TITLE=2100 Richard Arrington Jr. Blvd. North:geo:-86.8082265,33.5249488
END:VEVENT
BEGIN:VEVENT
DTSTART;TZID=America/Chicago:20180907T180000
DTEND;TZID=America/Chicago:20180907T200000
DTSTAMP:20260419T114102
CREATED:20180902T231430Z
LAST-MODIFIED:20180902T231430Z
UID:26351-1536343200-1536350400@birminghammommy.com
SUMMARY:PAW Patrol Live! Race to the Rescue
DESCRIPTION:It’s the day of the Great Adventure Bay Race between Adventure Bay’s Mayor Goodway and Foggy Bottom’s Mayor Humdinger\, but Mayor Goodway is nowhere to be found. PAW Patrol Race to the Rescue! Ryder summons Marshall\, Chase\, Skye\, Rubble\, Rocky\, Zuma and Everest to rescue Mayor Goodway and to run the race in her place. \nOn sale to General Public: Fri 06/08/18 10:00 am CDT. Prices: Check Ticketmaster for pricing and availability. Price Range: $23 and up. Children who have celebrated their first birthday are required to purchase a ticket. No professional cameras/no recording. Groups of 10 or more\, contact 205-458-8449 or groupsales@bjcc.org. Show lasts 75 minutes including a 15 minute intermission.
URL:https://birminghammommy.com/event/paw-patrol-live-race-to-the-rescue-5/
LOCATION:BJCC Concert Hall\, 2100 Richard Arrington Jr. Blvd. North\, Birmingham\, AL\, 35203
GEO:33.5249488;-86.8082265
X-APPLE-STRUCTURED-LOCATION;VALUE=URI;X-ADDRESS=BJCC Concert Hall 2100 Richard Arrington Jr. Blvd. North Birmingham AL 35203;X-APPLE-RADIUS=500;X-TITLE=2100 Richard Arrington Jr. Blvd. North:geo:-86.8082265,33.5249488
END:VEVENT
BEGIN:VEVENT
DTSTART;TZID=America/Chicago:20180907T180000
DTEND;TZID=America/Chicago:20180907T200000
DTSTAMP:20260419T114102
CREATED:20180829T132647Z
LAST-MODIFIED:20180829T132647Z
UID:26296-1536343200-1536350400@birminghammommy.com
SUMMARY:PAW Patrol Live Race to the Rescue
DESCRIPTION:Come roll with the PAW Patrol as everybody’s favorite heroic pups race to the rescue on the day of the Great Adventure Bay Race. When Mayor Goodway goes missing\, Chase\, Marshall\, Skye and the rest of the PAW Patrol will need to team up with Ryder to save Adventure Bay’s mayor and stop Foggy Bottom’s Mayor Humdinger from winning the race.
URL:https://birminghammommy.com/event/paw-patrol-live-race-to-the-rescue/
LOCATION:BJCC Concert Hall\, 2100 Richard Arrington Jr. Blvd. North\, Birmingham\, AL\, 35203
GEO:33.5249488;-86.8082265
X-APPLE-STRUCTURED-LOCATION;VALUE=URI;X-ADDRESS=BJCC Concert Hall 2100 Richard Arrington Jr. Blvd. North Birmingham AL 35203;X-APPLE-RADIUS=500;X-TITLE=2100 Richard Arrington Jr. Blvd. North:geo:-86.8082265,33.5249488
END:VEVENT
BEGIN:VEVENT
DTSTART;TZID=America/Chicago:20180408T160000
DTEND;TZID=America/Chicago:20180408T180000
DTSTAMP:20260419T114102
CREATED:20180405T191119Z
LAST-MODIFIED:20180405T191119Z
UID:24832-1523203200-1523210400@birminghammommy.com
SUMMARY:Disney Junior Dance Party
DESCRIPTION:Are you ready to DANCE?!? Disney Junior Dance Party On Tour is an ALL NEW interactive live concert experience. Sing along to Disney Junior’s greatest hits with your favorite characters: Mickey and the Roadster Racers\, Sofia The First\, Puppy Dog Pals\, Elena of Avalor\, Doc McStuffins\, Vampirina\, The Lion Guard and more! Kids of all ages and their families are invited to get up and dance\, play games and join the biggest dance party around!
URL:https://birminghammommy.com/event/disney-junior-dance-party/
LOCATION:BJCC Concert Hall\, 2100 Richard Arrington Jr. Blvd. North\, Birmingham\, AL\, 35203
GEO:33.5249488;-86.8082265
X-APPLE-STRUCTURED-LOCATION;VALUE=URI;X-ADDRESS=BJCC Concert Hall 2100 Richard Arrington Jr. Blvd. North Birmingham AL 35203;X-APPLE-RADIUS=500;X-TITLE=2100 Richard Arrington Jr. Blvd. North:geo:-86.8082265,33.5249488
END:VEVENT
BEGIN:VEVENT
DTSTART;TZID=America/Chicago:20171129T190000
DTEND;TZID=America/Chicago:20171129T211500
DTSTAMP:20260419T114102
CREATED:20171101T173050Z
LAST-MODIFIED:20171101T173050Z
UID:22679-1511982000-1511990100@birminghammommy.com
SUMMARY:Rudolph The Red-Nosed Reindeer the Musical
DESCRIPTION:The beloved TV classic RUDOLPH THE RED-NOSED REINDEER soars off the screen and onto the stage this holiday season. Come see all of your favorite characters from the special including Santa and Mrs. Claus\, Hermey the Elf\, Bumble the Abominable Snow Monster\, Clarice\, Yukon Cornelius and\, of course\, Rudolph\, as they come to life in RUDOLPH THE RED-NOSED REINDEER: THE MUSICAL. It’s an adventure that teaches us that what makes you different can be what makes you special. Don’t miss this wonderful holiday tradition that speaks to the misfit in all of us. Based on the animated television special “Rudolph the Red-Nosed Reindeer” and the stage production directed and conceived by Jeff Frank and First Stage. Script adaptation by Robert Penola. Arrangements by Timothy Splain. Orchestrations by William C. White.
URL:https://birminghammommy.com/event/rudolph-red-nosed-reindeer-musical/
LOCATION:BJCC Concert Hall\, 2100 Richard Arrington Jr. Blvd. North\, Birmingham\, AL\, 35203
GEO:33.5249488;-86.8082265
X-APPLE-STRUCTURED-LOCATION;VALUE=URI;X-ADDRESS=BJCC Concert Hall 2100 Richard Arrington Jr. Blvd. North Birmingham AL 35203;X-APPLE-RADIUS=500;X-TITLE=2100 Richard Arrington Jr. Blvd. North:geo:-86.8082265,33.5249488
END:VEVENT
END:VCALENDAR