BEGIN:VCALENDAR
VERSION:2.0
PRODID:-//Birmingham Mommy - ECPv6.3.5//NONSGML v1.0//EN
CALSCALE:GREGORIAN
METHOD:PUBLISH
X-WR-CALNAME:Birmingham Mommy
X-ORIGINAL-URL:https://birminghammommy.com
X-WR-CALDESC:Events for Birmingham Mommy
REFRESH-INTERVAL;VALUE=DURATION:PT1H
X-Robots-Tag:noindex
X-PUBLISHED-TTL:PT1H
BEGIN:VTIMEZONE
TZID:America/Chicago
BEGIN:DAYLIGHT
TZOFFSETFROM:-0600
TZOFFSETTO:-0500
TZNAME:CDT
DTSTART:20200308T080000
END:DAYLIGHT
BEGIN:STANDARD
TZOFFSETFROM:-0500
TZOFFSETTO:-0600
TZNAME:CST
DTSTART:20201101T070000
END:STANDARD
END:VTIMEZONE
BEGIN:VEVENT
DTSTART;TZID=America/Chicago:20200121T100000
DTEND;TZID=America/Chicago:20200121T110000
DTSTAMP:20260421T104105
CREATED:20191227T015341Z
LAST-MODIFIED:20191227T015341Z
UID:33017-1579600800-1579604400@birminghammommy.com
SUMMARY:Free Tinkergarten Trial Classes
DESCRIPTION:Join us as we paint the winter sky during this free\, fun\, family Tinkergarten event! \nTinkergarten is a research-based program designed to help kids develop and get ready for school and life through outdoor\, play-based learning activities. To the kids\, it’s a chance to connect with nature\, wonder and solve problems\, move their bodies\, make friends and have fun. For adults\, it’s a chance to connect with like-minded parents and learn creative and effective ways to play and learn with our kids. \nIt’s all based on best practices and the science of early learning\, and it’s happening in all but one state in the country. And now it’s in Birmingham!
URL:https://birminghammommy.com/event/free-tinkergarten-trial-classes/
LOCATION:McCallum Park\, 3332 Rosemary Lane\, Vestavia Hills\, AL\, 35216\, United States
ATTACH;FMTTYPE=image/jpeg:https://birminghammommy.com/wp-content/uploads/2019/12/A2825F1A-6BFF-439A-920E-804814C295A6.jpeg
ORGANIZER;CN="Tinkergarten":MAILTO:Emilygardnerpeterson@gmail.com
END:VEVENT
END:VCALENDAR