BEGIN:VCALENDAR
VERSION:2.0
PRODID:-//Birmingham Mommy - ECPv6.3.5//NONSGML v1.0//EN
CALSCALE:GREGORIAN
METHOD:PUBLISH
X-ORIGINAL-URL:https://birminghammommy.com
X-WR-CALDESC:Events for Birmingham Mommy
REFRESH-INTERVAL;VALUE=DURATION:PT1H
X-Robots-Tag:noindex
X-PUBLISHED-TTL:PT1H
BEGIN:VTIMEZONE
TZID:America/Chicago
BEGIN:DAYLIGHT
TZOFFSETFROM:-0600
TZOFFSETTO:-0500
TZNAME:CDT
DTSTART:20190310T080000
END:DAYLIGHT
BEGIN:STANDARD
TZOFFSETFROM:-0500
TZOFFSETTO:-0600
TZNAME:CST
DTSTART:20191103T070000
END:STANDARD
END:VTIMEZONE
BEGIN:VEVENT
DTSTART;TZID=America/Chicago:20190824T110000
DTEND;TZID=America/Chicago:20190824T140000
DTSTAMP:20260422T134616
CREATED:20190624T131041Z
LAST-MODIFIED:20190624T131041Z
UID:30774-1566644400-1566655200@birminghammommy.com
SUMMARY:The Bell Center's 11th Annual Tailgate Challenge
DESCRIPTION:We are hosting an event at The Bell Center (located in Homewood) called The Tailgate Challenge that I would love to get on your website and/or event calendar! Here is some more information about the event: \nThe tailgate challenge is an annual fundraising event that takes place at The Bell Center (1700 29th Court South Homewood\, AL 35209). This year marks the 11th Annual Tailgate Challenge\, which is being presented by Encompass Health on August 24th\, 2019 from 11 am-2 pm. This event provides a fun way for football fans to celebrate and anticipate the upcoming football season while supporting The Bell Center for Early Interventions Programs. Event goers will enjoy tastes of tailgating food at various team tents during an afternoon of music\, kid friendly activities\, and team rivalry. Team tent boosters are responsible for providing their own tailgate tent and team decorations to show their spirit. Each team will also provide a taste of tailgating food that may be prepared either on site or brought ready to their tent. Teams are not asked to bring enough food to fully feed the crowd\, merely to give the attendees a taste of the food they have prepared. A panel of local “celebrity: judges will be on hand to score each of the teams on 5 different categories (best food\, best drink\, team spirit\, best all-around and people’s choice). \nPre-Sale Tickets end Friday\, August 23\, 3pm \nAttendees 13 years+ $15 \nChildren (12 and under) Free \nDay of Event Ticket Sales: \nAttendees 13 years+ $20 \nChildren (12 and under) Free \n  \nPlease contact me if you have any more questions regarding The Bell Center or our events. \nMacy Dye
URL:https://birminghammommy.com/event/the-bell-centers-11th-annual-tailgate-challenge/
LOCATION:The Bell Center\, 1709 29th Court South\, Homewood\, AL\, 35200\, United States
ATTACH;FMTTYPE=image/jpeg:https://birminghammommy.com/wp-content/uploads/2019/06/Tailgate-logo.jpg
ORGANIZER;CN="The Bell Center":MAILTO:mdye@thebellcenter.org
END:VEVENT
END:VCALENDAR