BEGIN:VCALENDAR
VERSION:2.0
PRODID:-//Birmingham Mommy - ECPv6.3.5//NONSGML v1.0//EN
CALSCALE:GREGORIAN
METHOD:PUBLISH
X-WR-CALNAME:Birmingham Mommy
X-ORIGINAL-URL:https://birminghammommy.com
X-WR-CALDESC:Events for Birmingham Mommy
REFRESH-INTERVAL;VALUE=DURATION:PT1H
X-Robots-Tag:noindex
X-PUBLISHED-TTL:PT1H
BEGIN:VTIMEZONE
TZID:America/Chicago
BEGIN:DAYLIGHT
TZOFFSETFROM:-0600
TZOFFSETTO:-0500
TZNAME:CDT
DTSTART:20190310T080000
END:DAYLIGHT
BEGIN:STANDARD
TZOFFSETFROM:-0500
TZOFFSETTO:-0600
TZNAME:CST
DTSTART:20191103T070000
END:STANDARD
END:VTIMEZONE
BEGIN:VEVENT
DTSTART;TZID=America/Chicago:20190427T080000
DTEND;TZID=America/Chicago:20190428T180000
DTSTAMP:20260421T055243
CREATED:20190307T185523Z
LAST-MODIFIED:20190307T185523Z
UID:28738-1556352000-1556474400@birminghammommy.com
SUMMARY:Bargain Carousel
DESCRIPTION:Junior League Of Birmingham’s Bargain Carousel is back. \nA 1000-family garage sale\, Bargain Carousel has been labeled the “largest garage sale in Birmingham.” Through member donations\, Bargain Carousel provides shoppers with quality items\, including many of life’s necessities\, at very affordable prices. Over 5\,000 shoppers In return\, proceeds are returned directly to the Birmingham community through the Community Projects the JLB supports. Over 100\,000 items for sale. \nBargain Carousel takes place on  Saturday\, April 27: 8 a.m. to 6 p.m. and Sunday\, April 28th: 1 p.m. to 5 p.m.  \nTickets for Saturday admission go on sale Friday\, April 26\, from 2 to 6 p.m. at the Bargain Carousel space. These are not available online as they are sold in order\, allowing for shoppers to enter in ticket number order on Saturday morning. \nThe cost is $10 for Saturday entry between 8 a.m. and noon and $5 from noon to 5 p.m. Tickets can also be purchased at the door. On Sunday\, admission is free and all items are half price. \nAlthough Sunday admission is free\, JBL would appreciate donations of diapers and/or wipes to help support the JLB Diaper Bank
URL:https://birminghammommy.com/event/bargain-carousel-2/2019-04-27/
LOCATION:Bargain Carousel Locaton\, 2467 John Hawkins Pkwy\, Hoover\, 35224\, United States
END:VEVENT
END:VCALENDAR