BEGIN:VCALENDAR
VERSION:2.0
PRODID:-//Birmingham Mommy - ECPv6.3.5//NONSGML v1.0//EN
CALSCALE:GREGORIAN
METHOD:PUBLISH
X-ORIGINAL-URL:https://birminghammommy.com
X-WR-CALDESC:Events for Birmingham Mommy
REFRESH-INTERVAL;VALUE=DURATION:PT1H
X-Robots-Tag:noindex
X-PUBLISHED-TTL:PT1H
BEGIN:VTIMEZONE
TZID:America/Chicago
BEGIN:DAYLIGHT
TZOFFSETFROM:-0600
TZOFFSETTO:-0500
TZNAME:CDT
DTSTART:20200308T080000
END:DAYLIGHT
BEGIN:STANDARD
TZOFFSETFROM:-0500
TZOFFSETTO:-0600
TZNAME:CST
DTSTART:20201101T070000
END:STANDARD
END:VTIMEZONE
BEGIN:VEVENT
DTSTART;TZID=America/Chicago:20200114T153000
DTEND;TZID=America/Chicago:20200114T173000
DTSTAMP:20260424T033127
CREATED:20191227T015341Z
LAST-MODIFIED:20191227T015341Z
UID:33007-1579015800-1579023000@birminghammommy.com
SUMMARY:After School Movie
DESCRIPTION:Join us for a FREE showing of a new release family-friendly movie! Call the library for title.
URL:https://birminghammommy.com/event/after-school-movie/
LOCATION:Parnell Memorial Library\, 277 Park Drive\, Montevallo\, 35115\, United States
ATTACH;FMTTYPE=image/jpeg:https://birminghammommy.com/wp-content/uploads/2019/12/After-School-Movie.jpg
ORGANIZER;CN="Parnell Memorial Library":MAILTO:skitchens@shelbycounty-al.org
END:VEVENT
END:VCALENDAR