BEGIN:VCALENDAR
VERSION:2.0
PRODID:-//Birmingham Mommy - ECPv6.3.5//NONSGML v1.0//EN
CALSCALE:GREGORIAN
METHOD:PUBLISH
X-ORIGINAL-URL:https://birminghammommy.com
X-WR-CALDESC:Events for Birmingham Mommy
REFRESH-INTERVAL;VALUE=DURATION:PT1H
X-Robots-Tag:noindex
X-PUBLISHED-TTL:PT1H
BEGIN:VTIMEZONE
TZID:America/Chicago
BEGIN:DAYLIGHT
TZOFFSETFROM:-0600
TZOFFSETTO:-0500
TZNAME:CDT
DTSTART:20220313T080000
END:DAYLIGHT
BEGIN:STANDARD
TZOFFSETFROM:-0500
TZOFFSETTO:-0600
TZNAME:CST
DTSTART:20221106T070000
END:STANDARD
END:VTIMEZONE
BEGIN:VEVENT
DTSTART;TZID=America/Chicago:20220902T100000
DTEND;TZID=America/Chicago:20220902T113000
DTSTAMP:20260420T205129
CREATED:20220807T211751Z
LAST-MODIFIED:20220828T173912Z
UID:36703-1662112800-1662118200@birminghammommy.com
SUMMARY:Growing Up Wild Preschool Friday
DESCRIPTION:Preschoolers and their caregivers are invited to spend time together and explore the Museum to learn about nature through activities\, crafts\, and stories.\n\nRegister using this online form: https://bit.ly/3S46P2J
URL:https://birminghammommy.com/event/growing-up-wild-preschool-friday-2/
LOCATION:Alabama Museum of Natural History\, 427 Sixth Avenue\, Tuscaloosa\, AL\, 35487\, United States
ATTACH;FMTTYPE=image/jpeg:https://birminghammommy.com/wp-content/uploads/2022/08/growingupwild.jpg
ORGANIZER;CN="Alabama Museum of Natural History":MAILTO:joyia.davis@ua.edu
END:VEVENT
BEGIN:VEVENT
DTSTART;TZID=America/Chicago:20220903T143000
DTEND;TZID=America/Chicago:20220903T153000
DTSTAMP:20260420T205129
CREATED:20220826T173343Z
LAST-MODIFIED:20220828T173912Z
UID:36831-1662215400-1662219000@birminghammommy.com
SUMMARY:Terrence Cody and Roy Upchurch Signing
DESCRIPTION:Visit the Paul W. Bryant Museum on September 3\, 2022 from 2:30 pm – 3:10 pm to get autographs from Honorary Captains Terrence Cody and Roy Upchurch before the Alabama vs. Utah State football game! Standard $5 for the Exhibit Hall. No charge for autographs.
URL:https://birminghammommy.com/event/terrence-cody-and-roy-upchurch-signing/
LOCATION:Paul W. Bryant Museum\, 300 Paul W. Bryant Drive\, Tuscaloosa\, AL\, 35487\, United States
ATTACH;FMTTYPE=image/jpeg:https://birminghammommy.com/wp-content/uploads/2022/08/VisitTuscaloosa.com_-7.jpg
ORGANIZER;CN="Paul W. Bryant Museum":MAILTO:oarnold@ua.edu
END:VEVENT
BEGIN:VEVENT
DTSTART;TZID=America/Chicago:20220907T110000
DTEND;TZID=America/Chicago:20220907T123000
DTSTAMP:20260420T205129
CREATED:20220826T173343Z
LAST-MODIFIED:20220828T173912Z
UID:36825-1662548400-1662553800@birminghammommy.com
SUMMARY:Design Maker Workshop – Animal Inventions
DESCRIPTION:Do you have a pet or know someone who does? Do you like animals? How could you create a better way to care for a pet or help animals on a farm\, at the zoo\, or in the wild? Use your imagination to design something new in the maker space during the Design Squad Maker workshop series! In this workshop\, you’ll learn steps in the design process while designing and creating something to help our furry friends. This program is designed for 8-year-olds through 11-year-olds. The cost for this program is $15 per participant. To register for this event\, please contact Joyia Davis by phone at 205-348-6383 or email joyia.davis@ua.edu
URL:https://birminghammommy.com/event/design-maker-workshop-animal-inventions-3/
LOCATION:Alabama Museum of Natural History\, 427 Sixth Avenue\, Tuscaloosa\, AL\, 35487\, United States
ATTACH;FMTTYPE=image/jpeg:https://birminghammommy.com/wp-content/uploads/2022/08/VisitTuscaloosa.com_-4.jpg
ORGANIZER;CN="Alabama Museum of Natural History":MAILTO:joyia.davis@ua.edu
END:VEVENT
BEGIN:VEVENT
DTSTART;TZID=America/Chicago:20220919T150000
DTEND;TZID=America/Chicago:20220919T163000
DTSTAMP:20260420T205129
CREATED:20220807T211751Z
LAST-MODIFIED:20220828T173912Z
UID:36707-1663599600-1663605000@birminghammommy.com
SUMMARY:Museum Monday
DESCRIPTION:K-2nd grade explorers and their caregivers are invited to spent time together and experience the Alabama Museum of Natural History in a whole new way! Registration required.\n\nRegister using this online form: https://bit.ly/3zgO57P
URL:https://birminghammommy.com/event/museum-monday-2/
LOCATION:Alabama Museum of Natural History\, 427 Sixth Avenue\, Tuscaloosa\, AL\, 35487\, United States
ATTACH;FMTTYPE=image/jpeg:https://birminghammommy.com/wp-content/uploads/2022/08/museummonday.jpg
ORGANIZER;CN="Alabama Museum of Natural History":MAILTO:joyia.davis@ua.edu
END:VEVENT
BEGIN:VEVENT
DTSTART;TZID=America/Chicago:20220921T110000
DTEND;TZID=America/Chicago:20220921T123000
DTSTAMP:20260420T205129
CREATED:20220826T173342Z
LAST-MODIFIED:20220828T173912Z
UID:36827-1663758000-1663763400@birminghammommy.com
SUMMARY:Design Maker Workshop – Animal Inventions
DESCRIPTION:Do you have a pet or know someone who does? Do you like animals? How could you create a better way to care for a pet or help animals on a farm\, at the zoo\, or in the wild? Use your imagination to design something new in the maker space during the Design Squad Maker workshop series! In this workshop\, you’ll learn steps in the design process while designing and creating something to help our furry friends. This program is designed for 8-year-olds through 11-year-olds. The cost for this program is $15 per participant. To register for this event\, please contact Joyia Davis by phone at 205-348-6383 or email joyia.davis@ua.edu
URL:https://birminghammommy.com/event/design-maker-workshop-animal-inventions-2/
LOCATION:Alabama Museum of Natural History\, 427 Sixth Avenue\, Tuscaloosa\, AL\, 35487\, United States
ATTACH;FMTTYPE=image/jpeg:https://birminghammommy.com/wp-content/uploads/2022/08/VisitTuscaloosa.com_-5.jpg
ORGANIZER;CN="Alabama Museum of Natural History":MAILTO:joyia.davis@ua.edu
END:VEVENT
BEGIN:VEVENT
DTSTART;TZID=America/Chicago:20220924T080000
DTEND;TZID=America/Chicago:20220924T120000
DTSTAMP:20260420T205129
CREATED:20220713T141926Z
LAST-MODIFIED:20220828T173912Z
UID:36629-1664006400-1664020800@birminghammommy.com
SUMMARY:13th Annual Head Over Teal 5K/10K and Family Fun Day
DESCRIPTION:Keep the tradition and join the Laura Crandall Brown Foundation (LCBF) on Saturday\, September 24\, 2022 as we host our 13th annual Head Over Teal 5K/10K and Family Fun Day.  Create your own FUNdraising page or lead a team of supporters when you sign up to participate. Runners can honor survivors and remember those who fought GYN cancer by participating in the 5K/10K\, joining us for our pet-friendly fall festival themed day\, or by selecting the “sleep in” option. Lead race times will be eligible for a Trak Shak gift card. Share photos of family support\, connect with other participants\, and engage the Foundation virtually by using the hashtags #headoverteal and #headoverteal2022 and by following us on social media at Facebook @LCBFoundation\, Instagram at lcbfoundation\, Vimeo at Laura Crandall Brown Foundation\, and Flickr at Laura Crandall Brown Foundation. Learn more and register at thinkoflaura.org/headoverteal. All proceeds go to support LCBF’s mission of early detection research\, awareness education\, and financial support services for GYN cancer patients and their families.
URL:https://birminghammommy.com/event/13th-annual-head-over-teal-5k-10k-and-family-fun-day/
LOCATION:The Hoover Preserve\, 601 Presrve Way\, Hoover\, AL
ATTACH;FMTTYPE=image/jpeg:https://birminghammommy.com/wp-content/uploads/2022/07/13thAnnual_HOT_Logo.jpg
GEO:33.3806985;-86.8367936
X-APPLE-STRUCTURED-LOCATION;VALUE=URI;X-ADDRESS=The Hoover Preserve 601 Presrve Way Hoover AL;X-APPLE-RADIUS=500;X-TITLE=601 Presrve Way:geo:-86.8367936,33.3806985
END:VEVENT
BEGIN:VEVENT
DTSTART;TZID=America/Chicago:20220924T080000
DTEND;TZID=America/Chicago:20220924T120000
DTSTAMP:20260420T205129
CREATED:20220807T211751Z
LAST-MODIFIED:20220828T173912Z
UID:36646-1664006400-1664020800@birminghammommy.com
SUMMARY:13th Annual Head Over Teal 5K/10K and Family Fun Day
DESCRIPTION:Keep the tradition and join the Laura Crandall Brown Foundation (LCBF) on Saturday\, September 24\, 2022 as we host our 13th annual Head Over Teal 5K/10K and Family Fun Day.  Create your own FUNdraising page or lead a team of supporters when you sign up to participate. Runners can honor survivors and remember those who fought GYN cancer by participating in the 5K/10K\, joining us for our pet-friendly fall festival-themed day\, or selecting the “sleep in” option. Lead race times will be eligible for a Trak Shak gift card. Share photos of family support\, connect with other participants\, and engage the Foundation virtually by using the hashtags #headoverteal and #headoverteal2022 and by following us on social media at Facebook @LCBFoundation\, Instagram at lcbfoundation\, Vimeo at Laura Crandall Brown Foundation\, and Flickr at Laura Crandall Brown Foundation. Learn more and register at thinkoflaura.org/headoverteal. All proceeds go to support LCBF’s mission of early detection research\, awareness education\, and financial support services for GYN cancer patients and their families.
URL:https://birminghammommy.com/event/13th-annual-head-over-teal-5k-10k-and-family-fun-day-2/
ATTACH;FMTTYPE=image/jpeg:https://birminghammommy.com/wp-content/uploads/2022/07/13thAnnual_HOT_Logo-1.jpg
END:VEVENT
BEGIN:VEVENT
DTSTART;TZID=America/Chicago:20220924T110000
DTEND;TZID=America/Chicago:20220924T160000
DTSTAMP:20260420T205129
CREATED:20220828T173912Z
LAST-MODIFIED:20220828T173912Z
UID:36843-1664017200-1664035200@birminghammommy.com
SUMMARY:Grand River Art Walk
DESCRIPTION:Art for sale and on display featuring local artist from Artist Incorporated Gallery. \nLocated throughout the common areas of the center
URL:https://birminghammommy.com/event/grand-river-art-walk-2/
LOCATION:The Outlet Shops of Grand River\, 6200 Grand River Blvd E Ste.446\, Leeds\, AL\, 35094\, United States
ATTACH;FMTTYPE=image/jpeg:https://birminghammommy.com/wp-content/uploads/2022/08/2208_OSGR-ArtWalk-FB-Post-FINAL.jpg
ORGANIZER;CN="The Outlet Shops of Grand River":MAILTO:amccain@shopsofgrandriver.com
END:VEVENT
BEGIN:VEVENT
DTSTART;TZID=America/Chicago:20220924T143000
DTEND;TZID=America/Chicago:20220924T150000
DTSTAMP:20260420T205129
CREATED:20220922T135557Z
LAST-MODIFIED:20220922T135557Z
UID:36933-1664029800-1664031600@birminghammommy.com
SUMMARY:Honorary Captain Autograph Signing – David Knapp and Ralph Stokes
DESCRIPTION:Visit the Paul W. Bryant Museum on September 24\, 2022 from 2:15 pm until 3:00 pm to get autographs from Honorary Captains\, David Knapp and Ralph Stokes\, before the Bama game!\n  \n\nDate and Time\nThis signing is being held on September 24\, 2022 from 2:15 pm until 3:00 pm. \n\nLocation\nThe Paul W. Bryant Museum is located 300 Paul W. Bryant Drive\, Tuscaloosa\, AL 35487.\nAdmission\nStandard $5 for the Exhibit Hall. No charge for autographs.\nFor More Information\nTo learn more about the Paul W. Bryant Museum\, visit bryantmuseum.com
URL:https://birminghammommy.com/event/honorary-captain-autograph-signing-david-knapp-and-ralph-stokes/
LOCATION:Paul W. Bryant Museum\, 300 Paul W. Bryant Drive\, Tuscaloosa\, AL\, 35487\, United States
ATTACH;FMTTYPE=image/png:https://birminghammommy.com/wp-content/uploads/2022/09/Facebook-Event-Cover.png
ORGANIZER;CN="Paul W. Bryant Museum":MAILTO:oarnold@ua.edu
END:VEVENT
END:VCALENDAR