BEGIN:VCALENDAR
VERSION:2.0
PRODID:-//Birmingham Mommy - ECPv6.3.5//NONSGML v1.0//EN
CALSCALE:GREGORIAN
METHOD:PUBLISH
X-WR-CALNAME:Birmingham Mommy
X-ORIGINAL-URL:https://birminghammommy.com
X-WR-CALDESC:Events for Birmingham Mommy
REFRESH-INTERVAL;VALUE=DURATION:PT1H
X-Robots-Tag:noindex
X-PUBLISHED-TTL:PT1H
BEGIN:VTIMEZONE
TZID:America/Chicago
BEGIN:DAYLIGHT
TZOFFSETFROM:-0600
TZOFFSETTO:-0500
TZNAME:CDT
DTSTART:20220313T080000
END:DAYLIGHT
BEGIN:STANDARD
TZOFFSETFROM:-0500
TZOFFSETTO:-0600
TZNAME:CST
DTSTART:20221106T070000
END:STANDARD
END:VTIMEZONE
BEGIN:VEVENT
DTSTART;TZID=America/Chicago:20220813T100000
DTEND;TZID=America/Chicago:20220813T120000
DTSTAMP:20260420T221833
CREATED:20220826T173343Z
LAST-MODIFIED:20220826T173922Z
UID:36800-1660384800-1660392000@birminghammommy.com
SUMMARY:Alabama Football Fan Favorites Autograph Signing
DESCRIPTION:Visit the Paul W. Bryant Museum on Saturday\, August 13 from 10 AM until 12 PM to get autographs from Michael Proctor\, Joe LaBue\, Alan Gray\, Tyrone Prothro\, and more! Standard $5 admission for exhibit hall. No charge for autographs.
URL:https://birminghammommy.com/event/alabama-football-fan-favorites-autograph-signing/
LOCATION:Paul W. Bryant Museum\, 300 Paul W. Bryant Drive\, Tuscaloosa\, AL\, 35487\, United States
ATTACH;FMTTYPE=image/png:https://birminghammommy.com/wp-content/uploads/2022/08/bryantmuseum_fanfavorites_2022.png
ORGANIZER;CN="Paul W. Bryant Museum":MAILTO:oarnold@ua.edu
END:VEVENT
BEGIN:VEVENT
DTSTART;TZID=America/Chicago:20220825T170000
DTEND;TZID=America/Chicago:20220825T200000
DTSTAMP:20260420T221833
CREATED:20220807T211751Z
LAST-MODIFIED:20220826T173922Z
UID:36678-1661446800-1661457600@birminghammommy.com
SUMMARY:Lil Lambs Consignment Sale
DESCRIPTION:Trinity’s favorite children’s clothing consignment sale returns August 25-27! \nWe plan to have the place filled with wonderful items for you to purchase! Lil Lambs is a consignment sale that provides gently worn clothing\, toys\, and furniture at reasonable prices. Additionally\, at the end of the sale all unsold items marked “donate” will be shared with families and organizations in need in our area. \n\nThursday\, August 25 – Presale Starts\nFriday\,August 26 – Regular Sale – 9:00am-3:00pm\nSaturday\,August 27 – Regular Sale (many items 1/2 off) – 9:00am-12:00pm\n\nFollow our Facebook page for updates and giveaways – AND – invite your friends. A portion of proceeds benefits the ministries and missions of the church.
URL:https://birminghammommy.com/event/lil-lambs-consignment-sale-3/2022-08-25/
LOCATION:Trinity United Methodist\, 1400 Oxmoor Rd.\, Homewood\, AL\, 35209
CATEGORIES:Consignment Sale
ATTACH;FMTTYPE=image/jpeg:https://birminghammommy.com/wp-content/uploads/2022/07/Lil-Lambs-sale.jpg
ORGANIZER;CN="Susan St. John":MAILTO:sstjohn@trinitybirmingham.com
GEO:33.475411;-86.8033313
X-APPLE-STRUCTURED-LOCATION;VALUE=URI;X-ADDRESS=Trinity United Methodist 1400 Oxmoor Rd. Homewood AL 35209;X-APPLE-RADIUS=500;X-TITLE=1400 Oxmoor Rd.:geo:-86.8033313,33.475411
END:VEVENT
BEGIN:VEVENT
DTSTART;TZID=America/Chicago:20220827T100000
DTEND;TZID=America/Chicago:20220827T140000
DTSTAMP:20260420T221833
CREATED:20220712T170622Z
LAST-MODIFIED:20220828T173912Z
UID:36590-1661594400-1661608800@birminghammommy.com
SUMMARY:Touch a Truck
DESCRIPTION:August 27 | 10am-2pm \nLocation: Front parking lot behind LOFT and COACH \nThe Greater Alabama Council Three Rivers District and the Autism Society of Alabama are hosting a Touch-a-Truck event. This event is to bring awareness to Autism and to allow children the opportunity to visit large equipment in a safe and comfortable environment. \nWhat is a Touch-a-Truck: \nIt is an event with lots of different types of vehicles (huge ones) that children can come see\, touch\, ask questions\, take a photo with the vehicle and perhaps sit behind the wheel.  Several local Fire Departments\, Police Departments\, Emergency Response Teams… will be there! Lots of fun. Come greet our community first responders and community leaders who take a special interest in our safety and the safety of our children \nCome out and see all the fun trucks:\nModern Day Electric\nDixie Division Military Vehicle Club\nAlabama Power Company\nSouthern Vintage Fir Apparatus Association\nLeeds Police Department\nLeeds Fire Department\nSherman Industries\nCraneWorks
URL:https://birminghammommy.com/event/touch-a-truck/
LOCATION:The Outlet Shops of Grand River\, 6200 Grand River Blvd E Ste.446\, Leeds\, AL\, 35094\, United States
ATTACH;FMTTYPE=image/jpeg:https://birminghammommy.com/wp-content/uploads/2022/07/2207_OSGR-TouchATruck-FB-Post-FINAL.jpg
END:VEVENT
END:VCALENDAR