BEGIN:VCALENDAR
VERSION:2.0
PRODID:-//Birmingham Mommy - ECPv6.3.5//NONSGML v1.0//EN
CALSCALE:GREGORIAN
METHOD:PUBLISH
X-WR-CALNAME:Birmingham Mommy
X-ORIGINAL-URL:https://birminghammommy.com
X-WR-CALDESC:Events for Birmingham Mommy
REFRESH-INTERVAL;VALUE=DURATION:PT1H
X-Robots-Tag:noindex
X-PUBLISHED-TTL:PT1H
BEGIN:VTIMEZONE
TZID:America/Chicago
BEGIN:DAYLIGHT
TZOFFSETFROM:-0600
TZOFFSETTO:-0500
TZNAME:CDT
DTSTART:20190310T080000
END:DAYLIGHT
BEGIN:STANDARD
TZOFFSETFROM:-0500
TZOFFSETTO:-0600
TZNAME:CST
DTSTART:20191103T070000
END:STANDARD
END:VTIMEZONE
BEGIN:VEVENT
DTSTART;TZID=America/Chicago:20190116T153000
DTEND;TZID=America/Chicago:20190116T161500
DTSTAMP:20260419T215246
CREATED:20181216T142615Z
LAST-MODIFIED:20181216T142615Z
UID:27753-1547652600-1547655300@birminghammommy.com
SUMMARY:Kids Create: Winter Terrariums
DESCRIPTION:(K-5 Grade) Join us for an afternoon of creativity and imagination by creating your own winter landscapes in a tiny jar!
URL:https://birminghammommy.com/event/kids-create-winter-terrariums/
LOCATION:Homewood Public Library\, 1721 Oxmoor Road\, Homewood\, AL\, 35209\, United States
GEO:33.4750533;-86.795404
X-APPLE-STRUCTURED-LOCATION;VALUE=URI;X-ADDRESS=Homewood Public Library 1721 Oxmoor Road Homewood AL 35209 United States;X-APPLE-RADIUS=500;X-TITLE=1721 Oxmoor Road:geo:-86.795404,33.4750533
END:VEVENT
BEGIN:VEVENT
DTSTART;TZID=America/Chicago:20190116T130000
DTEND;TZID=America/Chicago:20190116T140000
DTSTAMP:20260419T215246
CREATED:20181216T225947Z
LAST-MODIFIED:20181216T225947Z
UID:27915-1547643600-1547647200@birminghammommy.com
SUMMARY:K-5th Homeschool Hangout: Makedo Cardboard Fun
DESCRIPTION:We will be using Makedo\, easy-to-use tools designed to simplify cardboard construction\, to build some amazing cardboard creations! Contact Vanessa at NSChildrensLibrarian@shelbycounty-al.org or 439-5504 for more information. Grades K-5th. Registration required. Space is Limited.
URL:https://birminghammommy.com/event/k-5th-homeschool-hangout-makedo-cardboard-fun/
LOCATION:North Shelby Library\, 5521 Cahaba Valley Road\, Birmingham\, AL\, 35242
GEO:33.3646429;-86.7165499
X-APPLE-STRUCTURED-LOCATION;VALUE=URI;X-ADDRESS=North Shelby Library 5521 Cahaba Valley Road Birmingham AL 35242;X-APPLE-RADIUS=500;X-TITLE=5521 Cahaba Valley Road:geo:-86.7165499,33.3646429
END:VEVENT
BEGIN:VEVENT
DTSTART;TZID=America/Chicago:20190115T180000
DTEND;TZID=America/Chicago:20190115T194500
DTSTAMP:20260419T215246
CREATED:20190105T152324Z
LAST-MODIFIED:20190105T152324Z
UID:28118-1547575200-1547581500@birminghammommy.com
SUMMARY:Disney Karaoke Family Night
DESCRIPTION:Join us for Family Night in January! \nWhat: Disney Karaoke for the Whole Family…hosted by Disney Princess Belle\nWhen: Tuesday\, January 15\nTime: 6 p meal  6:30 p show\nWhere: Community Room\nDon’t miss an enchanted night. Prizes for all who sing!
URL:https://birminghammommy.com/event/disney-karaoke-family-night/
LOCATION:Vestavia Hills Library in the Forest\, 1221 Montgomery Hwy\, Vestavia Hills Library\, AL\, 35216
GEO:33.4311673;-86.7875936
X-APPLE-STRUCTURED-LOCATION;VALUE=URI;X-ADDRESS=Vestavia Hills Library in the Forest 1221 Montgomery Hwy Vestavia Hills Library AL 35216;X-APPLE-RADIUS=500;X-TITLE=1221 Montgomery Hwy:geo:-86.7875936,33.4311673
END:VEVENT
BEGIN:VEVENT
DTSTART;TZID=America/Chicago:20190114T153000
DTEND;TZID=America/Chicago:20190114T174500
DTSTAMP:20260419T215246
CREATED:20181216T142150Z
LAST-MODIFIED:20181216T142150Z
UID:27749-1547479800-1547487900@birminghammommy.com
SUMMARY:Ready Player One Film Screening
DESCRIPTION:When the creator of a virtual reality world called the OASIS dies\, he releases a video in which he challenges all OASIS users to find his Easter Egg\, which will give the finder his fortune.
URL:https://birminghammommy.com/event/ready-player-one-film-screening/
LOCATION:Homewood Public Library\, 1721 Oxmoor Road\, Homewood\, AL\, 35209\, United States
GEO:33.4750533;-86.795404
X-APPLE-STRUCTURED-LOCATION;VALUE=URI;X-ADDRESS=Homewood Public Library 1721 Oxmoor Road Homewood AL 35209 United States;X-APPLE-RADIUS=500;X-TITLE=1721 Oxmoor Road:geo:-86.795404,33.4750533
END:VEVENT
BEGIN:VEVENT
DTSTART;TZID=America/Chicago:20190112T110000
DTEND;TZID=America/Chicago:20190112T120000
DTSTAMP:20260419T215246
CREATED:20181216T215303Z
LAST-MODIFIED:20181216T215303Z
UID:27868-1547290800-1547294400@birminghammommy.com
SUMMARY:Storytime and Activities Featuring Love\, Z
DESCRIPTION:A robot named Z discovers a message signed “Love\, Beatrice\,” and decides to find out what “love” means. They embark on an adventure that leads to Beatrice\, and back home again\, where love was hiding all along. Get a coupon from our Café for a grilled cheese sandwich with milk or juice for $4!
URL:https://birminghammommy.com/event/storytime-and-activities-featuring-love-z/
LOCATION:Barnes and Noble Summit\, 201 Summit Blvd\, Suite 100\, Birmingham\, AL\, 35243
GEO:33.446009;-86.7296901
X-APPLE-STRUCTURED-LOCATION;VALUE=URI;X-ADDRESS=Barnes and Noble Summit 201 Summit Blvd Suite 100 Birmingham AL 35243;X-APPLE-RADIUS=500;X-TITLE=201 Summit Blvd\, Suite 100:geo:-86.7296901,33.446009
END:VEVENT
BEGIN:VEVENT
DTSTART;TZID=America/Chicago:20190112T103000
DTEND;TZID=America/Chicago:20190112T111500
DTSTAMP:20260419T215246
CREATED:20181217T001835Z
LAST-MODIFIED:20181217T001835Z
UID:28015-1547289000-1547291700@birminghammommy.com
SUMMARY:Family Storytime with Mr Mac
DESCRIPTION:Age group:   Early Learners (Birth – 4K)\nEvent type:  Storytime\, Children’s Events\n\nSing and dance along with songs\, stories\, and puppets
URL:https://birminghammommy.com/event/family-storytime-with-mr-mac-10/2019-01-12/
LOCATION:Emmet O’ Neal Library\, 50 Oak Street\, Mountain Brook\, AL\, 35213
GEO:33.5012941;-86.7565774
X-APPLE-STRUCTURED-LOCATION;VALUE=URI;X-ADDRESS=Emmet O’ Neal Library 50 Oak Street Mountain Brook AL 35213;X-APPLE-RADIUS=500;X-TITLE=50 Oak Street:geo:-86.7565774,33.5012941
END:VEVENT
BEGIN:VEVENT
DTSTART;TZID=America/Chicago:20190112T100000
DTEND;TZID=America/Chicago:20190112T140000
DTSTAMP:20260419T215246
CREATED:20181216T225749Z
LAST-MODIFIED:20181216T225749Z
UID:27913-1547287200-1547301600@birminghammommy.com
SUMMARY:Mt Laurel Crafty Saturday
DESCRIPTION:Drop in to make a craft at the library. All ages with parent help. Registration is not required but supplies are limited.
URL:https://birminghammommy.com/event/mt-laurel-crafty-saturday-3/
LOCATION:Mt Laurel Library\, 111 Olmsted St\, Birmingham\, AL\, 35242
GEO:33.4096347;-86.6292618
X-APPLE-STRUCTURED-LOCATION;VALUE=URI;X-ADDRESS=Mt Laurel Library 111 Olmsted St Birmingham AL 35242;X-APPLE-RADIUS=500;X-TITLE=111 Olmsted St:geo:-86.6292618,33.4096347
END:VEVENT
BEGIN:VEVENT
DTSTART;TZID=America/Chicago:20190112T090000
DTEND;TZID=America/Chicago:20190112T163000
DTSTAMP:20260419T215246
CREATED:20190201T012553Z
LAST-MODIFIED:20190201T012553Z
UID:28129-1547283600-1547310600@birminghammommy.com
SUMMARY:Treble at the Museum!
DESCRIPTION:Treble at the Museum! \nSaturday\, January 12\, 2019    9-4:30 pm \nTry out a variety of instruments! \nJam with our CHOM musicians! \nAssemble a musical craft! \n  \n 
URL:https://birminghammommy.com/event/treble-at-the-museum/
LOCATION:Children’s Hands-On Museum\, 2213 University Blvd.\, Tuscaloosa\, AL\, 35401\, United States
ATTACH;FMTTYPE=image/jpeg:https://birminghammommy.com/wp-content/uploads/2019/01/Treble-at-the-Museum-1-12-19-RG.jpg
END:VEVENT
BEGIN:VEVENT
DTSTART;TZID=America/Chicago:20190111T193000
DTEND;TZID=America/Chicago:20190111T220000
DTSTAMP:20260419T215246
CREATED:20190105T170140Z
LAST-MODIFIED:20190105T170140Z
UID:28126-1547235000-1547244000@birminghammommy.com
SUMMARY:Bulls\, Broncs and Barrels
DESCRIPTION:Celebrate an American tradition this winter as the Lone Star Rodeo Company brings its BULLS\, BRONCS\, & BARRELS TOUR to the Agri-Business Center for two nights of competition. The events get underway at 7:30 p.m. including Bareback Bronc Riding\, Saddle Bronc Riding\, Brahma Bull Riding\, and Cowgirls’ Barrel Racing. Added attraction will be hilarious rodeo clown the Mighty Mike Wentworth. \n\nPurchase at Door\nOpens at 6:00 p.m.\n​Event Begins 7:30 p.m.\nAdults\, $15\nChildren (Ages 4-12)\, $10
URL:https://birminghammommy.com/event/bulls-broncs-and-barrels/2019-01-11/
LOCATION:Blount County-Oneonta Agri-Business Center\, 500 New Street\, Oneonta\, AL\, 35121
GEO:33.9453185;-86.4704054
X-APPLE-STRUCTURED-LOCATION;VALUE=URI;X-ADDRESS=Blount County-Oneonta Agri-Business Center 500 New Street Oneonta AL 35121;X-APPLE-RADIUS=500;X-TITLE=500 New Street:geo:-86.4704054,33.9453185
END:VEVENT
BEGIN:VEVENT
DTSTART;TZID=America/Chicago:20190111T153000
DTEND;TZID=America/Chicago:20190111T161500
DTSTAMP:20260419T215246
CREATED:20181216T141930Z
LAST-MODIFIED:20181216T141930Z
UID:27747-1547220600-1547223300@birminghammommy.com
SUMMARY:Bingo a go go
DESCRIPTION:(All Ages) Win prizes and try your luck on our family fun after-school B-I-N-G-O!
URL:https://birminghammommy.com/event/bingo-a-go-go-2/
LOCATION:Homewood Public Library\, 1721 Oxmoor Road\, Homewood\, AL\, 35209\, United States
GEO:33.4750533;-86.795404
X-APPLE-STRUCTURED-LOCATION;VALUE=URI;X-ADDRESS=Homewood Public Library 1721 Oxmoor Road Homewood AL 35209 United States;X-APPLE-RADIUS=500;X-TITLE=1721 Oxmoor Road:geo:-86.795404,33.4750533
END:VEVENT
BEGIN:VEVENT
DTSTART;TZID=America/Chicago:20190111T103000
DTEND;TZID=America/Chicago:20190111T111500
DTSTAMP:20260419T215246
CREATED:20181216T141635Z
LAST-MODIFIED:20181216T141635Z
UID:27745-1547202600-1547205300@birminghammommy.com
SUMMARY:Sensory Play Day
DESCRIPTION:(Preschool) Join us for multiple stations and activities that will stimulate the senses and promote learning in a sensory-inclusive atmosphere.
URL:https://birminghammommy.com/event/sensory-play-day/
LOCATION:Homewood Public Library\, 1721 Oxmoor Road\, Homewood\, AL\, 35209\, United States
GEO:33.4750533;-86.795404
X-APPLE-STRUCTURED-LOCATION;VALUE=URI;X-ADDRESS=Homewood Public Library 1721 Oxmoor Road Homewood AL 35209 United States;X-APPLE-RADIUS=500;X-TITLE=1721 Oxmoor Road:geo:-86.795404,33.4750533
END:VEVENT
BEGIN:VEVENT
DTSTART;TZID=America/Chicago:20190111T093000
DTEND;TZID=America/Chicago:20190111T100000
DTSTAMP:20260419T215246
CREATED:20181216T141514Z
LAST-MODIFIED:20181216T141514Z
UID:27743-1547199000-1547200800@birminghammommy.com
SUMMARY:Sensory Storytime
DESCRIPTION:(Preschool) Join Ms. Laura for books\, songs\, and activities that stimulate the senses and promote learning in a sensory-inclusive atmosphere. Register online.
URL:https://birminghammommy.com/event/sensory-storytime-9/
LOCATION:Homewood Public Library\, 1721 Oxmoor Road\, Homewood\, AL\, 35209\, United States
GEO:33.4750533;-86.795404
X-APPLE-STRUCTURED-LOCATION;VALUE=URI;X-ADDRESS=Homewood Public Library 1721 Oxmoor Road Homewood AL 35209 United States;X-APPLE-RADIUS=500;X-TITLE=1721 Oxmoor Road:geo:-86.795404,33.4750533
END:VEVENT
BEGIN:VEVENT
DTSTART;TZID=America/Chicago:20190110T180000
DTEND;TZID=America/Chicago:20190110T190000
DTSTAMP:20260419T215246
CREATED:20181216T014535Z
LAST-MODIFIED:20181216T014535Z
UID:27629-1547143200-1547146800@birminghammommy.com
SUMMARY:Family Yoga Homewood Library
DESCRIPTION:(All Ages) Family yoga provides children\, parents\, and caregivers with quality time to practice yoga together and have fun!
URL:https://birminghammommy.com/event/family-yoga-homewood-library/
LOCATION:Homewood Public Library\, 1721 Oxmoor Road\, Homewood\, AL\, 35209\, United States
GEO:33.4750533;-86.795404
X-APPLE-STRUCTURED-LOCATION;VALUE=URI;X-ADDRESS=Homewood Public Library 1721 Oxmoor Road Homewood AL 35209 United States;X-APPLE-RADIUS=500;X-TITLE=1721 Oxmoor Road:geo:-86.795404,33.4750533
END:VEVENT
BEGIN:VEVENT
DTSTART;TZID=America/Chicago:20190110T173000
DTEND;TZID=America/Chicago:20190110T193000
DTSTAMP:20260419T215246
CREATED:20181216T225633Z
LAST-MODIFIED:20181216T225633Z
UID:27911-1547141400-1547148600@birminghammommy.com
SUMMARY:Family Game Night North Shelby
DESCRIPTION:Drop by the Children’s Department between 6:00 pm – 7:30 pm and play some board games together and with other families! The librarian will be available to teach a game and demonstrate others as well! Families can play with each other and with other Family Fun Night friends. The classics will be on hand as well. All ages with caregivers. No registration. Snacks will be available.
URL:https://birminghammommy.com/event/family-game-night-north-shelby/
LOCATION:North Shelby Library\, 5521 Cahaba Valley Road\, Birmingham\, AL\, 35242
GEO:33.3646429;-86.7165499
X-APPLE-STRUCTURED-LOCATION;VALUE=URI;X-ADDRESS=North Shelby Library 5521 Cahaba Valley Road Birmingham AL 35242;X-APPLE-RADIUS=500;X-TITLE=5521 Cahaba Valley Road:geo:-86.7165499,33.3646429
END:VEVENT
BEGIN:VEVENT
DTSTART;TZID=America/Chicago:20190110T153000
DTEND;TZID=America/Chicago:20190110T171500
DTSTAMP:20260419T215246
CREATED:20181217T001103Z
LAST-MODIFIED:20181217T001103Z
UID:28013-1547134200-1547140500@birminghammommy.com
SUMMARY:SNaP at Emmet O Neal
DESCRIPTION:Age group:   Upper Elementary (Grades 3-6)\nEvent type:  Children’s Events\nGame On!
URL:https://birminghammommy.com/event/snap-at-emmet-o-neal/
LOCATION:Emmet O’ Neal Library\, 50 Oak Street\, Mountain Brook\, AL\, 35213
GEO:33.5012941;-86.7565774
X-APPLE-STRUCTURED-LOCATION;VALUE=URI;X-ADDRESS=Emmet O’ Neal Library 50 Oak Street Mountain Brook AL 35213;X-APPLE-RADIUS=500;X-TITLE=50 Oak Street:geo:-86.7565774,33.5012941
END:VEVENT
BEGIN:VEVENT
DTSTART;TZID=America/Chicago:20190110T103000
DTEND;TZID=America/Chicago:20190110T105000
DTSTAMP:20260419T215246
CREATED:20181217T000917Z
LAST-MODIFIED:20181217T000917Z
UID:28004-1547116200-1547117400@birminghammommy.com
SUMMARY:Patty Cake Storytime Emmet O Neal
DESCRIPTION:0-12 months with caregiver. Early language enrichment program composed of stories\, rhymes\, and songs designed to nurture the bond between caregiver and baby.
URL:https://birminghammommy.com/event/patty-cake-storytime-emmet-o-neal/2019-01-10/
LOCATION:Emmet O’ Neal Library\, 50 Oak Street\, Mountain Brook\, AL\, 35213
GEO:33.5012941;-86.7565774
X-APPLE-STRUCTURED-LOCATION;VALUE=URI;X-ADDRESS=Emmet O’ Neal Library 50 Oak Street Mountain Brook AL 35213;X-APPLE-RADIUS=500;X-TITLE=50 Oak Street:geo:-86.7565774,33.5012941
END:VEVENT
BEGIN:VEVENT
DTSTART;TZID=America/Chicago:20190110T100000
DTEND;TZID=America/Chicago:20190110T103000
DTSTAMP:20260419T215246
CREATED:20190105T151417Z
LAST-MODIFIED:20190105T151417Z
UID:28113-1547114400-1547116200@birminghammommy.com
SUMMARY:Book Babies - Birth to 18 months
DESCRIPTION:Book Babies offers a special parent-child time with short and engaging stories that promotes early literacy. Ages birth to 18 months.
URL:https://birminghammommy.com/event/book-babies-birth-to-18-months/2019-01-10/
LOCATION:Vestavia Hills Library in the Forest\, 1221 Montgomery Hwy\, Vestavia Hills Library\, AL\, 35216
GEO:33.4311673;-86.7875936
X-APPLE-STRUCTURED-LOCATION;VALUE=URI;X-ADDRESS=Vestavia Hills Library in the Forest 1221 Montgomery Hwy Vestavia Hills Library AL 35216;X-APPLE-RADIUS=500;X-TITLE=1221 Montgomery Hwy:geo:-86.7875936,33.4311673
END:VEVENT
BEGIN:VEVENT
DTSTART;TZID=America/Chicago:20190110T093000
DTEND;TZID=America/Chicago:20190110T120000
DTSTAMP:20260419T215246
CREATED:20190105T150602Z
LAST-MODIFIED:20190105T150602Z
UID:28108-1547112600-1547121600@birminghammommy.com
SUMMARY:L.I.F.T
DESCRIPTION:Join fellow preschoolers and their caregivers for social play with tents\, tunnels and much more. Playgroups encouraged!
URL:https://birminghammommy.com/event/l-i-f-t/2019-01-10/
LOCATION:Vestavia Hills Library in the Forest\, 1221 Montgomery Hwy\, Vestavia Hills Library\, AL\, 35216
GEO:33.4311673;-86.7875936
X-APPLE-STRUCTURED-LOCATION;VALUE=URI;X-ADDRESS=Vestavia Hills Library in the Forest 1221 Montgomery Hwy Vestavia Hills Library AL 35216;X-APPLE-RADIUS=500;X-TITLE=1221 Montgomery Hwy:geo:-86.7875936,33.4311673
END:VEVENT
BEGIN:VEVENT
DTSTART;TZID=America/Chicago:20190110T093000
DTEND;TZID=America/Chicago:20190110T095000
DTSTAMP:20260419T215246
CREATED:20181217T000646Z
LAST-MODIFIED:20181217T000646Z
UID:27995-1547112600-1547113800@birminghammommy.com
SUMMARY:Patty Cake Storytime
DESCRIPTION:0-12 months with a caregiver. Early language enrichment program composed of stories\, rhymes\, and songs designed to nurture the bond between caregiver and baby.
URL:https://birminghammommy.com/event/patty-cake-storytime-5/2019-01-10/
LOCATION:Emmet O’ Neal Library\, 50 Oak Street\, Mountain Brook\, AL\, 35213
GEO:33.5012941;-86.7565774
X-APPLE-STRUCTURED-LOCATION;VALUE=URI;X-ADDRESS=Emmet O’ Neal Library 50 Oak Street Mountain Brook AL 35213;X-APPLE-RADIUS=500;X-TITLE=50 Oak Street:geo:-86.7565774,33.5012941
END:VEVENT
BEGIN:VEVENT
DTSTART;TZID=America/Chicago:20190109T153000
DTEND;TZID=America/Chicago:20190109T161500
DTSTAMP:20260419T215246
CREATED:20181216T142318Z
LAST-MODIFIED:20181216T142318Z
UID:27751-1547047800-1547050500@birminghammommy.com
SUMMARY:Kids Create: Sewing Circle
DESCRIPTION:(K-5 Grade) Come and learn basic sewing skills and create your own pillow friend.
URL:https://birminghammommy.com/event/kids-create-sewing-circle/
LOCATION:Homewood Public Library\, 1721 Oxmoor Road\, Homewood\, AL\, 35209\, United States
GEO:33.4750533;-86.795404
X-APPLE-STRUCTURED-LOCATION;VALUE=URI;X-ADDRESS=Homewood Public Library 1721 Oxmoor Road Homewood AL 35209 United States;X-APPLE-RADIUS=500;X-TITLE=1721 Oxmoor Road:geo:-86.795404,33.4750533
END:VEVENT
BEGIN:VEVENT
DTSTART;TZID=America/Chicago:20190109T133000
DTEND;TZID=America/Chicago:20190109T141500
DTSTAMP:20260419T215246
CREATED:20181216T235922Z
LAST-MODIFIED:20181216T235922Z
UID:27986-1547040600-1547043300@birminghammommy.com
SUMMARY:Movers and Makers
DESCRIPTION:Preschoolers ages 3-4 Build cooperation\, reading\, and school readiness skills.
URL:https://birminghammommy.com/event/movers-and-makers-4/2019-01-09/
LOCATION:Emmet O’ Neal Library\, 50 Oak Street\, Mountain Brook\, AL\, 35213
GEO:33.5012941;-86.7565774
X-APPLE-STRUCTURED-LOCATION;VALUE=URI;X-ADDRESS=Emmet O’ Neal Library 50 Oak Street Mountain Brook AL 35213;X-APPLE-RADIUS=500;X-TITLE=50 Oak Street:geo:-86.7565774,33.5012941
END:VEVENT
BEGIN:VEVENT
DTSTART;TZID=America/Chicago:20190109T103000
DTEND;TZID=America/Chicago:20190109T111500
DTSTAMP:20260419T215246
CREATED:20190105T145618Z
LAST-MODIFIED:20190105T145618Z
UID:28103-1547029800-1547032500@birminghammommy.com
SUMMARY:Story Friends
DESCRIPTION:Join Ms. Lisa and see your favorite stories come to life! Ages 5 and under.
URL:https://birminghammommy.com/event/story-friends/2019-01-09/
LOCATION:Vestavia Hills Library in the Forest\, 1221 Montgomery Hwy\, Vestavia Hills Library\, AL\, 35216
GEO:33.4311673;-86.7875936
X-APPLE-STRUCTURED-LOCATION;VALUE=URI;X-ADDRESS=Vestavia Hills Library in the Forest 1221 Montgomery Hwy Vestavia Hills Library AL 35216;X-APPLE-RADIUS=500;X-TITLE=1221 Montgomery Hwy:geo:-86.7875936,33.4311673
END:VEVENT
BEGIN:VEVENT
DTSTART;TZID=America/Chicago:20190109T103000
DTEND;TZID=America/Chicago:20190109T110000
DTSTAMP:20260419T215246
CREATED:20181216T235624Z
LAST-MODIFIED:20181216T235624Z
UID:27977-1547029800-1547031600@birminghammommy.com
SUMMARY:Mother Goose Storytime Emmet O Neal
DESCRIPTION:12-24 months with caregiver. Stories\, songs\, and finger plays make up a lively 30 minute lap sit program designed especially for short attention spans.
URL:https://birminghammommy.com/event/mother-goose-storytime-emmet-o-neal/2019-01-09/
LOCATION:Emmet O’ Neal Library\, 50 Oak Street\, Mountain Brook\, AL\, 35213
GEO:33.5012941;-86.7565774
X-APPLE-STRUCTURED-LOCATION;VALUE=URI;X-ADDRESS=Emmet O’ Neal Library 50 Oak Street Mountain Brook AL 35213;X-APPLE-RADIUS=500;X-TITLE=50 Oak Street:geo:-86.7565774,33.5012941
END:VEVENT
BEGIN:VEVENT
DTSTART;TZID=America/Chicago:20190109T093000
DTEND;TZID=America/Chicago:20190109T100000
DTSTAMP:20260419T215246
CREATED:20181216T235111Z
LAST-MODIFIED:20181216T235111Z
UID:27968-1547026200-1547028000@birminghammommy.com
SUMMARY:Mother Goose Storytime
DESCRIPTION:12-24 months with a caregiver. Stories\, songs\, and finger plays make up a lively 30 minute lap sit program designed especially for short attention spans.
URL:https://birminghammommy.com/event/mother-goose-storytime-7/2019-01-09/
LOCATION:Emmet O’ Neal Library\, 50 Oak Street\, Mountain Brook\, AL\, 35213
GEO:33.5012941;-86.7565774
X-APPLE-STRUCTURED-LOCATION;VALUE=URI;X-ADDRESS=Emmet O’ Neal Library 50 Oak Street Mountain Brook AL 35213;X-APPLE-RADIUS=500;X-TITLE=50 Oak Street:geo:-86.7565774,33.5012941
END:VEVENT
BEGIN:VEVENT
DTSTART;TZID=America/Chicago:20190108T183000
DTEND;TZID=America/Chicago:20190108T190000
DTSTAMP:20260419T215246
CREATED:20190105T145452Z
LAST-MODIFIED:20190105T145452Z
UID:28099-1546972200-1546974000@birminghammommy.com
SUMMARY:PJ Storytime
DESCRIPTION:Wear your pajamas and join Ms. Courtney for exciting stories\, crafts and snacks before bedtime!
URL:https://birminghammommy.com/event/pj-storytime-5/2019-01-08/
LOCATION:Vestavia Hills Library in the Forest\, 1221 Montgomery Hwy\, Vestavia Hills Library\, AL\, 35216
GEO:33.4311673;-86.7875936
X-APPLE-STRUCTURED-LOCATION;VALUE=URI;X-ADDRESS=Vestavia Hills Library in the Forest 1221 Montgomery Hwy Vestavia Hills Library AL 35216;X-APPLE-RADIUS=500;X-TITLE=1221 Montgomery Hwy:geo:-86.7875936,33.4311673
END:VEVENT
BEGIN:VEVENT
DTSTART;TZID=America/Chicago:20190108T173000
DTEND;TZID=America/Chicago:20190108T190000
DTSTAMP:20260419T215246
CREATED:20181216T234825Z
LAST-MODIFIED:20181216T234825Z
UID:27966-1546968600-1546974000@birminghammommy.com
SUMMARY:Family Night at Emmet O Neal
DESCRIPTION:Miss Kit’s Bubble School All ages dinner @ 5:30 and show @ 6:00
URL:https://birminghammommy.com/event/family-night-at-emmet-o-neal/
LOCATION:Emmet O’ Neal Library\, 50 Oak Street\, Mountain Brook\, AL\, 35213
GEO:33.5012941;-86.7565774
X-APPLE-STRUCTURED-LOCATION;VALUE=URI;X-ADDRESS=Emmet O’ Neal Library 50 Oak Street Mountain Brook AL 35213;X-APPLE-RADIUS=500;X-TITLE=50 Oak Street:geo:-86.7565774,33.5012941
END:VEVENT
BEGIN:VEVENT
DTSTART;TZID=America/Chicago:20190108T163000
DTEND;TZID=America/Chicago:20190108T173000
DTSTAMP:20260419T215246
CREATED:20181216T135721Z
LAST-MODIFIED:20181216T135912Z
UID:27700-1546965000-1546968600@birminghammommy.com
SUMMARY:Girls Who Code
DESCRIPTION:This national club is geared towards empowering girls grades 4-12 who are interested in the computer science field. \n\n\n\n\n\n\nNo registration required\, but participants are encouraged to bring their laptops.
URL:https://birminghammommy.com/event/girls-who-code-6/2019-01-08/
LOCATION:Homewood Public Library\, 1721 Oxmoor Road\, Homewood\, AL\, 35209\, United States
GEO:33.4750533;-86.795404
X-APPLE-STRUCTURED-LOCATION;VALUE=URI;X-ADDRESS=Homewood Public Library 1721 Oxmoor Road Homewood AL 35209 United States;X-APPLE-RADIUS=500;X-TITLE=1721 Oxmoor Road:geo:-86.795404,33.4750533
END:VEVENT
BEGIN:VEVENT
DTSTART;TZID=America/Chicago:20190108T163000
DTEND;TZID=America/Chicago:20190108T170000
DTSTAMP:20260419T215246
CREATED:20181216T225458Z
LAST-MODIFIED:20181216T225458Z
UID:27906-1546965000-1546966800@birminghammommy.com
SUMMARY:Hello Hedgie
DESCRIPTION:Stop by to say hello to our pet hedgehog\, Oliver! We’ll take him out of his cage and feed him a few treats while you watch. All ages welcome. No registration required.
URL:https://birminghammommy.com/event/hello-hedgie-7/2019-01-08/
LOCATION:North Shelby Library\, 5521 Cahaba Valley Road\, Birmingham\, AL\, 35242
GEO:33.3646429;-86.7165499
X-APPLE-STRUCTURED-LOCATION;VALUE=URI;X-ADDRESS=North Shelby Library 5521 Cahaba Valley Road Birmingham AL 35242;X-APPLE-RADIUS=500;X-TITLE=5521 Cahaba Valley Road:geo:-86.7165499,33.3646429
END:VEVENT
BEGIN:VEVENT
DTSTART;TZID=America/Chicago:20190108T160000
DTEND;TZID=America/Chicago:20190108T173000
DTSTAMP:20260419T215246
CREATED:20181216T135150Z
LAST-MODIFIED:20181216T135150Z
UID:27696-1546963200-1546968600@birminghammommy.com
SUMMARY:Teen Drawing Class
DESCRIPTION:This four week long series is for teens who are interested in learning the basics of drawing. \n\n\n\n\n\n\nCan’t make it to all four sessions? No worries! Attend the sessions you can. All supplies provided. Open to 6th-12th graders. Register online. \nClass dates are: \nTuesday\, January 8\, from 4-5:30 p.m. in the Large Auditorium \nTuesday\, January 15\, from 4-5:30 p.m. in the Large Auditorium \nTuesday\, January 22\, from 4-5:30 p.m. in the Large Auditorium \nTuesday\, January 29\, from 4-5:30 p.m. in the Large Auditorium
URL:https://birminghammommy.com/event/teen-drawing-class/2019-01-08/
LOCATION:Homewood Public Library\, 1721 Oxmoor Road\, Homewood\, AL\, 35209\, United States
GEO:33.4750533;-86.795404
X-APPLE-STRUCTURED-LOCATION;VALUE=URI;X-ADDRESS=Homewood Public Library 1721 Oxmoor Road Homewood AL 35209 United States;X-APPLE-RADIUS=500;X-TITLE=1721 Oxmoor Road:geo:-86.795404,33.4750533
END:VEVENT
BEGIN:VEVENT
DTSTART;TZID=America/Chicago:20190108T153000
DTEND;TZID=America/Chicago:20190108T161500
DTSTAMP:20260419T215246
CREATED:20181216T234601Z
LAST-MODIFIED:20181216T234601Z
UID:27957-1546961400-1546964100@birminghammommy.com
SUMMARY:Library Out Loud
DESCRIPTION:Drop off your K-2nd graders for live-action stories\, puppet shows\, crafts\, snacks\, and games.
URL:https://birminghammommy.com/event/library-out-loud-3/2019-01-08/
LOCATION:Emmet O’ Neal Library\, 50 Oak Street\, Mountain Brook\, AL\, 35213
GEO:33.5012941;-86.7565774
X-APPLE-STRUCTURED-LOCATION;VALUE=URI;X-ADDRESS=Emmet O’ Neal Library 50 Oak Street Mountain Brook AL 35213;X-APPLE-RADIUS=500;X-TITLE=50 Oak Street:geo:-86.7565774,33.5012941
END:VEVENT
END:VCALENDAR