BEGIN:VCALENDAR
VERSION:2.0
PRODID:-//Birmingham Mommy - ECPv6.3.5//NONSGML v1.0//EN
CALSCALE:GREGORIAN
METHOD:PUBLISH
X-WR-CALNAME:Birmingham Mommy
X-ORIGINAL-URL:https://birminghammommy.com
X-WR-CALDESC:Events for Birmingham Mommy
REFRESH-INTERVAL;VALUE=DURATION:PT1H
X-Robots-Tag:noindex
X-PUBLISHED-TTL:PT1H
BEGIN:VTIMEZONE
TZID:America/Chicago
BEGIN:DAYLIGHT
TZOFFSETFROM:-0600
TZOFFSETTO:-0500
TZNAME:CDT
DTSTART:20190310T080000
END:DAYLIGHT
BEGIN:STANDARD
TZOFFSETFROM:-0500
TZOFFSETTO:-0600
TZNAME:CST
DTSTART:20191103T070000
END:STANDARD
END:VTIMEZONE
BEGIN:VEVENT
DTSTART;TZID=America/Chicago:20191001T093000
DTEND;TZID=America/Chicago:20191001T100000
DTSTAMP:20260423T145109
CREATED:20190922T122653Z
LAST-MODIFIED:20190922T122653Z
UID:31903-1569922200-1569924000@birminghammommy.com
SUMMARY:Wee Ones Storytime
DESCRIPTION:(Ages 0-3) Join Ms. Mary for a fun and energetic storytime for ages three and under. Small snack provided.
URL:https://birminghammommy.com/event/wee-ones-storytime-12/2019-10-01/
LOCATION:Homewood Public Library\, 1721 Oxmoor Road\, Homewood\, AL\, 35209\, United States
GEO:33.4750533;-86.795404
X-APPLE-STRUCTURED-LOCATION;VALUE=URI;X-ADDRESS=Homewood Public Library 1721 Oxmoor Road Homewood AL 35209 United States;X-APPLE-RADIUS=500;X-TITLE=1721 Oxmoor Road:geo:-86.795404,33.4750533
END:VEVENT
BEGIN:VEVENT
DTSTART;TZID=America/Chicago:20191001T103000
DTEND;TZID=America/Chicago:20191001T110000
DTSTAMP:20260423T145109
CREATED:20190922T122408Z
LAST-MODIFIED:20190922T122408Z
UID:31889-1569925800-1569927600@birminghammommy.com
SUMMARY:Wee Ones Storytime
DESCRIPTION:(Ages 0-3) Join Ms. Mary for a fun and energetic storytime for ages three and under. Small snack provided.
URL:https://birminghammommy.com/event/wee-ones-storytime-11/2019-10-01/
LOCATION:Homewood Public Library\, 1721 Oxmoor Road\, Homewood\, AL\, 35209\, United States
GEO:33.4750533;-86.795404
X-APPLE-STRUCTURED-LOCATION;VALUE=URI;X-ADDRESS=Homewood Public Library 1721 Oxmoor Road Homewood AL 35209 United States;X-APPLE-RADIUS=500;X-TITLE=1721 Oxmoor Road:geo:-86.795404,33.4750533
END:VEVENT
BEGIN:VEVENT
DTSTART;TZID=America/Chicago:20191001T140000
DTEND;TZID=America/Chicago:20191001T145500
DTSTAMP:20260423T145109
CREATED:20190922T122824Z
LAST-MODIFIED:20190922T122824Z
UID:31915-1569938400-1569941700@birminghammommy.com
SUMMARY:Homeschool Zoom into Science
DESCRIPTION:Zoom into science with the Homewood Public Library’s new microscopes\, which were purchased with a grant from the Homewood Rotary. \n\n\n\n\n\n\nAll supplies provided. Register online. Open to 4th-12th graders. \nTuesday\, October 1\, 2019\, from 2-3 p.m. in Room 101
URL:https://birminghammommy.com/event/homeschool-zoom-into-science-2/
LOCATION:Homewood Public Library\, 1721 Oxmoor Road\, Homewood\, AL\, 35209\, United States
GEO:33.4750533;-86.795404
X-APPLE-STRUCTURED-LOCATION;VALUE=URI;X-ADDRESS=Homewood Public Library 1721 Oxmoor Road Homewood AL 35209 United States;X-APPLE-RADIUS=500;X-TITLE=1721 Oxmoor Road:geo:-86.795404,33.4750533
END:VEVENT
BEGIN:VEVENT
DTSTART;TZID=America/Chicago:20191001T153000
DTEND;TZID=America/Chicago:20191001T163000
DTSTAMP:20260423T145109
CREATED:20190922T122930Z
LAST-MODIFIED:20190922T122930Z
UID:31917-1569943800-1569947400@birminghammommy.com
SUMMARY:Zoom into Science
DESCRIPTION:Zoom into science with the Homewood Public Library’s new microscopes\, which were purchased with a grant from the Homewood Rotary.
URL:https://birminghammommy.com/event/zoom-into-science/
LOCATION:Homewood Public Library\, 1721 Oxmoor Road\, Homewood\, AL\, 35209\, United States
GEO:33.4750533;-86.795404
X-APPLE-STRUCTURED-LOCATION;VALUE=URI;X-ADDRESS=Homewood Public Library 1721 Oxmoor Road Homewood AL 35209 United States;X-APPLE-RADIUS=500;X-TITLE=1721 Oxmoor Road:geo:-86.795404,33.4750533
END:VEVENT
BEGIN:VEVENT
DTSTART;TZID=America/Chicago:20191002T103000
DTEND;TZID=America/Chicago:20191002T110000
DTSTAMP:20260423T145109
CREATED:20190922T123148Z
LAST-MODIFIED:20190922T123148Z
UID:31919-1570012200-1570014000@birminghammommy.com
SUMMARY:Storytime at your Biblioteca
DESCRIPTION:(Preschool) Join us for a special bilingual storytime in English and Spanish!
URL:https://birminghammommy.com/event/storytime-at-your-biblioteca-7/2019-10-02/
LOCATION:Homewood Public Library\, 1721 Oxmoor Road\, Homewood\, AL\, 35209\, United States
GEO:33.4750533;-86.795404
X-APPLE-STRUCTURED-LOCATION;VALUE=URI;X-ADDRESS=Homewood Public Library 1721 Oxmoor Road Homewood AL 35209 United States;X-APPLE-RADIUS=500;X-TITLE=1721 Oxmoor Road:geo:-86.795404,33.4750533
END:VEVENT
BEGIN:VEVENT
DTSTART;TZID=America/Chicago:20191002T104500
DTEND;TZID=America/Chicago:20191002T113000
DTSTAMP:20260423T145109
CREATED:20190924T192648Z
LAST-MODIFIED:20190924T192648Z
UID:32086-1570013100-1570015800@birminghammommy.com
SUMMARY:Family Storytime with Mr Mac
DESCRIPTION:Stories\, puppets\, and lots of music for every member of the family.
URL:https://birminghammommy.com/event/family-storytime-with-mr-mac-23/2019-10-02/
LOCATION:AL
END:VEVENT
BEGIN:VEVENT
DTSTART;TZID=America/Chicago:20191002T153000
DTEND;TZID=America/Chicago:20191002T161500
DTSTAMP:20260423T145109
CREATED:20190922T123312Z
LAST-MODIFIED:20190922T123312Z
UID:31931-1570030200-1570032900@birminghammommy.com
SUMMARY:Kids Create: Sewing Circle
DESCRIPTION:(K-5 Grade) Make a cool project using simple stitches.
URL:https://birminghammommy.com/event/kids-create-sewing-circle-2/
LOCATION:Homewood Public Library\, 1721 Oxmoor Road\, Homewood\, AL\, 35209\, United States
GEO:33.4750533;-86.795404
X-APPLE-STRUCTURED-LOCATION;VALUE=URI;X-ADDRESS=Homewood Public Library 1721 Oxmoor Road Homewood AL 35209 United States;X-APPLE-RADIUS=500;X-TITLE=1721 Oxmoor Road:geo:-86.795404,33.4750533
END:VEVENT
BEGIN:VEVENT
DTSTART;TZID=America/Chicago:20191003T093000
DTEND;TZID=America/Chicago:20191003T110000
DTSTAMP:20260423T145109
CREATED:20190922T124355Z
LAST-MODIFIED:20190922T124355Z
UID:31933-1570095000-1570100400@birminghammommy.com
SUMMARY:Preschool Playtime
DESCRIPTION:(Preschool) We’ll provide the stations\, and you provide the imagination for a fun morning of play.
URL:https://birminghammommy.com/event/preschool-playtime-15/2019-10-03/
LOCATION:Homewood Public Library\, 1721 Oxmoor Road\, Homewood\, AL\, 35209\, United States
GEO:33.4750533;-86.795404
X-APPLE-STRUCTURED-LOCATION;VALUE=URI;X-ADDRESS=Homewood Public Library 1721 Oxmoor Road Homewood AL 35209 United States;X-APPLE-RADIUS=500;X-TITLE=1721 Oxmoor Road:geo:-86.795404,33.4750533
END:VEVENT
BEGIN:VEVENT
DTSTART;TZID=America/Chicago:20191003T103000
DTEND;TZID=America/Chicago:20191003T110000
DTSTAMP:20260423T145109
CREATED:20190924T192817Z
LAST-MODIFIED:20190924T192817Z
UID:32091-1570098600-1570100400@birminghammommy.com
SUMMARY:Baby Tales
DESCRIPTION:A special story program just for babies (birth to 18 months) and a caregiver. Stories\, fingerplays\, and music provide interaction for the babies and time for caregivers to talk and share with each other. \n\n \nFor ages birth to 18 months and a caregiver only. No registration required.
URL:https://birminghammommy.com/event/baby-tales-9/2019-10-03/
LOCATION:North Shelby Library\, 5521 Cahaba Valley Road\, Birmingham\, AL\, 35242
GEO:33.3646429;-86.7165499
X-APPLE-STRUCTURED-LOCATION;VALUE=URI;X-ADDRESS=North Shelby Library 5521 Cahaba Valley Road Birmingham AL 35242;X-APPLE-RADIUS=500;X-TITLE=5521 Cahaba Valley Road:geo:-86.7165499,33.3646429
END:VEVENT
BEGIN:VEVENT
DTSTART;TZID=America/Chicago:20191003T183000
DTEND;TZID=America/Chicago:20191003T191500
DTSTAMP:20260423T145109
CREATED:20190924T193015Z
LAST-MODIFIED:20190924T193015Z
UID:32094-1570127400-1570130100@birminghammommy.com
SUMMARY:Pajama Storytime
DESCRIPTION:Come in your PJs\, have some cookies\, and hear some wonderful bedtime tales.\n \nSuited for ages 3 and up. No Registration Required.
URL:https://birminghammommy.com/event/pajama-storytime-13/
LOCATION:North Shelby Library\, 5521 Cahaba Valley Road\, Birmingham\, AL\, 35242
GEO:33.3646429;-86.7165499
X-APPLE-STRUCTURED-LOCATION;VALUE=URI;X-ADDRESS=North Shelby Library 5521 Cahaba Valley Road Birmingham AL 35242;X-APPLE-RADIUS=500;X-TITLE=5521 Cahaba Valley Road:geo:-86.7165499,33.3646429
END:VEVENT
BEGIN:VEVENT
DTSTART;VALUE=DATE:20191004
DTEND;VALUE=DATE:20191007
DTSTAMP:20260423T145109
CREATED:20190815T173832Z
LAST-MODIFIED:20190815T173832Z
UID:31120-1570147200-1570406399@birminghammommy.com
SUMMARY:15th Annual Barber Vintage Festival
DESCRIPTION: The Barber Vintage Festival returns to the world-famous Barber Motorsports Park\, October 4 – 6. The largest vintage motorcycle festival in the country\, this three-day event features the Fan Zone\, stunt shows\, and vintage motorcycle racing. Make sure to also check out the Swap Meet with over 600 vendors and the on-track action\, hosted by the American Historic Racing Motorcycle Association. The Barber Vintage Motorsports Museum will extend its hours and host seminars all weekend long. Children 15 and under are admitted free with a ticketed adult.
URL:https://birminghammommy.com/event/15th-annual-barber-vintage-festival/
LOCATION:Barber Motorsports Park\, 6040 Barber Motorsports Parkway\, Birmingham\, AL\, 35094\, United States
ORGANIZER;CN="Zoom Motorsports":MAILTO:info@zoommoto.com
END:VEVENT
BEGIN:VEVENT
DTSTART;TZID=America/Chicago:20191004T100000
DTEND;TZID=America/Chicago:20191004T103000
DTSTAMP:20260423T145109
CREATED:20190922T124823Z
LAST-MODIFIED:20190922T124823Z
UID:31945-1570183200-1570185000@birminghammommy.com
SUMMARY:Leaps and Bounds
DESCRIPTION:(Ages 2-4) Join us for a fun and energetic movement class. Register online.
URL:https://birminghammommy.com/event/leaps-and-bounds-10/2019-10-04/
LOCATION:Homewood Public Library\, 1721 Oxmoor Road\, Homewood\, AL\, 35209\, United States
GEO:33.4750533;-86.795404
X-APPLE-STRUCTURED-LOCATION;VALUE=URI;X-ADDRESS=Homewood Public Library 1721 Oxmoor Road Homewood AL 35209 United States;X-APPLE-RADIUS=500;X-TITLE=1721 Oxmoor Road:geo:-86.795404,33.4750533
END:VEVENT
BEGIN:VEVENT
DTSTART;TZID=America/Chicago:20191004T100000
DTEND;TZID=America/Chicago:20191004T103000
DTSTAMP:20260423T145109
CREATED:20190924T193329Z
LAST-MODIFIED:20190924T225412Z
UID:32096-1570183200-1570185000@birminghammommy.com
SUMMARY:Mt Laurel Toddler Tales
DESCRIPTION:Stories\, songs\, finger plays\, and more make up a lively 30 minute program designed especially for short attention spans and their caregiver. Registration begins two weeks prior to each storytime. Ages 36 months and younger.\n\nRegistration required.
URL:https://birminghammommy.com/event/mt-laurel-toddler-tales-14/2019-10-04/
LOCATION:Mt Laurel Library\, 111 Olmsted St\, Birmingham\, AL\, 35242
GEO:33.4096347;-86.6292618
X-APPLE-STRUCTURED-LOCATION;VALUE=URI;X-ADDRESS=Mt Laurel Library 111 Olmsted St Birmingham AL 35242;X-APPLE-RADIUS=500;X-TITLE=111 Olmsted St:geo:-86.6292618,33.4096347
END:VEVENT
BEGIN:VEVENT
DTSTART;TZID=America/Chicago:20191004T103000
DTEND;TZID=America/Chicago:20191004T110000
DTSTAMP:20260423T145109
CREATED:20190922T125247Z
LAST-MODIFIED:20190922T125247Z
UID:31950-1570185000-1570186800@birminghammommy.com
SUMMARY:Leaps and Bounds
DESCRIPTION:(Ages 2-4) Join us for a fun and energetic movement class. Register online.
URL:https://birminghammommy.com/event/leaps-and-bounds-11/2019-10-04/
LOCATION:Homewood Public Library\, 1721 Oxmoor Road\, Homewood\, AL\, 35209\, United States
GEO:33.4750533;-86.795404
X-APPLE-STRUCTURED-LOCATION;VALUE=URI;X-ADDRESS=Homewood Public Library 1721 Oxmoor Road Homewood AL 35209 United States;X-APPLE-RADIUS=500;X-TITLE=1721 Oxmoor Road:geo:-86.795404,33.4750533
END:VEVENT
BEGIN:VEVENT
DTSTART;TZID=America/Chicago:20191004T110000
DTEND;TZID=America/Chicago:20191004T120000
DTSTAMP:20260423T145109
CREATED:20190925T123933Z
LAST-MODIFIED:20190925T123933Z
UID:32101-1570186800-1570190400@birminghammommy.com
SUMMARY:Mt Laurel Storytime
DESCRIPTION:Stories\, music\, and more for every member of the family. All ages. No registration required.
URL:https://birminghammommy.com/event/mt-laurel-storytime-13/2019-10-04/
LOCATION:Mt Laurel Library\, 111 Olmsted St\, Birmingham\, AL\, 35242
GEO:33.4096347;-86.6292618
X-APPLE-STRUCTURED-LOCATION;VALUE=URI;X-ADDRESS=Mt Laurel Library 111 Olmsted St Birmingham AL 35242;X-APPLE-RADIUS=500;X-TITLE=111 Olmsted St:geo:-86.6292618,33.4096347
END:VEVENT
BEGIN:VEVENT
DTSTART;TZID=America/Chicago:20191004T183000
DTEND;TZID=America/Chicago:20191004T223000
DTSTAMP:20260423T145109
CREATED:20190924T184921Z
LAST-MODIFIED:20190924T184921Z
UID:32043-1570213800-1570228200@birminghammommy.com
SUMMARY:Tomb of the Risen Dead
DESCRIPTION:Enter\, Experience and Explore this year’s Tomb of the Risen Dead every Friday and Saturday night in October! Every year is a new discovery in this enchanted land. Witness a variety of incredible live entertainment\, including a fire dance show inside the caverns choreographed to a laser light show! There will also be above ground shows\, character quests\, a family-friendly movie playing in our outdoor movie\, and so much more! Buy tickets now and see why Tomb of the Risen Dead was ranked the “Best way to celebrate Halloween in Alabama” by Insider!
URL:https://birminghammommy.com/event/tomb-of-the-risen-dead-2/2019-10-04/
LOCATION:DeSoto Caverns\, 5181 DeSoto Caverns Pkwy\, Childersburg\, 35044\, United States
ATTACH;FMTTYPE=image/jpeg:https://birminghammommy.com/wp-content/uploads/2019/09/TORD-2019_FireSword_PosterFlex_v3.jpg
ORGANIZER;CN="DeSoto Caverns":MAILTO:info@desotocaverns.com
GEO:33.3039096;-86.2766668
X-APPLE-STRUCTURED-LOCATION;VALUE=URI;X-ADDRESS=DeSoto Caverns 5181 DeSoto Caverns Pkwy Childersburg 35044 United States;X-APPLE-RADIUS=500;X-TITLE=5181 DeSoto Caverns Pkwy:geo:-86.2766668,33.3039096
END:VEVENT
BEGIN:VEVENT
DTSTART;TZID=America/Chicago:20191005T090000
DTEND;TZID=America/Chicago:20191005T163000
DTSTAMP:20260423T145109
CREATED:20191002T173959Z
LAST-MODIFIED:20191002T173959Z
UID:32151-1570266000-1570293000@birminghammommy.com
SUMMARY:Monster Mischief at CHOM!
DESCRIPTION:Monster Mischief at CHOM! \nSaturday\, October 5\, 2019   9 – 4:30 pm \nMonster walk scavenger hunt \nMake a monster buddy! \nPlay games on the FX Game Zone! \n  \n 
URL:https://birminghammommy.com/event/monster-mischief-at-chom/
LOCATION:Children’s Hands-On Museum\, 2213 University Blvd.\, Tuscaloosa\, AL\, 35401\, United States
ATTACH;FMTTYPE=image/jpeg:https://birminghammommy.com/wp-content/uploads/2019/10/Monster-Mischief-10-5-1.jpg
END:VEVENT
BEGIN:VEVENT
DTSTART;TZID=America/Chicago:20191005T090000
DTEND;TZID=America/Chicago:20191005T170000
DTSTAMP:20260423T145109
CREATED:20190925T124614Z
LAST-MODIFIED:20190925T124614Z
UID:32104-1570266000-1570294800@birminghammommy.com
SUMMARY:All Day Lego Play
DESCRIPTION:The library provides the Legos\, the kids provide the imagination and creativity! Families are welcome to drop in anytime  to build spectacular creations. Creations will then go on display on the first floor of the library.
URL:https://birminghammommy.com/event/all-day-lego-play-6/
LOCATION:North Shelby Library\, 5521 Cahaba Valley Road\, Birmingham\, AL\, 35242
GEO:33.3646429;-86.7165499
X-APPLE-STRUCTURED-LOCATION;VALUE=URI;X-ADDRESS=North Shelby Library 5521 Cahaba Valley Road Birmingham AL 35242;X-APPLE-RADIUS=500;X-TITLE=5521 Cahaba Valley Road:geo:-86.7165499,33.3646429
END:VEVENT
BEGIN:VEVENT
DTSTART;TZID=America/Chicago:20191005T100000
DTEND;TZID=America/Chicago:20191005T140000
DTSTAMP:20260423T145109
CREATED:20190925T125322Z
LAST-MODIFIED:20190925T125322Z
UID:32106-1570269600-1570284000@birminghammommy.com
SUMMARY:Mt Laurel Craft Saturday
DESCRIPTION:Drop in to make a craft at the library. All ages with parent help. Registration is not required but supplies are limited.
URL:https://birminghammommy.com/event/mt-laurel-craft-saturday/
LOCATION:Mt Laurel Library\, 111 Olmsted St\, Birmingham\, AL\, 35242
GEO:33.4096347;-86.6292618
X-APPLE-STRUCTURED-LOCATION;VALUE=URI;X-ADDRESS=Mt Laurel Library 111 Olmsted St Birmingham AL 35242;X-APPLE-RADIUS=500;X-TITLE=111 Olmsted St:geo:-86.6292618,33.4096347
END:VEVENT
BEGIN:VEVENT
DTSTART;TZID=America/Chicago:20191005T100000
DTEND;TZID=America/Chicago:20191005T170000
DTSTAMP:20260423T145109
CREATED:20190920T000925Z
LAST-MODIFIED:20190920T000925Z
UID:31860-1570269600-1570294800@birminghammommy.com
SUMMARY:Pumpkin Patch Express
DESCRIPTION:Board our vintage train for a beautiful autumn ride through the scenic forests of Shelby County. Lots of fun awaits at the Pumpkin Patch as you take a hayride\, bounce in the inflatable bounce house\, get lost in the corn maze\, and participate in other family activities! Search our pumpkin patch to find your perfect pumpkin! \nUpgrade to a caboose ticket or locomotive ticket for a memorable experience and get an up close look at railroad operations! \nSnacks and drinks are available for purchase at the Gift Shop and at the Pumpkin Patch for cash only. \nPumpkins can be purchased when you purchase your tickets online\, the Calera Depot ticket window when you pick up your tickets\, or on location at the Pumpkin Patch for cash only. \nThe Pumpkin Patch Express train ride lasts approximately 1 ½ hours including train ride and time at the Pumpkin Patch. Please arrive 1 hour prior to your departure time to pick up your tickets at the Calera Depot\, use the restrooms at the Gift Shop\, and to get in line at your boarding location. Make sure to visit the exhibits in our Depot Museum\, our collection of railroad equipment in Clark Yard\, our working Signal Garden\, and our Gift Shop!
URL:https://birminghammommy.com/event/pumpkin-patch-express/2019-10-05/
LOCATION:Heart of Dixie Railroad Museum\, 1919 9th Street\, Calera\, AL\, 35040
GEO:33.0992637;-86.7502032
X-APPLE-STRUCTURED-LOCATION;VALUE=URI;X-ADDRESS=Heart of Dixie Railroad Museum 1919 9th Street Calera AL 35040;X-APPLE-RADIUS=500;X-TITLE=1919 9th Street:geo:-86.7502032,33.0992637
END:VEVENT
BEGIN:VEVENT
DTSTART;TZID=America/Chicago:20191005T103000
DTEND;TZID=America/Chicago:20191005T111500
DTSTAMP:20260423T145109
CREATED:20190922T125422Z
LAST-MODIFIED:20190922T125422Z
UID:31955-1570271400-1570274100@birminghammommy.com
SUMMARY:Family Yoga
DESCRIPTION:(All Ages) Spend quality time together with stretches and breathing exercises that the whole family can enjoy!
URL:https://birminghammommy.com/event/family-yoga-2/
LOCATION:Homewood Public Library\, 1721 Oxmoor Road\, Homewood\, AL\, 35209\, United States
GEO:33.4750533;-86.795404
X-APPLE-STRUCTURED-LOCATION;VALUE=URI;X-ADDRESS=Homewood Public Library 1721 Oxmoor Road Homewood AL 35209 United States;X-APPLE-RADIUS=500;X-TITLE=1721 Oxmoor Road:geo:-86.795404,33.4750533
END:VEVENT
BEGIN:VEVENT
DTSTART;TZID=America/Chicago:20191005T103000
DTEND;TZID=America/Chicago:20191005T113000
DTSTAMP:20260423T145109
CREATED:20190925T125649Z
LAST-MODIFIED:20190925T125649Z
UID:32108-1570271400-1570275000@birminghammommy.com
SUMMARY:La Hora Del Cuento
DESCRIPTION:Ven con tu familia a escuchar cuentos\, cantar y divertirnos en español! Esta evento es para niños de todas las edades. Niños menores de 12 años deben estar acompañados de sus padres.
URL:https://birminghammommy.com/event/la-hora-del-cuento-2/
LOCATION:North Shelby Library\, 5521 Cahaba Valley Road\, Birmingham\, AL\, 35242
GEO:33.3646429;-86.7165499
X-APPLE-STRUCTURED-LOCATION;VALUE=URI;X-ADDRESS=North Shelby Library 5521 Cahaba Valley Road Birmingham AL 35242;X-APPLE-RADIUS=500;X-TITLE=5521 Cahaba Valley Road:geo:-86.7165499,33.3646429
END:VEVENT
BEGIN:VEVENT
DTSTART;TZID=America/Chicago:20191005T150000
DTEND;TZID=America/Chicago:20191005T154500
DTSTAMP:20260423T145109
CREATED:20190922T130917Z
LAST-MODIFIED:20190922T130917Z
UID:31957-1570287600-1570290300@birminghammommy.com
SUMMARY:Code A Story
DESCRIPTION:(K-2 Grade) Learn coding basics through stories\, game and activities! Laptops will be provided.
URL:https://birminghammommy.com/event/code-a-story-3/
LOCATION:Homewood Public Library\, 1721 Oxmoor Road\, Homewood\, AL\, 35209\, United States
GEO:33.4750533;-86.795404
X-APPLE-STRUCTURED-LOCATION;VALUE=URI;X-ADDRESS=Homewood Public Library 1721 Oxmoor Road Homewood AL 35209 United States;X-APPLE-RADIUS=500;X-TITLE=1721 Oxmoor Road:geo:-86.795404,33.4750533
END:VEVENT
BEGIN:VEVENT
DTSTART;TZID=America/Chicago:20191006T100000
DTEND;TZID=America/Chicago:20191006T140000
DTSTAMP:20260423T145109
CREATED:20190924T191719Z
LAST-MODIFIED:20190924T191719Z
UID:32084-1570356000-1570370400@birminghammommy.com
SUMMARY:La Celebración
DESCRIPTION:Join the Zoo on Sunday\, October 6 from 10:00am until 2:00pm to celebrate the culture of Birmingham’s growing Hispanic and Latino community at La Celebración presented by Abogados Centro Legal! \nAnimals of Central and South America will be featured through bilingual keeper chats\, animal encounters\, and other activities throughout the Zoo. Guests are invited to come and enjoy special enrichment for the animals\, music\, kids activities and more! This event is in honor of National Hispanic Heritage Month\, but also a welcoming event for all parts of the Birmingham community. \nLa Celebración is a rain or shine event. Festivities are included in admission to the Zoo and free to Zoo Members! \n¡Únase al zoológico el domingo 6 de octubre de 10:00 a.m. a 2:00 p.m. para celebrar la cultura de la creciente comunidad hispana y latina de\nBirmingham en La Celebración presentada por Abogados Centro Legal! \nCelebra America Central y America Del Sur a través de los animales destacados y charlas especiales bilingües con los cuidadores! En adición\, disfruta de enriquecimiento especial para los animales\, actividades para niños\, música\, y mucho más! \nLa Celebración es un evento de lluvia o sol. ¡Las festividades están incluidas en la entrada al zoológico y son gratuitas para los miembros del zoológico! \n 
URL:https://birminghammommy.com/event/la-celebracion-2/
LOCATION:Birmingham Zoo\, 2630 Cahaba Road\, Birmingham \, AL\, 35223
GEO:33.4867334;-86.7789473
X-APPLE-STRUCTURED-LOCATION;VALUE=URI;X-ADDRESS=Birmingham Zoo 2630 Cahaba Road Birmingham  AL 35223;X-APPLE-RADIUS=500;X-TITLE=2630 Cahaba Road:geo:-86.7789473,33.4867334
END:VEVENT
BEGIN:VEVENT
DTSTART;TZID=America/Chicago:20191006T130000
DTEND;TZID=America/Chicago:20191006T160000
DTSTAMP:20260423T145109
CREATED:20190919T235749Z
LAST-MODIFIED:20190919T235749Z
UID:31779-1570366800-1570377600@birminghammommy.com
SUMMARY:Neverland Carnival
DESCRIPTION:The Neverland Carnival is back for year two! Join Birmingham Children’s Theatre Sunday\, October 6th for an afternoon of games\, crafts\, rides\, treats\, and tons of prizes! Joined by many of our favorite characters from the land where you never have to grow up\, your family will have a great time while helping BCT’s mission to educate\, enrich\, and entertain. All proceeds from the event will go to our 2019-2020 productions and help bring the magic of live theatre to underserved children across the state of Alabama. As an added bonus\, every ticket purchase is an automatic entry into a drawing for a night-on-the-town door prize. So grab a ticket today and we’ll see you at the theatre! \nYour ticket gets you admission to the event and a number of games\, crafts and snacks are available for no additional cost…including our very popular dance floor! Additional tickets for rides and games can be purchased in the event and there is silent auction with great deals around town for the entire family!
URL:https://birminghammommy.com/event/neverland-carnival/
LOCATION:Birmingham Children’s Theatre\, 2130 Richard Arrington Jr Blvd N\, Birmingham\, AL\, 35203
ATTACH;FMTTYPE=image/jpeg:https://birminghammommy.com/wp-content/uploads/2019/09/NC_EventGraphic.jpg
ORGANIZER;CN="Birmingham Children's Theatre":MAILTO:info@bct123.org
GEO:33.525709;-86.8101544
X-APPLE-STRUCTURED-LOCATION;VALUE=URI;X-ADDRESS=Birmingham Children’s Theatre 2130 Richard Arrington Jr Blvd N Birmingham AL 35203;X-APPLE-RADIUS=500;X-TITLE=2130 Richard Arrington Jr Blvd N:geo:-86.8101544,33.525709
END:VEVENT
BEGIN:VEVENT
DTSTART;TZID=America/Chicago:20191006T130000
DTEND;TZID=America/Chicago:20191006T170000
DTSTAMP:20260423T145109
CREATED:20190920T001040Z
LAST-MODIFIED:20190920T001040Z
UID:31865-1570366800-1570381200@birminghammommy.com
SUMMARY:Pumpkin Patch Express
DESCRIPTION:Board our vintage train for a beautiful autumn ride through the scenic forests of Shelby County. Lots of fun awaits at the Pumpkin Patch as you take a hayride\, bounce in the inflatable bounce house\, get lost in the corn maze\, and participate in other family activities! Search our pumpkin patch to find your perfect pumpkin! \nUpgrade to a caboose ticket or locomotive ticket for a memorable experience and get an up close look at railroad operations! \nSnacks and drinks are available for purchase at the Gift Shop and at the Pumpkin Patch for cash only. \nPumpkins can be purchased when you purchase your tickets online\, the Calera Depot ticket window when you pick up your tickets\, or on location at the Pumpkin Patch for cash only. \nThe Pumpkin Patch Express train ride lasts approximately 1 ½ hours including train ride and time at the Pumpkin Patch. Please arrive 1 hour prior to your departure time to pick up your tickets at the Calera Depot\, use the restrooms at the Gift Shop\, and to get in line at your boarding location. Make sure to visit the exhibits in our Depot Museum\, our collection of railroad equipment in Clark Yard\, our working Signal Garden\, and our Gift Shop! \nSundays in October departing at 1:00 PM\, 3:00 PM
URL:https://birminghammommy.com/event/pumpkin-patch-express-2/2019-10-06/
LOCATION:Heart of Dixie Railroad Museum\, 1919 9th Street\, Calera\, AL\, 35040
GEO:33.0992637;-86.7502032
X-APPLE-STRUCTURED-LOCATION;VALUE=URI;X-ADDRESS=Heart of Dixie Railroad Museum 1919 9th Street Calera AL 35040;X-APPLE-RADIUS=500;X-TITLE=1919 9th Street:geo:-86.7502032,33.0992637
END:VEVENT
BEGIN:VEVENT
DTSTART;TZID=America/Chicago:20191006T150000
DTEND;TZID=America/Chicago:20191006T154500
DTSTAMP:20260423T145109
CREATED:20190922T131103Z
LAST-MODIFIED:20190922T131103Z
UID:31959-1570374000-1570376700@birminghammommy.com
SUMMARY:Graphic Novel club
DESCRIPTION:(2-5 Grade) Come and talk about the graphic novels you are reading\, make a cool craft and eat delicious snacks.
URL:https://birminghammommy.com/event/graphic-novel-club/
LOCATION:Homewood Public Library\, 1721 Oxmoor Road\, Homewood\, AL\, 35209\, United States
GEO:33.4750533;-86.795404
X-APPLE-STRUCTURED-LOCATION;VALUE=URI;X-ADDRESS=Homewood Public Library 1721 Oxmoor Road Homewood AL 35209 United States;X-APPLE-RADIUS=500;X-TITLE=1721 Oxmoor Road:geo:-86.795404,33.4750533
END:VEVENT
BEGIN:VEVENT
DTSTART;TZID=America/Chicago:20191007T100000
DTEND;TZID=America/Chicago:20191007T104500
DTSTAMP:20260423T145109
CREATED:20190922T131221Z
LAST-MODIFIED:20190922T131221Z
UID:31961-1570442400-1570445100@birminghammommy.com
SUMMARY:Homewood STEAM Club
DESCRIPTION:Live Animal Show and Dissecting Owl Pellets – Students will learn about invertebrates and vertebrates by meeting live animals. The children will also dissect owl pellets.
URL:https://birminghammommy.com/event/homewood-steam-club/
LOCATION:Homewood Public Library\, 1721 Oxmoor Road\, Homewood\, AL\, 35209\, United States
GEO:33.4750533;-86.795404
X-APPLE-STRUCTURED-LOCATION;VALUE=URI;X-ADDRESS=Homewood Public Library 1721 Oxmoor Road Homewood AL 35209 United States;X-APPLE-RADIUS=500;X-TITLE=1721 Oxmoor Road:geo:-86.795404,33.4750533
END:VEVENT
BEGIN:VEVENT
DTSTART;TZID=America/Chicago:20191007T103000
DTEND;TZID=America/Chicago:20191007T110000
DTSTAMP:20260423T145109
CREATED:20190922T131421Z
LAST-MODIFIED:20190922T131421Z
UID:31963-1570444200-1570446000@birminghammommy.com
SUMMARY:Storypalooza
DESCRIPTION:Join Ms. Cristina for an interactive and playful storytime to start off the week!
URL:https://birminghammommy.com/event/storypalooza-7/2019-10-07/
LOCATION:Homewood Public Library\, 1721 Oxmoor Road\, Homewood\, AL\, 35209\, United States
GEO:33.4750533;-86.795404
X-APPLE-STRUCTURED-LOCATION;VALUE=URI;X-ADDRESS=Homewood Public Library 1721 Oxmoor Road Homewood AL 35209 United States;X-APPLE-RADIUS=500;X-TITLE=1721 Oxmoor Road:geo:-86.795404,33.4750533
END:VEVENT
BEGIN:VEVENT
DTSTART;TZID=America/Chicago:20191007T103000
DTEND;TZID=America/Chicago:20191007T111500
DTSTAMP:20260423T145109
CREATED:20190925T125841Z
LAST-MODIFIED:20190925T125841Z
UID:32110-1570444200-1570446900@birminghammommy.com
SUMMARY:Toddler Tales
DESCRIPTION:Stories\, songs\, and fingerplays make up a lively 30 minute program designed especially for toddlers. Registration will begin one week prior to each storytime. \n\n \nAges 19-36 months. Registration required and opens 1 week before program.
URL:https://birminghammommy.com/event/toddler-tales-19/
LOCATION:North Shelby Library\, 5521 Cahaba Valley Road\, Birmingham\, AL\, 35242
GEO:33.3646429;-86.7165499
X-APPLE-STRUCTURED-LOCATION;VALUE=URI;X-ADDRESS=North Shelby Library 5521 Cahaba Valley Road Birmingham AL 35242;X-APPLE-RADIUS=500;X-TITLE=5521 Cahaba Valley Road:geo:-86.7165499,33.3646429
END:VEVENT
END:VCALENDAR