BEGIN:VCALENDAR
VERSION:2.0
PRODID:-//Birmingham Mommy - ECPv6.3.5//NONSGML v1.0//EN
CALSCALE:GREGORIAN
METHOD:PUBLISH
X-ORIGINAL-URL:https://birminghammommy.com
X-WR-CALDESC:Events for Birmingham Mommy
REFRESH-INTERVAL;VALUE=DURATION:PT1H
X-Robots-Tag:noindex
X-PUBLISHED-TTL:PT1H
BEGIN:VTIMEZONE
TZID:America/Chicago
BEGIN:DAYLIGHT
TZOFFSETFROM:-0600
TZOFFSETTO:-0500
TZNAME:CDT
DTSTART:20190310T080000
END:DAYLIGHT
BEGIN:STANDARD
TZOFFSETFROM:-0500
TZOFFSETTO:-0600
TZNAME:CST
DTSTART:20191103T070000
END:STANDARD
END:VTIMEZONE
BEGIN:VEVENT
DTSTART;TZID=America/Chicago:20190924T103000
DTEND;TZID=America/Chicago:20190924T111500
DTSTAMP:20260423T101223
CREATED:20190821T040955Z
LAST-MODIFIED:20190821T040955Z
UID:31466-1569321000-1569323700@birminghammommy.com
SUMMARY:Puppet Tales
DESCRIPTION:Registration begins 9/10/2019 at 8:00 AM\nA new storytime filled with puppet fun! Watch stories and songs come alive through puppets and make a small puppet to take! Registration will begin two weeks prior to program date.Designed for ages 2-5. Registration required.
URL:https://birminghammommy.com/event/puppet-tales-3/
LOCATION:North Shelby Library\, 5521 Cahaba Valley Road\, Birmingham\, AL\, 35242
GEO:33.3646429;-86.7165499
X-APPLE-STRUCTURED-LOCATION;VALUE=URI;X-ADDRESS=North Shelby Library 5521 Cahaba Valley Road Birmingham AL 35242;X-APPLE-RADIUS=500;X-TITLE=5521 Cahaba Valley Road:geo:-86.7165499,33.3646429
END:VEVENT
BEGIN:VEVENT
DTSTART;TZID=America/Chicago:20190924T153000
DTEND;TZID=America/Chicago:20190924T161500
DTSTAMP:20260423T101223
CREATED:20190820T125202Z
LAST-MODIFIED:20190820T125202Z
UID:31387-1569339000-1569341700@birminghammommy.com
SUMMARY:Library Out Loud
DESCRIPTION:Sign in and drop off your K-2nd graders for live-action stories\, puppet shows\, crafts\, snacks\, and games. \n 
URL:https://birminghammommy.com/event/library-out-loud-7/
LOCATION:Emmet O’ Neal Library\, 50 Oak Street\, Mountain Brook\, AL\, 35213
GEO:33.5012941;-86.7565774
X-APPLE-STRUCTURED-LOCATION;VALUE=URI;X-ADDRESS=Emmet O’ Neal Library 50 Oak Street Mountain Brook AL 35213;X-APPLE-RADIUS=500;X-TITLE=50 Oak Street:geo:-86.7565774,33.5012941
END:VEVENT
BEGIN:VEVENT
DTSTART;TZID=America/Chicago:20190924T154500
DTEND;TZID=America/Chicago:20190924T164500
DTSTAMP:20260423T101223
CREATED:20190818T001708Z
LAST-MODIFIED:20190818T001708Z
UID:31278-1569339900-1569343500@birminghammommy.com
SUMMARY:Tween Social Justice Book Club: Refugee by Alan Gratz
DESCRIPTION:4-7 Grade) This new book club for 4th-7th graders will feature books that focus on hot topics in the world today. \n\n\n\n\n\n\nSeptember’s book is Refugee by Alan Gratz. On the surface\, the characters of Alan Gratz’s Refugee have little in common. They live in different eras\, different countries\, and practice different religions. Yet when they are forced to flee their homes\, they all become refugees.
URL:https://birminghammommy.com/event/tween-social-justice-book-club-refugee-by-alan-gratz/
LOCATION:Homewood Public Library\, 1721 Oxmoor Road\, Homewood\, AL\, 35209\, United States
GEO:33.4750533;-86.795404
X-APPLE-STRUCTURED-LOCATION;VALUE=URI;X-ADDRESS=Homewood Public Library 1721 Oxmoor Road Homewood AL 35209 United States;X-APPLE-RADIUS=500;X-TITLE=1721 Oxmoor Road:geo:-86.795404,33.4750533
END:VEVENT
BEGIN:VEVENT
DTSTART;TZID=America/Chicago:20190924T180000
DTEND;TZID=America/Chicago:20190924T190000
DTSTAMP:20260423T101223
CREATED:20190820T125326Z
LAST-MODIFIED:20190820T125326Z
UID:31389-1569348000-1569351600@birminghammommy.com
SUMMARY:Bookmania
DESCRIPTION:Land of Stories: The Wishing Spell
URL:https://birminghammommy.com/event/bookmania-2/
LOCATION:Emmet O’ Neal Library\, 50 Oak Street\, Mountain Brook\, AL\, 35213
GEO:33.5012941;-86.7565774
X-APPLE-STRUCTURED-LOCATION;VALUE=URI;X-ADDRESS=Emmet O’ Neal Library 50 Oak Street Mountain Brook AL 35213;X-APPLE-RADIUS=500;X-TITLE=50 Oak Street:geo:-86.7565774,33.5012941
END:VEVENT
BEGIN:VEVENT
DTSTART;TZID=America/Chicago:20190924T180000
DTEND;TZID=America/Chicago:20190924T193000
DTSTAMP:20260423T101223
CREATED:20190826T171631Z
LAST-MODIFIED:20190826T171631Z
UID:31487-1569348000-1569353400@birminghammommy.com
SUMMARY:Family Game Night at Pelham Library
DESCRIPTION:Meets every 2nd and 4th Tuesday of the month. Offers card games and board games\, such as chess\, Monopoly\, Sorry\, Jenga\, and Uno\, as well as King of Tokyo\, One Night Ultimate Werewolf\, Munchkin\, and Spy Alley. Participants are also welcome to bring their own favorite games from home. \nTeens meet in Roberts Room A\, while families with small children meet in Roberts Room B.
URL:https://birminghammommy.com/event/family-game-night-at-pelham-library-5/
LOCATION:Pelham Public Library\, 2000 Pelham Park Boulevard\, Pelham\, AL\, 35124\, United States
ATTACH;FMTTYPE=image/jpeg:https://birminghammommy.com/wp-content/uploads/2019/08/family-game-night-2.jpg
END:VEVENT
BEGIN:VEVENT
DTSTART;TZID=America/Chicago:20190925T093000
DTEND;TZID=America/Chicago:20190925T100000
DTSTAMP:20260423T101223
CREATED:20190820T125443Z
LAST-MODIFIED:20190820T125443Z
UID:31391-1569403800-1569405600@birminghammommy.com
SUMMARY:Mother Goose Storytime
DESCRIPTION:Stories\, songs\, and finger plays make up a lively 30 minute lap sit program designed especially for short attention spans. 12-24 months with caregiver\n\nRegistration opens on Wednesday\, September 18 2019 at 9:00am
URL:https://birminghammommy.com/event/mother-goose-storytime-12/
LOCATION:Emmet O’ Neal Library\, 50 Oak Street\, Mountain Brook\, AL\, 35213
GEO:33.5012941;-86.7565774
X-APPLE-STRUCTURED-LOCATION;VALUE=URI;X-ADDRESS=Emmet O’ Neal Library 50 Oak Street Mountain Brook AL 35213;X-APPLE-RADIUS=500;X-TITLE=50 Oak Street:geo:-86.7565774,33.5012941
END:VEVENT
BEGIN:VEVENT
DTSTART;TZID=America/Chicago:20190925T103000
DTEND;TZID=America/Chicago:20190925T110000
DTSTAMP:20260423T101223
CREATED:20190818T001825Z
LAST-MODIFIED:20190818T001825Z
UID:31280-1569407400-1569409200@birminghammommy.com
SUMMARY:Storytime at Your Biblioteca
DESCRIPTION:Preschool) Join us for a special bilingual storytime in English and Spanish!
URL:https://birminghammommy.com/event/storytime-at-your-biblioteca-6/
LOCATION:Homewood Public Library\, 1721 Oxmoor Road\, Homewood\, AL\, 35209\, United States
GEO:33.4750533;-86.795404
X-APPLE-STRUCTURED-LOCATION;VALUE=URI;X-ADDRESS=Homewood Public Library 1721 Oxmoor Road Homewood AL 35209 United States;X-APPLE-RADIUS=500;X-TITLE=1721 Oxmoor Road:geo:-86.795404,33.4750533
END:VEVENT
BEGIN:VEVENT
DTSTART;TZID=America/Chicago:20190925T103000
DTEND;TZID=America/Chicago:20190925T110000
DTSTAMP:20260423T101223
CREATED:20190820T125539Z
LAST-MODIFIED:20190820T125539Z
UID:31393-1569407400-1569409200@birminghammommy.com
SUMMARY:Mother Goose Storytime
DESCRIPTION:Stories\, songs\, and finger plays make up a lively 30 minute lap sit program designed especially for short attention spans. 12-24 months with caregiver\n\nRegistration opens on Wednesday\, September 18 2019 at 9:00am
URL:https://birminghammommy.com/event/mother-goose-storytime-13/
LOCATION:Emmet O’ Neal Library\, 50 Oak Street\, Mountain Brook\, AL\, 35213
GEO:33.5012941;-86.7565774
X-APPLE-STRUCTURED-LOCATION;VALUE=URI;X-ADDRESS=Emmet O’ Neal Library 50 Oak Street Mountain Brook AL 35213;X-APPLE-RADIUS=500;X-TITLE=50 Oak Street:geo:-86.7565774,33.5012941
END:VEVENT
BEGIN:VEVENT
DTSTART;TZID=America/Chicago:20190925T104500
DTEND;TZID=America/Chicago:20190925T113000
DTSTAMP:20260423T101223
CREATED:20190821T041054Z
LAST-MODIFIED:20190821T041054Z
UID:31468-1569408300-1569411000@birminghammommy.com
SUMMARY:Family Storytime with Mr Mac
DESCRIPTION:Stories\, puppets\, and lots of music for every member of the family. \nAll ages. No registration.
URL:https://birminghammommy.com/event/family-storytime-with-mr-mac-22/
LOCATION:North Shelby Library\, 5521 Cahaba Valley Road\, Birmingham\, AL\, 35242
GEO:33.3646429;-86.7165499
X-APPLE-STRUCTURED-LOCATION;VALUE=URI;X-ADDRESS=North Shelby Library 5521 Cahaba Valley Road Birmingham AL 35242;X-APPLE-RADIUS=500;X-TITLE=5521 Cahaba Valley Road:geo:-86.7165499,33.3646429
END:VEVENT
BEGIN:VEVENT
DTSTART;TZID=America/Chicago:20190925T133000
DTEND;TZID=America/Chicago:20190925T141500
DTSTAMP:20260423T101223
CREATED:20190820T125702Z
LAST-MODIFIED:20190820T125702Z
UID:31395-1569418200-1569420900@birminghammommy.com
SUMMARY:Movers and Makers
DESCRIPTION:Build cooperation\, reading\, and school readiness skills. Ages 3-5 \nRegistration opens on Wednesday\, September 18 2019 at 9:00am
URL:https://birminghammommy.com/event/movers-and-makers-7/
LOCATION:Emmet O’ Neal Library\, 50 Oak Street\, Mountain Brook\, AL\, 35213
GEO:33.5012941;-86.7565774
X-APPLE-STRUCTURED-LOCATION;VALUE=URI;X-ADDRESS=Emmet O’ Neal Library 50 Oak Street Mountain Brook AL 35213;X-APPLE-RADIUS=500;X-TITLE=50 Oak Street:geo:-86.7565774,33.5012941
END:VEVENT
BEGIN:VEVENT
DTSTART;TZID=America/Chicago:20190925T153000
DTEND;TZID=America/Chicago:20190925T161500
DTSTAMP:20260423T101223
CREATED:20190818T002013Z
LAST-MODIFIED:20190818T002013Z
UID:31282-1569425400-1569428100@birminghammommy.com
SUMMARY:Kids Create: Comic Canvas Art
DESCRIPTION:(K-5 Grade) Celebrate National Comic Book Day by making a Comic piece of art!
URL:https://birminghammommy.com/event/kids-create-comic-canvas-art/
LOCATION:Homewood Public Library\, 1721 Oxmoor Road\, Homewood\, AL\, 35209\, United States
GEO:33.4750533;-86.795404
X-APPLE-STRUCTURED-LOCATION;VALUE=URI;X-ADDRESS=Homewood Public Library 1721 Oxmoor Road Homewood AL 35209 United States;X-APPLE-RADIUS=500;X-TITLE=1721 Oxmoor Road:geo:-86.795404,33.4750533
END:VEVENT
BEGIN:VEVENT
DTSTART;TZID=America/Chicago:20190926T093000
DTEND;TZID=America/Chicago:20190926T095000
DTSTAMP:20260423T101223
CREATED:20190820T125828Z
LAST-MODIFIED:20190820T125828Z
UID:31397-1569490200-1569491400@birminghammommy.com
SUMMARY:Patty Cake Storytime
DESCRIPTION:Early language enrichment program composed of stories\, rhymes\, and songs designed to nurture the bond between caregiver and baby. 0-12 months with a caregiver\n\nRegistration opens on Thursday\, September 19 2019 at 9:00am
URL:https://birminghammommy.com/event/patty-cake-storytime-11/
LOCATION:Emmet O’ Neal Library\, 50 Oak Street\, Mountain Brook\, AL\, 35213
GEO:33.5012941;-86.7565774
X-APPLE-STRUCTURED-LOCATION;VALUE=URI;X-ADDRESS=Emmet O’ Neal Library 50 Oak Street Mountain Brook AL 35213;X-APPLE-RADIUS=500;X-TITLE=50 Oak Street:geo:-86.7565774,33.5012941
END:VEVENT
BEGIN:VEVENT
DTSTART;TZID=America/Chicago:20190926T093000
DTEND;TZID=America/Chicago:20190926T110000
DTSTAMP:20260423T101223
CREATED:20190818T002407Z
LAST-MODIFIED:20190818T002407Z
UID:31284-1569490200-1569495600@birminghammommy.com
SUMMARY:Preschool Playtime
DESCRIPTION:(Preschool) We’ll provide the stations\, and you provide the imagination for a fun morning of play.
URL:https://birminghammommy.com/event/preschool-playtime-14/
LOCATION:Homewood Public Library\, 1721 Oxmoor Road\, Homewood\, AL\, 35209\, United States
GEO:33.4750533;-86.795404
X-APPLE-STRUCTURED-LOCATION;VALUE=URI;X-ADDRESS=Homewood Public Library 1721 Oxmoor Road Homewood AL 35209 United States;X-APPLE-RADIUS=500;X-TITLE=1721 Oxmoor Road:geo:-86.795404,33.4750533
END:VEVENT
BEGIN:VEVENT
DTSTART;TZID=America/Chicago:20190926T103000
DTEND;TZID=America/Chicago:20190926T105000
DTSTAMP:20260423T101223
CREATED:20190820T130004Z
LAST-MODIFIED:20190820T130004Z
UID:31399-1569493800-1569495000@birminghammommy.com
SUMMARY:Patty Cake Storytime
DESCRIPTION:Early language enrichment program composed of stories\, rhymes\, and songs designed to nurture the bond between caregiver and baby. 0-12 months with a caregiver \nRegistration opens on Thursday\, September 19 2019 at 9:00am
URL:https://birminghammommy.com/event/patty-cake-storytime-12/
LOCATION:Emmet O’ Neal Library\, 50 Oak Street\, Mountain Brook\, AL\, 35213
GEO:33.5012941;-86.7565774
X-APPLE-STRUCTURED-LOCATION;VALUE=URI;X-ADDRESS=Emmet O’ Neal Library 50 Oak Street Mountain Brook AL 35213;X-APPLE-RADIUS=500;X-TITLE=50 Oak Street:geo:-86.7565774,33.5012941
END:VEVENT
BEGIN:VEVENT
DTSTART;TZID=America/Chicago:20190926T153000
DTEND;TZID=America/Chicago:20190926T163000
DTSTAMP:20260423T101223
CREATED:20190820T130105Z
LAST-MODIFIED:20190820T130105Z
UID:31401-1569511800-1569515400@birminghammommy.com
SUMMARY:SNaP
DESCRIPTION:Party Games. 3-6th grade
URL:https://birminghammommy.com/event/snap-5/
LOCATION:Emmet O’ Neal Library\, 50 Oak Street\, Mountain Brook\, AL\, 35213
GEO:33.5012941;-86.7565774
X-APPLE-STRUCTURED-LOCATION;VALUE=URI;X-ADDRESS=Emmet O’ Neal Library 50 Oak Street Mountain Brook AL 35213;X-APPLE-RADIUS=500;X-TITLE=50 Oak Street:geo:-86.7565774,33.5012941
END:VEVENT
BEGIN:VEVENT
DTSTART;TZID=America/Chicago:20190926T180000
DTEND;TZID=America/Chicago:20190926T190000
DTSTAMP:20260423T101223
CREATED:20190906T131320Z
LAST-MODIFIED:20190906T131320Z
UID:31551-1569520800-1569524400@birminghammommy.com
SUMMARY:Manga Drawing Class for Teens & Tweens
DESCRIPTION:Ages 10-18 only. Local Birmingham artist Bo Hughins will teach teens and tweens how to draw manga. Limited seating. Call 205-620-6418 to register.
URL:https://birminghammommy.com/event/manga-drawing-class-for-teens-tweens/
LOCATION:Pelham Public Library\, 2000 Pelham Park Boulevard\, Pelham\, AL\, 35124\, United States
ATTACH;FMTTYPE=image/jpeg:https://birminghammommy.com/wp-content/uploads/2019/08/facebook-banner-manga-bham365-3.jpg
END:VEVENT
BEGIN:VEVENT
DTSTART;TZID=America/Chicago:20190926T183000
DTEND;TZID=America/Chicago:20190926T191500
DTSTAMP:20260423T101223
CREATED:20190821T041214Z
LAST-MODIFIED:20190821T041214Z
UID:31470-1569522600-1569525300@birminghammommy.com
SUMMARY:Pajama Storytime
DESCRIPTION:Come in your PJs\, have some cookies\, and hear some wonderful bedtime tales.\n \nSuited for ages 3 and up. No Registration Required.
URL:https://birminghammommy.com/event/pajama-storytime-12/
LOCATION:North Shelby Library\, 5521 Cahaba Valley Road\, Birmingham\, AL\, 35242
GEO:33.3646429;-86.7165499
X-APPLE-STRUCTURED-LOCATION;VALUE=URI;X-ADDRESS=North Shelby Library 5521 Cahaba Valley Road Birmingham AL 35242;X-APPLE-RADIUS=500;X-TITLE=5521 Cahaba Valley Road:geo:-86.7165499,33.3646429
END:VEVENT
BEGIN:VEVENT
DTSTART;TZID=America/Chicago:20190927T093000
DTEND;TZID=America/Chicago:20190927T100000
DTSTAMP:20260423T101223
CREATED:20190818T002540Z
LAST-MODIFIED:20190818T002540Z
UID:31286-1569576600-1569578400@birminghammommy.com
SUMMARY:Sensory Storytime
DESCRIPTION:(Preschool) Join Ms. Laura for books\, songs\, and activities that stimulate the senses and promote learning in a sensory-inclusive atmosphere. Registration is required. \n\n\n\n\n\n\nThis week’s theme is about Bedtime. Here are the stories we will be sharing: \nTuck Me In! by Dean Hacohen \nEveryone is Yawning by Anita Bijsterbosch
URL:https://birminghammommy.com/event/sensory-storytime-12/
LOCATION:Homewood Public Library\, 1721 Oxmoor Road\, Homewood\, AL\, 35209\, United States
GEO:33.4750533;-86.795404
X-APPLE-STRUCTURED-LOCATION;VALUE=URI;X-ADDRESS=Homewood Public Library 1721 Oxmoor Road Homewood AL 35209 United States;X-APPLE-RADIUS=500;X-TITLE=1721 Oxmoor Road:geo:-86.795404,33.4750533
END:VEVENT
BEGIN:VEVENT
DTSTART;TZID=America/Chicago:20190927T103000
DTEND;TZID=America/Chicago:20190927T110000
DTSTAMP:20260423T101223
CREATED:20190818T002746Z
LAST-MODIFIED:20190818T002746Z
UID:31288-1569580200-1569582000@birminghammommy.com
SUMMARY:Sensory Storytime
DESCRIPTION:(Preschool) Join Ms. Laura for books\, songs\, and activities that stimulate the senses and promote learning in a sensory-inclusive atmosphere. Registration is required. \n\n\n\n\n\n\nThis week’s theme is about Bedtime. Here are the stories we will be sharing: \nTuck Me In! by Dean Hacohen \nEveryone is Yawning by Anita Bijsterbosch
URL:https://birminghammommy.com/event/sensory-storytime-13/
LOCATION:Homewood Public Library\, 1721 Oxmoor Road\, Homewood\, AL\, 35209\, United States
GEO:33.4750533;-86.795404
X-APPLE-STRUCTURED-LOCATION;VALUE=URI;X-ADDRESS=Homewood Public Library 1721 Oxmoor Road Homewood AL 35209 United States;X-APPLE-RADIUS=500;X-TITLE=1721 Oxmoor Road:geo:-86.795404,33.4750533
END:VEVENT
BEGIN:VEVENT
DTSTART;TZID=America/Chicago:20190927T160000
DTEND;TZID=America/Chicago:20190927T173000
DTSTAMP:20260423T101223
CREATED:20190821T041318Z
LAST-MODIFIED:20190821T041318Z
UID:31472-1569600000-1569605400@birminghammommy.com
SUMMARY:Sock Puppets with a Heart
DESCRIPTION:Registration begins 9/13/2019 at 8:00 AM\n\nCome join us for a fun afternoon of puppet making and kindness! We will make a puppet to keep and several to donate to children in need through MicheLee Puppets. We will have socks available\, but feel free to bring your own colorful kid-sized socks to make into puppets! Family participation welcome! We will have a simple puppet project for little ones as well. Registration opens 2 weeks before start date. Pleas register all members of group.\n\nAll ages with caregivers. Registration required. Please register all members of group. Snacks provided.
URL:https://birminghammommy.com/event/sock-puppets-with-a-heart/
LOCATION:North Shelby Library\, 5521 Cahaba Valley Road\, Birmingham\, AL\, 35242
GEO:33.3646429;-86.7165499
X-APPLE-STRUCTURED-LOCATION;VALUE=URI;X-ADDRESS=North Shelby Library 5521 Cahaba Valley Road Birmingham AL 35242;X-APPLE-RADIUS=500;X-TITLE=5521 Cahaba Valley Road:geo:-86.7165499,33.3646429
END:VEVENT
BEGIN:VEVENT
DTSTART;TZID=America/Chicago:20190928T090000
DTEND;TZID=America/Chicago:20190928T163000
DTSTAMP:20260423T101223
CREATED:20190919T235443Z
LAST-MODIFIED:20190919T235443Z
UID:31798-1569661200-1569688200@birminghammommy.com
SUMMARY:Nickelodeon "Worldwide Day of Play" at CHOM!
DESCRIPTION:Nickelodeon “Worldwide Day of Play” at CHOM! \nSaturday\, September 28\, 2019   9-4:30 pm \nNickelodeon is going dark for their annual Worldwide Day of Play! \nIt’s time to get active! So hop\, skip\, or jog your way down to CHOM\, \nand help us celebrate!  All activities Included in Admission.
URL:https://birminghammommy.com/event/nickelodeon-worldwide-day-of-play-at-chom-2/
LOCATION:Children’s Hands-On Museum\, 2213 University Blvd.\, Tuscaloosa\, AL\, 35401\, United States
ATTACH;FMTTYPE=image/jpeg:https://birminghammommy.com/wp-content/uploads/2019/09/Nickelodeon-Worldwide-Day-of-Play-9-29.jpg
GEO:33.210036;-87.5661959
X-APPLE-STRUCTURED-LOCATION;VALUE=URI;X-ADDRESS=Children’s Hands-On Museum 2213 University Blvd. Tuscaloosa AL 35401 United States;X-APPLE-RADIUS=500;X-TITLE=2213 University Blvd.:geo:-87.5661959,33.210036
END:VEVENT
BEGIN:VEVENT
DTSTART;TZID=America/Chicago:20190928T103000
DTEND;TZID=America/Chicago:20190928T110000
DTSTAMP:20260423T101223
CREATED:20190820T130316Z
LAST-MODIFIED:20190820T130316Z
UID:31403-1569666600-1569668400@birminghammommy.com
SUMMARY:Family Storytime with Mr. Mac
DESCRIPTION:Sing and dance along with songs\, stories\, and puppets
URL:https://birminghammommy.com/event/family-storytime-with-mr-mac-18/
LOCATION:Emmet O’ Neal Library\, 50 Oak Street\, Mountain Brook\, AL\, 35213
GEO:33.5012941;-86.7565774
X-APPLE-STRUCTURED-LOCATION;VALUE=URI;X-ADDRESS=Emmet O’ Neal Library 50 Oak Street Mountain Brook AL 35213;X-APPLE-RADIUS=500;X-TITLE=50 Oak Street:geo:-86.7565774,33.5012941
END:VEVENT
BEGIN:VEVENT
DTSTART;TZID=America/Chicago:20190928T110000
DTEND;TZID=America/Chicago:20190928T130000
DTSTAMP:20260423T101223
CREATED:20190821T041413Z
LAST-MODIFIED:20190821T041413Z
UID:31474-1569668400-1569675600@birminghammommy.com
SUMMARY:Mt Laurel LEGO Club
DESCRIPTION:The library provides the Legos\, the kids provide the imagination and creativity. Families are welcome to drop in anytime between 11 and 1 to build spectacular creations which will be displayed in the library. Contact the Mt Laurel Library at 991-1660 or  for more information.
URL:https://birminghammommy.com/event/mt-laurel-lego-club-12/
LOCATION:Mt Laurel Library\, 111 Olmsted St\, Birmingham\, AL\, 35242
GEO:33.4096347;-86.6292618
X-APPLE-STRUCTURED-LOCATION;VALUE=URI;X-ADDRESS=Mt Laurel Library 111 Olmsted St Birmingham AL 35242;X-APPLE-RADIUS=500;X-TITLE=111 Olmsted St:geo:-86.6292618,33.4096347
END:VEVENT
BEGIN:VEVENT
DTSTART;TZID=America/Chicago:20190928T120000
DTEND;TZID=America/Chicago:20190928T150000
DTSTAMP:20260423T101223
CREATED:20190924T184921Z
LAST-MODIFIED:20190924T184921Z
UID:32038-1569672000-1569682800@birminghammommy.com
SUMMARY:Girl Scouts STEM Fest
DESCRIPTION:The public is invited to join Girl Scouts at Camp Coleman for STEM Fest! This exposition-style event will feature experts in STEM (science\, technology\, engineering\, and math) who will present demonstrations and hands-on activities! Stroll through the expo hall at your own pace and watch featured presentations on the stage! Activities will be both indoors and outdoors. Event includes swag\, snacks\, and a STEM Fest patch! \n  \nNew girls can join Girl Scouts for just $10\, and new adults can join for just $20! That’s an incredible deal\, and it’s only available at STEM Fest! \nCamp Coleman\, Trussville \nSaturday\, September 28 \nopen to the public from 12:00 – 3:00 \nCost at the door: $15
URL:https://birminghammommy.com/event/girl-scouts-stem-fest/
LOCATION:camp coleman\, 7717 N Lake Dr\, Trussville\, AL\, 35173
ATTACH;FMTTYPE=image/png:https://birminghammommy.com/wp-content/uploads/2019/09/Screen-Shot-2019-09-23-at-4.36.49-PM.png
ORGANIZER;CN="Girl Scouts of North-Central Alabama":MAILTO:communications@girlscoutsnca.org
END:VEVENT
BEGIN:VEVENT
DTSTART;TZID=America/Chicago:20190928T120000
DTEND;TZID=America/Chicago:20190928T200000
DTSTAMP:20260423T101223
CREATED:20190817T223023Z
LAST-MODIFIED:20190817T223023Z
UID:31202-1569672000-1569700800@birminghammommy.com
SUMMARY:Fiesta 2019
DESCRIPTION:Alabama’s largest celebration of Hispanic culture and heritage. \nAdmission to Fiesta ranges from $5 to $10 in advance (depending on applicable early bird pricing) or $10 at the gate. Children ages 12 and under are admitted for free. Donations to the Fiesta scholarship fund are also encouraged.
URL:https://birminghammommy.com/event/fiesta-2019/
LOCATION:Linn Park\, 710 20th Street North\, birmingham\, AL\, 35203
GEO:33.5199918;-86.8108353
X-APPLE-STRUCTURED-LOCATION;VALUE=URI;X-ADDRESS=Linn Park 710 20th Street North birmingham AL 35203;X-APPLE-RADIUS=500;X-TITLE=710 20th Street North:geo:-86.8108353,33.5199918
END:VEVENT
BEGIN:VEVENT
DTSTART;TZID=America/Chicago:20190928T143000
DTEND;TZID=America/Chicago:20190928T160000
DTSTAMP:20260423T101223
CREATED:20190919T235749Z
LAST-MODIFIED:20190919T235749Z
UID:31774-1569681000-1569686400@birminghammommy.com
SUMMARY:The Watsons Go to Birmingham - 1963
DESCRIPTION:THE WATSONS GO TO BIRMINGHAM\nADAPTED BY REGINALD ANDRE´ JACKSON\nFROM THE BOOK BY CHRISTOPHER PAUL CURTIS \nDIRECTED BY CHALETHIA WILLIAMS\nTen-year-old Kenny chronicles the events of a fateful summer for the Watsons as the family piles into their “Brown Bomber” and heads to Birmingham\, only to find themselves caught up in the tragic bombing of the Sixteenth Street Baptist Church. Christopher Paul Curtis’s Newbery Medal and Coretta Scott King Award–winning book comes to life with the beloved story of a family’s bond and endurance amidst one of the darkest periods in America’s history. \nSEPTEMBER 28TH & 29TH @ 2:30PM;\nOCTOBER 12TH @ 2:30 & 7:30PM;\nOCTOBER 13TH @ 2:30PM \nRecommended for ages 8+\nApproximate Time: 75 minutes
URL:https://birminghammommy.com/event/the-watsons-go-to-birmingham-1963/2019-09-28/
LOCATION:Birmingham Children’s Theatre\, 2130 Richard Arrington Jr Blvd N\, Birmingham\, AL\, 35203
CATEGORIES:StoryTime
ATTACH;FMTTYPE=image/jpeg:https://birminghammommy.com/wp-content/uploads/2019/09/WatsonsFBCover.jpg
ORGANIZER;CN="Birmingham Children's Theatre":MAILTO:info@bct123.org
GEO:33.525709;-86.8101544
X-APPLE-STRUCTURED-LOCATION;VALUE=URI;X-ADDRESS=Birmingham Children’s Theatre 2130 Richard Arrington Jr Blvd N Birmingham AL 35203;X-APPLE-RADIUS=500;X-TITLE=2130 Richard Arrington Jr Blvd N:geo:-86.8101544,33.525709
END:VEVENT
BEGIN:VEVENT
DTSTART;TZID=America/Chicago:20190930T093000
DTEND;TZID=America/Chicago:20190930T100000
DTSTAMP:20260423T101223
CREATED:20190820T130441Z
LAST-MODIFIED:20190820T130441Z
UID:31405-1569835800-1569837600@birminghammommy.com
SUMMARY:Toddler Tales
DESCRIPTION:Stories\, songs\, finger plays and crafts make up a lively 30 minute program\, designed for active toddlers. 24-36 months with a caregiver\n\nRegistration opens on Monday\, September 23 2019 at 9:00am
URL:https://birminghammommy.com/event/toddler-tales-14/
LOCATION:Emmet O’ Neal Library\, 50 Oak Street\, Mountain Brook\, AL\, 35213
GEO:33.5012941;-86.7565774
X-APPLE-STRUCTURED-LOCATION;VALUE=URI;X-ADDRESS=Emmet O’ Neal Library 50 Oak Street Mountain Brook AL 35213;X-APPLE-RADIUS=500;X-TITLE=50 Oak Street:geo:-86.7565774,33.5012941
END:VEVENT
BEGIN:VEVENT
DTSTART;TZID=America/Chicago:20190930T103000
DTEND;TZID=America/Chicago:20190930T110000
DTSTAMP:20260423T101223
CREATED:20190818T002946Z
LAST-MODIFIED:20190818T002946Z
UID:31290-1569839400-1569841200@birminghammommy.com
SUMMARY:Storypalooza
DESCRIPTION:(Preschool) Join Ms. Cristina for an interactive and playful storytime to start off the week!
URL:https://birminghammommy.com/event/storypalooza-6/
LOCATION:Homewood Public Library\, 1721 Oxmoor Road\, Homewood\, AL\, 35209\, United States
GEO:33.4750533;-86.795404
X-APPLE-STRUCTURED-LOCATION;VALUE=URI;X-ADDRESS=Homewood Public Library 1721 Oxmoor Road Homewood AL 35209 United States;X-APPLE-RADIUS=500;X-TITLE=1721 Oxmoor Road:geo:-86.795404,33.4750533
END:VEVENT
BEGIN:VEVENT
DTSTART;TZID=America/Chicago:20190930T103000
DTEND;TZID=America/Chicago:20190930T110000
DTSTAMP:20260423T101223
CREATED:20190820T130521Z
LAST-MODIFIED:20190820T130521Z
UID:31407-1569839400-1569841200@birminghammommy.com
SUMMARY:Toddler Tales
DESCRIPTION:Stories\, songs\, finger plays and crafts make up a lively 30 minute program\, designed for active toddlers. 24-36 months with a caregiver\n\nRegistration opens on Monday\, September 23 2019 at 9:00am
URL:https://birminghammommy.com/event/toddler-tales-15/
LOCATION:Emmet O’ Neal Library\, 50 Oak Street\, Mountain Brook\, AL\, 35213
GEO:33.5012941;-86.7565774
X-APPLE-STRUCTURED-LOCATION;VALUE=URI;X-ADDRESS=Emmet O’ Neal Library 50 Oak Street Mountain Brook AL 35213;X-APPLE-RADIUS=500;X-TITLE=50 Oak Street:geo:-86.7565774,33.5012941
END:VEVENT
BEGIN:VEVENT
DTSTART;TZID=America/Chicago:20190930T180000
DTEND;TZID=America/Chicago:20190930T184500
DTSTAMP:20260423T101223
CREATED:20190818T003124Z
LAST-MODIFIED:20190818T003124Z
UID:31292-1569866400-1569869100@birminghammommy.com
SUMMARY:NASA Night with Astronaut Dr. DeLucas
DESCRIPTION:(All Ages) The Homewood Public Library is thrilled to welcome astronaut Dr. Lawrence DeLucas as he shares his space story.
URL:https://birminghammommy.com/event/nasa-night-with-astronaut-dr-delucas-2/
LOCATION:Homewood Public Library\, 1721 Oxmoor Road\, Homewood\, AL\, 35209\, United States
GEO:33.4750533;-86.795404
X-APPLE-STRUCTURED-LOCATION;VALUE=URI;X-ADDRESS=Homewood Public Library 1721 Oxmoor Road Homewood AL 35209 United States;X-APPLE-RADIUS=500;X-TITLE=1721 Oxmoor Road:geo:-86.795404,33.4750533
END:VEVENT
END:VCALENDAR