BEGIN:VCALENDAR
VERSION:2.0
PRODID:-//Birmingham Mommy - ECPv6.3.5//NONSGML v1.0//EN
CALSCALE:GREGORIAN
METHOD:PUBLISH
X-WR-CALNAME:Birmingham Mommy
X-ORIGINAL-URL:https://birminghammommy.com
X-WR-CALDESC:Events for Birmingham Mommy
REFRESH-INTERVAL;VALUE=DURATION:PT1H
X-Robots-Tag:noindex
X-PUBLISHED-TTL:PT1H
BEGIN:VTIMEZONE
TZID:America/Chicago
BEGIN:DAYLIGHT
TZOFFSETFROM:-0600
TZOFFSETTO:-0500
TZNAME:CDT
DTSTART:20190310T080000
END:DAYLIGHT
BEGIN:STANDARD
TZOFFSETFROM:-0500
TZOFFSETTO:-0600
TZNAME:CST
DTSTART:20191103T070000
END:STANDARD
END:VTIMEZONE
BEGIN:VEVENT
DTSTART;TZID=America/Chicago:20190907T100000
DTEND;TZID=America/Chicago:20190907T110000
DTSTAMP:20260423T044618
CREATED:20190817T222053Z
LAST-MODIFIED:20190817T222053Z
UID:31194-1567850400-1567854000@birminghammommy.com
SUMMARY:Free Fencing
DESCRIPTION:We will begin with a brief description of fencing\, review the equipment we use\, and offer a chance to address any questions you have. You will learn fencing basics\, and then everyone will put on fencing gear and give it a try for 30-45 minutes. You will have great fun\, as we provide a relaxing environment to try fencing before you make a decision to join classes. \nHelpful Tips – We ask that you wear some type of athletic or tennis shoes (no sandals please). Remember that it’s an active sport\, so wear a t-shirt or something else that will be relatively cool
URL:https://birminghammommy.com/event/free-fencing/
LOCATION:Birmingham Fencing Club\, 1581 Montgomery Highway\, ste 109\, Birmingham\, AL\, 35216
END:VEVENT
BEGIN:VEVENT
DTSTART;TZID=America/Chicago:20190907T103000
DTEND;TZID=America/Chicago:20190907T110000
DTSTAMP:20260423T044618
CREATED:20190820T003454Z
LAST-MODIFIED:20190820T003454Z
UID:31316-1567852200-1567854000@birminghammommy.com
SUMMARY:Family Storytime with Mr Mac
DESCRIPTION:Sing and dance along with songs\, stories\, and puppets
URL:https://birminghammommy.com/event/family-storytime-with-mr-mac-15/
LOCATION:Emmet O’ Neal Library\, 50 Oak Street\, Mountain Brook\, AL\, 35213
GEO:33.5012941;-86.7565774
X-APPLE-STRUCTURED-LOCATION;VALUE=URI;X-ADDRESS=Emmet O’ Neal Library 50 Oak Street Mountain Brook AL 35213;X-APPLE-RADIUS=500;X-TITLE=50 Oak Street:geo:-86.7565774,33.5012941
END:VEVENT
BEGIN:VEVENT
DTSTART;TZID=America/Chicago:20190907T103000
DTEND;TZID=America/Chicago:20190907T111500
DTSTAMP:20260423T044618
CREATED:20190817T230956Z
LAST-MODIFIED:20190817T230956Z
UID:31222-1567852200-1567854900@birminghammommy.com
SUMMARY:Family Yoga at Homewood Library
DESCRIPTION:(All Ages) Spend quality time together with stretches and breathing exercises that the whole family can enjoy!
URL:https://birminghammommy.com/event/family-yoga-at-homewood-library-3/
LOCATION:Homewood Public Library\, 1721 Oxmoor Road\, Homewood\, AL\, 35209\, United States
GEO:33.4750533;-86.795404
X-APPLE-STRUCTURED-LOCATION;VALUE=URI;X-ADDRESS=Homewood Public Library 1721 Oxmoor Road Homewood AL 35209 United States;X-APPLE-RADIUS=500;X-TITLE=1721 Oxmoor Road:geo:-86.795404,33.4750533
END:VEVENT
BEGIN:VEVENT
DTSTART;TZID=America/Chicago:20190907T103000
DTEND;TZID=America/Chicago:20190907T113000
DTSTAMP:20260423T044618
CREATED:20190821T034836Z
LAST-MODIFIED:20190821T034836Z
UID:31432-1567852200-1567855800@birminghammommy.com
SUMMARY:La Hora Del Cuento
DESCRIPTION:Ven con tu familia a escuchar cuentos\, cantar y divertirnos en español! Esta evento es para niños de todas las edades. Niños menores de 12 años deben estar acompañados de sus padres. \nLos esperamos!
URL:https://birminghammommy.com/event/la-hora-del-cuento/
LOCATION:North Shelby Library\, 5521 Cahaba Valley Road\, Birmingham\, AL\, 35242
GEO:33.3646429;-86.7165499
X-APPLE-STRUCTURED-LOCATION;VALUE=URI;X-ADDRESS=North Shelby Library 5521 Cahaba Valley Road Birmingham AL 35242;X-APPLE-RADIUS=500;X-TITLE=5521 Cahaba Valley Road:geo:-86.7165499,33.3646429
END:VEVENT
BEGIN:VEVENT
DTSTART;TZID=America/Chicago:20190907T120000
DTEND;TZID=America/Chicago:20190907T150000
DTSTAMP:20260423T044618
CREATED:20190831T131143Z
LAST-MODIFIED:20190831T131143Z
UID:31559-1567857600-1567868400@birminghammommy.com
SUMMARY:When Dinosaurs Ruled the Arts
DESCRIPTION:Join the ASC and McWane for a dinosaur playdate! This will be a Jurassic paradise for dinosaur-loving families and full of activities. And this is just the beginning of the excitement as the Alys Stephens Center brings dinosaurs to life in Birmingham with DINO-LIGHTS on September 20th. \nThis family day is free to all McWane Science Center Members. For all others\, day passes can be purchased at the McWane Center day-of in their lobby.
URL:https://birminghammommy.com/event/when-dinosaurs-ruled-the-arts/
LOCATION:McWane Science Center\, 200 19th Street North\, Birmingham\, AL\, 35203
GEO:33.5149315;-86.8083142
X-APPLE-STRUCTURED-LOCATION;VALUE=URI;X-ADDRESS=McWane Science Center 200 19th Street North Birmingham AL 35203;X-APPLE-RADIUS=500;X-TITLE=200 19th Street North:geo:-86.8083142,33.5149315
END:VEVENT
BEGIN:VEVENT
DTSTART;TZID=America/Chicago:20190907T130000
DTEND;TZID=America/Chicago:20190907T160000
DTSTAMP:20260423T044618
CREATED:20190820T003700Z
LAST-MODIFIED:20190820T003700Z
UID:31318-1567861200-1567872000@birminghammommy.com
SUMMARY:Game On
DESCRIPTION:Join us for an afternoon of gaming fun! We’ll have board games\, RPG\, and video games set out all afternoon.
URL:https://birminghammommy.com/event/game-on/
LOCATION:Emmet O’ Neal Library\, 50 Oak Street\, Mountain Brook\, AL\, 35213
GEO:33.5012941;-86.7565774
X-APPLE-STRUCTURED-LOCATION;VALUE=URI;X-ADDRESS=Emmet O’ Neal Library 50 Oak Street Mountain Brook AL 35213;X-APPLE-RADIUS=500;X-TITLE=50 Oak Street:geo:-86.7565774,33.5012941
END:VEVENT
BEGIN:VEVENT
DTSTART;TZID=America/Chicago:20190908T163000
DTEND;TZID=America/Chicago:20190908T183000
DTSTAMP:20260423T044618
CREATED:20190423T131820Z
LAST-MODIFIED:20190423T131820Z
UID:29364-1567960200-1567967400@birminghammommy.com
SUMMARY:1818 Farms Bloom Stroll and Bouquet Workshop
DESCRIPTION:Spend a late afternoon touring the beautiful gardens at 1818 Farms. Natasha will identify her favorite varieties of heirloom flowers and herbs that are grown in her cutting gardens. Workshop participants will learn planting\, growing and seed saving tips for creating their own beautiful garden. Natasha will also demonstrate the best methods for cutting flowers when gathering them for arrangements. Following the garden tour\, participants will gather at the 1818 Farms pavilion where the hands on portion of the workshop will begin. Each participant will be provided with a gorgeous selection of fresh cut flowers and herbs gathered that morning at the farm. Natasha will discuss the basic steps to follow in order to create a stunning floral arrangement for any occasion.
URL:https://birminghammommy.com/event/1818-farms-bloom-stroll-and-bouquet-workshop/
LOCATION:1818 Farms\, 24889 Lauderdale Street\, Mooresville\, Alabama\, 35649\, Select a Country:
ATTACH;FMTTYPE=image/jpeg:https://birminghammommy.com/wp-content/uploads/2019/04/bloom-stroll-2-6.jpg
END:VEVENT
BEGIN:VEVENT
DTSTART;TZID=America/Chicago:20190909T093000
DTEND;TZID=America/Chicago:20190909T100000
DTSTAMP:20260423T044618
CREATED:20190820T003907Z
LAST-MODIFIED:20190820T003907Z
UID:31320-1568021400-1568023200@birminghammommy.com
SUMMARY:Toddler Tales
DESCRIPTION:Stories\, songs\, finger plays and crafts make up a lively 30 minute program\, designed for active toddlers. 24 – 36 months with caregiver
URL:https://birminghammommy.com/event/toddler-tales-8/
LOCATION:Emmet O’ Neal Library\, 50 Oak Street\, Mountain Brook\, AL\, 35213
GEO:33.5012941;-86.7565774
X-APPLE-STRUCTURED-LOCATION;VALUE=URI;X-ADDRESS=Emmet O’ Neal Library 50 Oak Street Mountain Brook AL 35213;X-APPLE-RADIUS=500;X-TITLE=50 Oak Street:geo:-86.7565774,33.5012941
END:VEVENT
BEGIN:VEVENT
DTSTART;TZID=America/Chicago:20190909T100000
DTEND;TZID=America/Chicago:20190909T104500
DTSTAMP:20260423T044618
CREATED:20190817T231157Z
LAST-MODIFIED:20190817T231157Z
UID:31224-1568023200-1568025900@birminghammommy.com
SUMMARY:Homeschool STEAM Club
DESCRIPTION:States of Matter and Chemical Reactions – Students will learn about matter and see some cool chemical reactions. The students will also participate in making some of their own reactions.
URL:https://birminghammommy.com/event/homeschool-steam-club/
LOCATION:Homewood Public Library\, 1721 Oxmoor Road\, Homewood\, AL\, 35209\, United States
GEO:33.4750533;-86.795404
X-APPLE-STRUCTURED-LOCATION;VALUE=URI;X-ADDRESS=Homewood Public Library 1721 Oxmoor Road Homewood AL 35209 United States;X-APPLE-RADIUS=500;X-TITLE=1721 Oxmoor Road:geo:-86.795404,33.4750533
END:VEVENT
BEGIN:VEVENT
DTSTART;TZID=America/Chicago:20190909T103000
DTEND;TZID=America/Chicago:20190909T110000
DTSTAMP:20260423T044618
CREATED:20190817T231307Z
LAST-MODIFIED:20190817T231307Z
UID:31226-1568025000-1568026800@birminghammommy.com
SUMMARY:Storypalooza
DESCRIPTION:(Preschool) Join Ms. Cristina for an interactive and playful storytime to start off the week!
URL:https://birminghammommy.com/event/storypalooza-3/
LOCATION:Homewood Public Library\, 1721 Oxmoor Road\, Homewood\, AL\, 35209\, United States
GEO:33.4750533;-86.795404
X-APPLE-STRUCTURED-LOCATION;VALUE=URI;X-ADDRESS=Homewood Public Library 1721 Oxmoor Road Homewood AL 35209 United States;X-APPLE-RADIUS=500;X-TITLE=1721 Oxmoor Road:geo:-86.795404,33.4750533
END:VEVENT
BEGIN:VEVENT
DTSTART;TZID=America/Chicago:20190909T103000
DTEND;TZID=America/Chicago:20190909T110000
DTSTAMP:20260423T044618
CREATED:20190820T004055Z
LAST-MODIFIED:20190820T004055Z
UID:31322-1568025000-1568026800@birminghammommy.com
SUMMARY:Toddler Tales
DESCRIPTION:Stories\, songs\, finger plays and crafts make up a lively 30 minute program\, designed for active toddlers. 24 – 36 months with caregiver
URL:https://birminghammommy.com/event/toddler-tales-9/
LOCATION:Emmet O’ Neal Library\, 50 Oak Street\, Mountain Brook\, AL\, 35213
GEO:33.5012941;-86.7565774
X-APPLE-STRUCTURED-LOCATION;VALUE=URI;X-ADDRESS=Emmet O’ Neal Library 50 Oak Street Mountain Brook AL 35213;X-APPLE-RADIUS=500;X-TITLE=50 Oak Street:geo:-86.7565774,33.5012941
END:VEVENT
BEGIN:VEVENT
DTSTART;TZID=America/Chicago:20190909T103000
DTEND;TZID=America/Chicago:20190909T111500
DTSTAMP:20260423T044618
CREATED:20190821T034953Z
LAST-MODIFIED:20190821T034953Z
UID:31434-1568025000-1568027700@birminghammommy.com
SUMMARY:Toddler Tales
DESCRIPTION:Registration begins 9/2/2019 at 8:30 AM\n\nStories\, songs\, and fingerplays make up a lively 30 minute program designed especially for toddlers. Registration will begin one week prior to each storytime. \n\n \nAges 19-36 months. Registration required and opens 1 week before program.
URL:https://birminghammommy.com/event/toddler-tales-16/
LOCATION:North Shelby Library\, 5521 Cahaba Valley Road\, Birmingham\, AL\, 35242
GEO:33.3646429;-86.7165499
X-APPLE-STRUCTURED-LOCATION;VALUE=URI;X-ADDRESS=North Shelby Library 5521 Cahaba Valley Road Birmingham AL 35242;X-APPLE-RADIUS=500;X-TITLE=5521 Cahaba Valley Road:geo:-86.7165499,33.3646429
END:VEVENT
BEGIN:VEVENT
DTSTART;TZID=America/Chicago:20190909T160000
DTEND;TZID=America/Chicago:20190909T170000
DTSTAMP:20260423T044618
CREATED:20190820T004302Z
LAST-MODIFIED:20190820T004302Z
UID:31324-1568044800-1568048400@birminghammommy.com
SUMMARY:Steam Powered
DESCRIPTION:Lego Venture! Join us for a program involving Science\, Technology\, Engineering\, Arts\, and Mathematics (STEAM). Grades 4-6
URL:https://birminghammommy.com/event/steam-powered/
LOCATION:Emmet O’ Neal Library\, 50 Oak Street\, Mountain Brook\, AL\, 35213
GEO:33.5012941;-86.7565774
X-APPLE-STRUCTURED-LOCATION;VALUE=URI;X-ADDRESS=Emmet O’ Neal Library 50 Oak Street Mountain Brook AL 35213;X-APPLE-RADIUS=500;X-TITLE=50 Oak Street:geo:-86.7565774,33.5012941
END:VEVENT
BEGIN:VEVENT
DTSTART;TZID=America/Chicago:20190910T093000
DTEND;TZID=America/Chicago:20190910T100000
DTSTAMP:20260423T044618
CREATED:20190817T231737Z
LAST-MODIFIED:20190817T231737Z
UID:31228-1568107800-1568109600@birminghammommy.com
SUMMARY:Wee Ones
DESCRIPTION:(Ages 0-3) Join Ms. Mary for a fun and energetic storytime for ages three and under. Small snack provided.
URL:https://birminghammommy.com/event/wee-ones/
LOCATION:Homewood Public Library\, 1721 Oxmoor Road\, Homewood\, AL\, 35209\, United States
GEO:33.4750533;-86.795404
X-APPLE-STRUCTURED-LOCATION;VALUE=URI;X-ADDRESS=Homewood Public Library 1721 Oxmoor Road Homewood AL 35209 United States;X-APPLE-RADIUS=500;X-TITLE=1721 Oxmoor Road:geo:-86.795404,33.4750533
END:VEVENT
BEGIN:VEVENT
DTSTART;TZID=America/Chicago:20190910T093000
DTEND;TZID=America/Chicago:20190910T101500
DTSTAMP:20260423T044618
CREATED:20190820T004420Z
LAST-MODIFIED:20190820T004420Z
UID:31326-1568107800-1568110500@birminghammommy.com
SUMMARY:Together Time
DESCRIPTION:Songs\, stories\, puppets\, and more with Ms. NayNay
URL:https://birminghammommy.com/event/together-time-5/
LOCATION:Emmet O’ Neal Library\, 50 Oak Street\, Mountain Brook\, AL\, 35213
GEO:33.5012941;-86.7565774
X-APPLE-STRUCTURED-LOCATION;VALUE=URI;X-ADDRESS=Emmet O’ Neal Library 50 Oak Street Mountain Brook AL 35213;X-APPLE-RADIUS=500;X-TITLE=50 Oak Street:geo:-86.7565774,33.5012941
END:VEVENT
BEGIN:VEVENT
DTSTART;TZID=America/Chicago:20190910T103000
DTEND;TZID=America/Chicago:20190910T110000
DTSTAMP:20260423T044618
CREATED:20190817T231844Z
LAST-MODIFIED:20190817T231844Z
UID:31230-1568111400-1568113200@birminghammommy.com
SUMMARY:Wee Ones
DESCRIPTION:(Ages 0-3) Join Ms. Mary for a fun and energetic storytime for ages three and under. Small snack provided.
URL:https://birminghammommy.com/event/wee-ones-2/
LOCATION:Homewood Public Library\, 1721 Oxmoor Road\, Homewood\, AL\, 35209\, United States
GEO:33.4750533;-86.795404
X-APPLE-STRUCTURED-LOCATION;VALUE=URI;X-ADDRESS=Homewood Public Library 1721 Oxmoor Road Homewood AL 35209 United States;X-APPLE-RADIUS=500;X-TITLE=1721 Oxmoor Road:geo:-86.795404,33.4750533
END:VEVENT
BEGIN:VEVENT
DTSTART;TZID=America/Chicago:20190910T103000
DTEND;TZID=America/Chicago:20190910T111500
DTSTAMP:20260423T044618
CREATED:20190820T004602Z
LAST-MODIFIED:20190820T004602Z
UID:31328-1568111400-1568114100@birminghammommy.com
SUMMARY:Together Time
DESCRIPTION:Songs\, stories\, puppets\, and more with Ms. NayNay. An all ages storytime
URL:https://birminghammommy.com/event/together-time-6/
LOCATION:Emmet O’ Neal Library\, 50 Oak Street\, Mountain Brook\, AL\, 35213
GEO:33.5012941;-86.7565774
X-APPLE-STRUCTURED-LOCATION;VALUE=URI;X-ADDRESS=Emmet O’ Neal Library 50 Oak Street Mountain Brook AL 35213;X-APPLE-RADIUS=500;X-TITLE=50 Oak Street:geo:-86.7565774,33.5012941
END:VEVENT
BEGIN:VEVENT
DTSTART;TZID=America/Chicago:20190910T103000
DTEND;TZID=America/Chicago:20190910T111500
DTSTAMP:20260423T044618
CREATED:20190821T035103Z
LAST-MODIFIED:20190821T035103Z
UID:31436-1568111400-1568114100@birminghammommy.com
SUMMARY:Puppet Tales
DESCRIPTION:Registration begins 8/27/2019 at 8:00 AM\nA new storytime filled with puppet fun! Watch stories and songs come alive through puppets and make a small puppet to take! Registration will begin two weeks prior to program date.Designed for ages 2-5. Registration required.
URL:https://birminghammommy.com/event/puppet-tales-2/
LOCATION:North Shelby Library\, 5521 Cahaba Valley Road\, Birmingham\, AL\, 35242
GEO:33.3646429;-86.7165499
X-APPLE-STRUCTURED-LOCATION;VALUE=URI;X-ADDRESS=North Shelby Library 5521 Cahaba Valley Road Birmingham AL 35242;X-APPLE-RADIUS=500;X-TITLE=5521 Cahaba Valley Road:geo:-86.7165499,33.3646429
END:VEVENT
BEGIN:VEVENT
DTSTART;TZID=America/Chicago:20190910T140000
DTEND;TZID=America/Chicago:20190910T150000
DTSTAMP:20260423T044618
CREATED:20190817T232043Z
LAST-MODIFIED:20190817T232043Z
UID:31232-1568124000-1568127600@birminghammommy.com
SUMMARY:Homeschool Zoom into Science
DESCRIPTION:Zoom into science with the Homewood Public Library’s new microscopes\, which were purchased with a grant from the Homewood Rotary.
URL:https://birminghammommy.com/event/homeschool-zoom-into-science/
LOCATION:Homewood Public Library\, 1721 Oxmoor Road\, Homewood\, AL\, 35209\, United States
GEO:33.4750533;-86.795404
X-APPLE-STRUCTURED-LOCATION;VALUE=URI;X-ADDRESS=Homewood Public Library 1721 Oxmoor Road Homewood AL 35209 United States;X-APPLE-RADIUS=500;X-TITLE=1721 Oxmoor Road:geo:-86.795404,33.4750533
END:VEVENT
BEGIN:VEVENT
DTSTART;TZID=America/Chicago:20190910T153000
DTEND;TZID=America/Chicago:20190910T161500
DTSTAMP:20260423T044618
CREATED:20190820T004714Z
LAST-MODIFIED:20190820T004714Z
UID:31331-1568129400-1568132100@birminghammommy.com
SUMMARY:Library Out Loud
DESCRIPTION:Sign in and drop off your K-2nd graders for live-action stories\, puppet shows\, crafts\, snacks\, and games.
URL:https://birminghammommy.com/event/library-out-loud-5/
LOCATION:Emmet O’ Neal Library\, 50 Oak Street\, Mountain Brook\, AL\, 35213
GEO:33.5012941;-86.7565774
X-APPLE-STRUCTURED-LOCATION;VALUE=URI;X-ADDRESS=Emmet O’ Neal Library 50 Oak Street Mountain Brook AL 35213;X-APPLE-RADIUS=500;X-TITLE=50 Oak Street:geo:-86.7565774,33.5012941
END:VEVENT
BEGIN:VEVENT
DTSTART;TZID=America/Chicago:20190910T173000
DTEND;TZID=America/Chicago:20190910T190000
DTSTAMP:20260423T044618
CREATED:20190820T004852Z
LAST-MODIFIED:20190820T004852Z
UID:31333-1568136600-1568142000@birminghammommy.com
SUMMARY:Family Night
DESCRIPTION:Music with Jim Aycock. A light dinner at 5:30 pm and a show at 6:00 pm
URL:https://birminghammommy.com/event/family-night/
LOCATION:Emmet O’ Neal Library\, 50 Oak Street\, Mountain Brook\, AL\, 35213
GEO:33.5012941;-86.7565774
X-APPLE-STRUCTURED-LOCATION;VALUE=URI;X-ADDRESS=Emmet O’ Neal Library 50 Oak Street Mountain Brook AL 35213;X-APPLE-RADIUS=500;X-TITLE=50 Oak Street:geo:-86.7565774,33.5012941
END:VEVENT
BEGIN:VEVENT
DTSTART;TZID=America/Chicago:20190910T180000
DTEND;TZID=America/Chicago:20190910T193000
DTSTAMP:20260423T044618
CREATED:20190826T171631Z
LAST-MODIFIED:20190826T171631Z
UID:31484-1568138400-1568143800@birminghammommy.com
SUMMARY:Family Game Night at Pelham Library
DESCRIPTION:Meets every 2nd and 4th Tuesday of the month. Offers card games and board games\, such as chess\, Monopoly\, Sorry\, Jenga\, and Uno\, as well as King of Tokyo\, One Night Ultimate Werewolf\, Munchkin\, and Spy Alley. Participants are also welcome to bring their own favorite games from home. \nTeens meet in Roberts Room A\, while families with small children meet in Roberts Room B.
URL:https://birminghammommy.com/event/family-game-night-at-pelham-library-6/
LOCATION:Pelham Public Library\, 2000 Pelham Park Boulevard\, Pelham\, AL\, 35124\, United States
ATTACH;FMTTYPE=image/jpeg:https://birminghammommy.com/wp-content/uploads/2019/08/family-game-night-1.jpg
END:VEVENT
BEGIN:VEVENT
DTSTART;TZID=America/Chicago:20190911T093000
DTEND;TZID=America/Chicago:20190911T100000
DTSTAMP:20260423T044618
CREATED:20190820T005240Z
LAST-MODIFIED:20190820T005240Z
UID:31335-1568194200-1568196000@birminghammommy.com
SUMMARY:Mother Goose Storytime
DESCRIPTION:Stories\, songs\, and finger plays make up a lively 30 minute lap sit program designed especially for short attention spans. Ages 12-24 months with caregiver \nRegistration opens on Wednesday\, September 4 2019 at 9:00am
URL:https://birminghammommy.com/event/mother-goose-storytime-10/
LOCATION:Emmet O’ Neal Library\, 50 Oak Street\, Mountain Brook\, AL\, 35213
GEO:33.5012941;-86.7565774
X-APPLE-STRUCTURED-LOCATION;VALUE=URI;X-ADDRESS=Emmet O’ Neal Library 50 Oak Street Mountain Brook AL 35213;X-APPLE-RADIUS=500;X-TITLE=50 Oak Street:geo:-86.7565774,33.5012941
END:VEVENT
BEGIN:VEVENT
DTSTART;TZID=America/Chicago:20190911T103000
DTEND;TZID=America/Chicago:20190911T110000
DTSTAMP:20260423T044618
CREATED:20190817T232239Z
LAST-MODIFIED:20190817T232239Z
UID:31234-1568197800-1568199600@birminghammommy.com
SUMMARY:Storytime at Your Biblioteca
DESCRIPTION:(Preschool) Join us for a special bilingual storytime in English and Spanish!
URL:https://birminghammommy.com/event/storytime-at-your-biblioteca-4/
LOCATION:Homewood Public Library\, 1721 Oxmoor Road\, Homewood\, AL\, 35209\, United States
GEO:33.4750533;-86.795404
X-APPLE-STRUCTURED-LOCATION;VALUE=URI;X-ADDRESS=Homewood Public Library 1721 Oxmoor Road Homewood AL 35209 United States;X-APPLE-RADIUS=500;X-TITLE=1721 Oxmoor Road:geo:-86.795404,33.4750533
END:VEVENT
BEGIN:VEVENT
DTSTART;TZID=America/Chicago:20190911T103000
DTEND;TZID=America/Chicago:20190911T110000
DTSTAMP:20260423T044618
CREATED:20190820T005331Z
LAST-MODIFIED:20190820T005331Z
UID:31337-1568197800-1568199600@birminghammommy.com
SUMMARY:Mother Goose Storytime
DESCRIPTION:Stories\, songs\, and finger plays make up a lively 30 minute lap sit program designed especially for short attention spans. Ages 12-24 months with caregiver \nRegistration opens on Wednesday\, September 4 2019 at 9:00am
URL:https://birminghammommy.com/event/mother-goose-storytime-11/
LOCATION:Emmet O’ Neal Library\, 50 Oak Street\, Mountain Brook\, AL\, 35213
GEO:33.5012941;-86.7565774
X-APPLE-STRUCTURED-LOCATION;VALUE=URI;X-ADDRESS=Emmet O’ Neal Library 50 Oak Street Mountain Brook AL 35213;X-APPLE-RADIUS=500;X-TITLE=50 Oak Street:geo:-86.7565774,33.5012941
END:VEVENT
BEGIN:VEVENT
DTSTART;TZID=America/Chicago:20190911T104500
DTEND;TZID=America/Chicago:20190911T113000
DTSTAMP:20260423T044618
CREATED:20190821T035224Z
LAST-MODIFIED:20190821T035224Z
UID:31438-1568198700-1568201400@birminghammommy.com
SUMMARY:Family Storytime with Mr Mac
DESCRIPTION:Stories\, puppets\, and lots of music for every member of the family. \nAll ages. No registration.
URL:https://birminghammommy.com/event/family-storytime-with-mr-mac-20/
LOCATION:North Shelby Library\, 5521 Cahaba Valley Road\, Birmingham\, AL\, 35242
GEO:33.3646429;-86.7165499
X-APPLE-STRUCTURED-LOCATION;VALUE=URI;X-ADDRESS=North Shelby Library 5521 Cahaba Valley Road Birmingham AL 35242;X-APPLE-RADIUS=500;X-TITLE=5521 Cahaba Valley Road:geo:-86.7165499,33.3646429
END:VEVENT
BEGIN:VEVENT
DTSTART;TZID=America/Chicago:20190911T133000
DTEND;TZID=America/Chicago:20190911T141500
DTSTAMP:20260423T044618
CREATED:20190820T005633Z
LAST-MODIFIED:20190820T005633Z
UID:31339-1568208600-1568211300@birminghammommy.com
SUMMARY:Movers and Makers
DESCRIPTION:Build cooperation\, reading\, and school readiness skills. Ages 3-5.  Registration opens on Wednesday\, September 4 2019 at 9:00am
URL:https://birminghammommy.com/event/movers-and-makers-5/
LOCATION:Emmet O’ Neal Library\, 50 Oak Street\, Mountain Brook\, AL\, 35213
GEO:33.5012941;-86.7565774
X-APPLE-STRUCTURED-LOCATION;VALUE=URI;X-ADDRESS=Emmet O’ Neal Library 50 Oak Street Mountain Brook AL 35213;X-APPLE-RADIUS=500;X-TITLE=50 Oak Street:geo:-86.7565774,33.5012941
END:VEVENT
BEGIN:VEVENT
DTSTART;TZID=America/Chicago:20190911T153000
DTEND;TZID=America/Chicago:20190911T161500
DTSTAMP:20260423T044618
CREATED:20190817T232358Z
LAST-MODIFIED:20190817T232358Z
UID:31236-1568215800-1568218500@birminghammommy.com
SUMMARY:Kids Create: LEGO Challenge
DESCRIPTION:(K-5 Grade) Put your LEGO skills to the test with each new challenge.
URL:https://birminghammommy.com/event/kids-create-lego-challenge/
LOCATION:Homewood Public Library\, 1721 Oxmoor Road\, Homewood\, AL\, 35209\, United States
GEO:33.4750533;-86.795404
X-APPLE-STRUCTURED-LOCATION;VALUE=URI;X-ADDRESS=Homewood Public Library 1721 Oxmoor Road Homewood AL 35209 United States;X-APPLE-RADIUS=500;X-TITLE=1721 Oxmoor Road:geo:-86.795404,33.4750533
END:VEVENT
BEGIN:VEVENT
DTSTART;TZID=America/Chicago:20190911T153000
DTEND;TZID=America/Chicago:20190911T161500
DTSTAMP:20260423T044618
CREATED:20190820T005821Z
LAST-MODIFIED:20190820T005821Z
UID:31341-1568215800-1568218500@birminghammommy.com
SUMMARY:Comics and Cookies
DESCRIPTION:Each month we’ll talk about a different graphic novel! This month we’re reading New Kid by Jerry Craft. Pick up a copy at the Children’s Desk. Grades 3-6
URL:https://birminghammommy.com/event/comics-and-cookies/
LOCATION:Emmet O’ Neal Library\, 50 Oak Street\, Mountain Brook\, AL\, 35213
GEO:33.5012941;-86.7565774
X-APPLE-STRUCTURED-LOCATION;VALUE=URI;X-ADDRESS=Emmet O’ Neal Library 50 Oak Street Mountain Brook AL 35213;X-APPLE-RADIUS=500;X-TITLE=50 Oak Street:geo:-86.7565774,33.5012941
END:VEVENT
BEGIN:VEVENT
DTSTART;TZID=America/Chicago:20190912T093000
DTEND;TZID=America/Chicago:20190912T095000
DTSTAMP:20260423T044618
CREATED:20190820T010945Z
LAST-MODIFIED:20190820T010945Z
UID:31343-1568280600-1568281800@birminghammommy.com
SUMMARY:Patty Cake Storytime
DESCRIPTION:Early language enrichment program composed of stories\, rhymes\, and songs designed to nurture the bond between caregiver and baby. Ages 0-12 months\n\nRegistration opens on Thursday\, September 5 2019 at 9:00am
URL:https://birminghammommy.com/event/patty-cake-storytime-8/
LOCATION:Emmet O’ Neal Library\, 50 Oak Street\, Mountain Brook\, AL\, 35213
GEO:33.5012941;-86.7565774
X-APPLE-STRUCTURED-LOCATION;VALUE=URI;X-ADDRESS=Emmet O’ Neal Library 50 Oak Street Mountain Brook AL 35213;X-APPLE-RADIUS=500;X-TITLE=50 Oak Street:geo:-86.7565774,33.5012941
END:VEVENT
END:VCALENDAR