BEGIN:VCALENDAR
VERSION:2.0
PRODID:-//Birmingham Mommy - ECPv6.3.5//NONSGML v1.0//EN
CALSCALE:GREGORIAN
METHOD:PUBLISH
X-WR-CALNAME:Birmingham Mommy
X-ORIGINAL-URL:https://birminghammommy.com
X-WR-CALDESC:Events for Birmingham Mommy
REFRESH-INTERVAL;VALUE=DURATION:PT1H
X-Robots-Tag:noindex
X-PUBLISHED-TTL:PT1H
BEGIN:VTIMEZONE
TZID:America/Chicago
BEGIN:DAYLIGHT
TZOFFSETFROM:-0600
TZOFFSETTO:-0500
TZNAME:CDT
DTSTART:20190310T080000
END:DAYLIGHT
BEGIN:STANDARD
TZOFFSETFROM:-0500
TZOFFSETTO:-0600
TZNAME:CST
DTSTART:20191103T070000
END:STANDARD
END:VTIMEZONE
BEGIN:VEVENT
DTSTART;TZID=America/Chicago:20191021T151500
DTEND;TZID=America/Chicago:20191021T161500
DTSTAMP:20260423T134049
CREATED:20191011T155155Z
LAST-MODIFIED:20191011T155155Z
UID:32211-1571670900-1571674500@birminghammommy.com
SUMMARY:Pumpkin Painting: BYOP
DESCRIPTION:It’ s a BYOP (Bring Your Own Pumpkin) painting party! Paint and brushes will be provided; please bring your own pumpkin and come dressed to make a mess. Open to the whole family. Call the library to register. 205-665-9207 x2
URL:https://birminghammommy.com/event/pumpkin-painting-byop/
LOCATION:Parnell Memorial Library\, 277 Park Drive\, Montevallo\, 35115\, United States
END:VEVENT
BEGIN:VEVENT
DTSTART;TZID=America/Chicago:20191021T103000
DTEND;TZID=America/Chicago:20191021T111500
DTSTAMP:20260423T134049
CREATED:20190925T135834Z
LAST-MODIFIED:20190925T135834Z
UID:32130-1571653800-1571656500@birminghammommy.com
SUMMARY:Toddler Tales
DESCRIPTION:Stories\, songs\, and fingerplays make up a lively 30 minute program designed especially for toddlers. Registration will begin one week prior to each storytime. \n\n \nAges 19-36 months. Registration required and opens 1 week before program.
URL:https://birminghammommy.com/event/toddler-tales-20/
LOCATION:North Shelby Library\, 5521 Cahaba Valley Road\, Birmingham\, AL\, 35242
GEO:33.3646429;-86.7165499
X-APPLE-STRUCTURED-LOCATION;VALUE=URI;X-ADDRESS=North Shelby Library 5521 Cahaba Valley Road Birmingham AL 35242;X-APPLE-RADIUS=500;X-TITLE=5521 Cahaba Valley Road:geo:-86.7165499,33.3646429
END:VEVENT
BEGIN:VEVENT
DTSTART;TZID=America/Chicago:20191021T100000
DTEND;TZID=America/Chicago:20191021T104500
DTSTAMP:20260423T134049
CREATED:20190922T133723Z
LAST-MODIFIED:20190922T133723Z
UID:31993-1571652000-1571654700@birminghammommy.com
SUMMARY:Homeschool STEAM Club
DESCRIPTION:Spooky Science and a Franken Wobble Bot – The students will see some spooky demonstrations and make their very own Franken Wobble Bot.
URL:https://birminghammommy.com/event/homeschool-steam-club-3/
LOCATION:Homewood Public Library\, 1721 Oxmoor Road\, Homewood\, AL\, 35209\, United States
GEO:33.4750533;-86.795404
X-APPLE-STRUCTURED-LOCATION;VALUE=URI;X-ADDRESS=Homewood Public Library 1721 Oxmoor Road Homewood AL 35209 United States;X-APPLE-RADIUS=500;X-TITLE=1721 Oxmoor Road:geo:-86.795404,33.4750533
END:VEVENT
BEGIN:VEVENT
DTSTART;TZID=America/Chicago:20191020T153000
DTEND;TZID=America/Chicago:20191020T163000
DTSTAMP:20260423T134049
CREATED:20190922T133447Z
LAST-MODIFIED:20190922T133447Z
UID:31991-1571585400-1571589000@birminghammommy.com
SUMMARY:Special Siblings
DESCRIPTION:(K-12 Grade) This support group for siblings of special needs children is a place to share ideas\, experiences\, and the ever changing needs of having a sibling with special needs.
URL:https://birminghammommy.com/event/special-siblings-3/
LOCATION:Homewood Public Library\, 1721 Oxmoor Road\, Homewood\, AL\, 35209\, United States
GEO:33.4750533;-86.795404
X-APPLE-STRUCTURED-LOCATION;VALUE=URI;X-ADDRESS=Homewood Public Library 1721 Oxmoor Road Homewood AL 35209 United States;X-APPLE-RADIUS=500;X-TITLE=1721 Oxmoor Road:geo:-86.795404,33.4750533
END:VEVENT
BEGIN:VEVENT
DTSTART;TZID=America/Chicago:20191019T090000
DTEND;TZID=America/Chicago:20191019T163000
DTSTAMP:20260423T134049
CREATED:20191007T203544Z
LAST-MODIFIED:20191007T203544Z
UID:32182-1571475600-1571502600@birminghammommy.com
SUMMARY:Hocus Pocus at CHOM!
DESCRIPTION:Hocus Pocus at CHOM! \nSaturday\, October 19\, 2019   9 – 4:30 pm \nBrew a potion! Make a black cat craft! \nSearch for the magic spell ingredients! \nDesign a magic wand! \n  \n 
URL:https://birminghammommy.com/event/hocus-pocus-at-chom/
LOCATION:Children’s Hands-On Museum\, 2213 University Blvd.\, Tuscaloosa\, AL\, 35401\, United States
ATTACH;FMTTYPE=image/jpeg:https://birminghammommy.com/wp-content/uploads/2019/10/Hocus-Pocus-10-19.jpg
END:VEVENT
BEGIN:VEVENT
DTSTART;TZID=America/Chicago:20191018T170000
DTEND;TZID=America/Chicago:20191018T210000
DTSTAMP:20260423T134049
CREATED:20190924T191403Z
LAST-MODIFIED:20190924T191403Z
UID:32069-1571418000-1571432400@birminghammommy.com
SUMMARY:Boo at the Zoo
DESCRIPTION:Come experience the excitement on Henley Park with inflatables\, ghostly Ghoul School\, Bat Keeper Chats and so much more! Guests are invited to wear their favorite family-friendly costumes as they partake in the festivities. \nTrick or Treat Lane will be the sought after candy place for anyone with a sweet tooth! Take a wild ride around the Zoo on our Eerie Express Train. The Spider Slide\, Ghost Rollers and Scarousel are just a few thrills that are sure to entertain children of all ages. \nMeet members of our animal family at the UAB Callahan Eye Hospital Wildlife Show and around the park with Animal Greetings. Boogie down at the Monster Mash dance party under the Safari Peak. \nBoo at the Zoo presented by Wells Fargo is one spook-tacular event you won’t want to miss!
URL:https://birminghammommy.com/event/boo-at-the-zoo-15/2019-10-18/
LOCATION:Birmingham Zoo\, 2630 Cahaba Road\, Birmingham \, AL\, 35223
GEO:33.4867334;-86.7789473
X-APPLE-STRUCTURED-LOCATION;VALUE=URI;X-ADDRESS=Birmingham Zoo 2630 Cahaba Road Birmingham  AL 35223;X-APPLE-RADIUS=500;X-TITLE=2630 Cahaba Road:geo:-86.7789473,33.4867334
END:VEVENT
BEGIN:VEVENT
DTSTART;TZID=America/Chicago:20191017T180000
DTEND;TZID=America/Chicago:20191017T190000
DTSTAMP:20260423T134049
CREATED:20190925T132927Z
LAST-MODIFIED:20190925T132927Z
UID:32128-1571335200-1571338800@birminghammommy.com
SUMMARY:Spooky Stories with Ms. Kristy
DESCRIPTION:Spooky Stories is a spine-tingling tradition here at the North Shelby Library for families and their older children.  This one hour program will have spooktacular stories with Ms. Kristy and cooked s’mores and hot dogs by the fire. The stories will be appropriate for ages 8+. For families with older children. Costumes welcome. Contact Kristy at 439-5505 or nschild@shelbycounty-al.org for more information. \nRegistration required and begins October 1st. Fee is $3 per person due at time of registration and can be paid online here with credit card or in person in the Children’s Department with cash or check. Please register each person individually or register as a group and specify the number of people. Please note: If “Pay in Person” is selected when registering online\, please come by the library ASAP as tickets will not be assured until payment is received. No refunds unless the library has to cancel or reschedule the event. 
URL:https://birminghammommy.com/event/spooky-stories-with-ms-kristy/
LOCATION:North Shelby Library\, 5521 Cahaba Valley Road\, Birmingham\, AL\, 35242
GEO:33.3646429;-86.7165499
X-APPLE-STRUCTURED-LOCATION;VALUE=URI;X-ADDRESS=North Shelby Library 5521 Cahaba Valley Road Birmingham AL 35242;X-APPLE-RADIUS=500;X-TITLE=5521 Cahaba Valley Road:geo:-86.7165499,33.3646429
END:VEVENT
BEGIN:VEVENT
DTSTART;TZID=America/Chicago:20191017T153000
DTEND;TZID=America/Chicago:20191017T161500
DTSTAMP:20260423T134049
CREATED:20190922T133325Z
LAST-MODIFIED:20190922T133325Z
UID:31989-1571326200-1571328900@birminghammommy.com
SUMMARY:Harry Potter Coding Club
DESCRIPTION:(3-5 Grade) Learn coding basics while practicing your spell work! Wands (and laptops) will be provided. Register online.
URL:https://birminghammommy.com/event/harry-potter-coding-club-2/
LOCATION:Homewood Public Library\, 1721 Oxmoor Road\, Homewood\, AL\, 35209\, United States
GEO:33.4750533;-86.795404
X-APPLE-STRUCTURED-LOCATION;VALUE=URI;X-ADDRESS=Homewood Public Library 1721 Oxmoor Road Homewood AL 35209 United States;X-APPLE-RADIUS=500;X-TITLE=1721 Oxmoor Road:geo:-86.795404,33.4750533
END:VEVENT
BEGIN:VEVENT
DTSTART;TZID=America/Chicago:20191016T153000
DTEND;TZID=America/Chicago:20191016T161500
DTSTAMP:20260423T134049
CREATED:20190922T133141Z
LAST-MODIFIED:20190922T133141Z
UID:31987-1571239800-1571242500@birminghammommy.com
SUMMARY:Kids Create: Food
DESCRIPTION:(K-5 Grade) Make delicious snacks and crafts with us!
URL:https://birminghammommy.com/event/kids-create-food/
LOCATION:Homewood Public Library\, 1721 Oxmoor Road\, Homewood\, AL\, 35209\, United States
GEO:33.4750533;-86.795404
X-APPLE-STRUCTURED-LOCATION;VALUE=URI;X-ADDRESS=Homewood Public Library 1721 Oxmoor Road Homewood AL 35209 United States;X-APPLE-RADIUS=500;X-TITLE=1721 Oxmoor Road:geo:-86.795404,33.4750533
END:VEVENT
BEGIN:VEVENT
DTSTART;TZID=America/Chicago:20191016T130000
DTEND;TZID=America/Chicago:20191016T140000
DTSTAMP:20260423T134049
CREATED:20190925T132655Z
LAST-MODIFIED:20190925T132655Z
UID:32126-1571230800-1571234400@birminghammommy.com
SUMMARY:K-5th Homeschool Hangout: Hogwarts Science!
DESCRIPTION:Join Ms. Jan of Dynamic Education Adventures and learn about the magical aspects of science! \nContact Vanessa at NSChildrensLibrarian@shelbycounty-al.org or 439-5504 for more information. Registration opens 3 weeks before start date. Grades K-5th. Registration required. Space is Limited.
URL:https://birminghammommy.com/event/k-5th-homeschool-hangout-hogwarts-science/
LOCATION:North Shelby Library\, 5521 Cahaba Valley Road\, Birmingham\, AL\, 35242
GEO:33.3646429;-86.7165499
X-APPLE-STRUCTURED-LOCATION;VALUE=URI;X-ADDRESS=North Shelby Library 5521 Cahaba Valley Road Birmingham AL 35242;X-APPLE-RADIUS=500;X-TITLE=5521 Cahaba Valley Road:geo:-86.7165499,33.3646429
END:VEVENT
BEGIN:VEVENT
DTSTART;TZID=America/Chicago:20191015T153000
DTEND;TZID=America/Chicago:20191015T163000
DTSTAMP:20260423T134049
CREATED:20190922T132944Z
LAST-MODIFIED:20190922T132944Z
UID:31985-1571153400-1571157000@birminghammommy.com
SUMMARY:Tween Zombie Barbies
DESCRIPTION:Turn old Barbie dolls into something from the walking dead. \n\n\n\n\n\n\nAll supplies provided. Open to 4th-7th graders. Register online. \nTuesday\, October 15\, 2019\, from 3:30-4:30 p.m. Room 110
URL:https://birminghammommy.com/event/tween-zombie-barbies/
LOCATION:Homewood Public Library\, 1721 Oxmoor Road\, Homewood\, AL\, 35209\, United States
GEO:33.4750533;-86.795404
X-APPLE-STRUCTURED-LOCATION;VALUE=URI;X-ADDRESS=Homewood Public Library 1721 Oxmoor Road Homewood AL 35209 United States;X-APPLE-RADIUS=500;X-TITLE=1721 Oxmoor Road:geo:-86.795404,33.4750533
END:VEVENT
BEGIN:VEVENT
DTSTART;TZID=America/Chicago:20191015T103000
DTEND;TZID=America/Chicago:20191015T113000
DTSTAMP:20260423T134049
CREATED:20190925T132529Z
LAST-MODIFIED:20190925T132529Z
UID:32124-1571135400-1571139000@birminghammommy.com
SUMMARY:Preschool Kitchen Science: Spooky Science
DESCRIPTION:STEAM-y (Science Technology Engineering Art and Math) science experiments for preschoolers. Registration opens 2 weeks before start date. \nPreschool Ages 3-5.  Registration required.
URL:https://birminghammommy.com/event/preschool-kitchen-science-spooky-science/
LOCATION:North Shelby Library\, 5521 Cahaba Valley Road\, Birmingham\, AL\, 35242
GEO:33.3646429;-86.7165499
X-APPLE-STRUCTURED-LOCATION;VALUE=URI;X-ADDRESS=North Shelby Library 5521 Cahaba Valley Road Birmingham AL 35242;X-APPLE-RADIUS=500;X-TITLE=5521 Cahaba Valley Road:geo:-86.7165499,33.3646429
END:VEVENT
BEGIN:VEVENT
DTSTART;TZID=America/Chicago:20191015T103000
DTEND;TZID=America/Chicago:20191015T113000
DTSTAMP:20260423T134049
CREATED:20190925T132353Z
LAST-MODIFIED:20190925T132353Z
UID:32122-1571135400-1571139000@birminghammommy.com
SUMMARY:Mt Laurel Puppet Tales
DESCRIPTION:A storytime filled with puppet fun! Watch stories and songs come alive through puppets and make a small puppet to take! Suited for ages 2-5. Registration required.
URL:https://birminghammommy.com/event/mt-laurel-puppet-tales-6/
LOCATION:Mt Laurel Library\, 111 Olmsted St\, Birmingham\, AL\, 35242
GEO:33.4096347;-86.6292618
X-APPLE-STRUCTURED-LOCATION;VALUE=URI;X-ADDRESS=Mt Laurel Library 111 Olmsted St Birmingham AL 35242;X-APPLE-RADIUS=500;X-TITLE=111 Olmsted St:geo:-86.6292618,33.4096347
END:VEVENT
BEGIN:VEVENT
DTSTART;TZID=America/Chicago:20191015T090000
DTEND;TZID=America/Chicago:20191015T170000
DTSTAMP:20260423T134049
CREATED:20190925T131930Z
LAST-MODIFIED:20190925T131930Z
UID:32120-1571130000-1571158800@birminghammommy.com
SUMMARY:National Grouch Day Craft
DESCRIPTION:Stop by the Children’s Department and celebrate your favorite Grouch with a craft! While supplies last.
URL:https://birminghammommy.com/event/national-grouch-day-craft/
LOCATION:North Shelby Library\, 5521 Cahaba Valley Road\, Birmingham\, AL\, 35242
GEO:33.3646429;-86.7165499
X-APPLE-STRUCTURED-LOCATION;VALUE=URI;X-ADDRESS=North Shelby Library 5521 Cahaba Valley Road Birmingham AL 35242;X-APPLE-RADIUS=500;X-TITLE=5521 Cahaba Valley Road:geo:-86.7165499,33.3646429
END:VEVENT
BEGIN:VEVENT
DTSTART;TZID=America/Chicago:20191012T103000
DTEND;TZID=America/Chicago:20191012T110000
DTSTAMP:20260423T134049
CREATED:20190922T132819Z
LAST-MODIFIED:20190922T132819Z
UID:31983-1570876200-1570878000@birminghammommy.com
SUMMARY:Baby and Me Storytime
DESCRIPTION:(Birth-12 Months) Join Ms. Mary for an educational and engaging storytime filled with songs\, fingerplays\, board books\, and stories.
URL:https://birminghammommy.com/event/baby-and-me-storytime-9/
LOCATION:Homewood Public Library\, 1721 Oxmoor Road\, Homewood\, AL\, 35209\, United States
GEO:33.4750533;-86.795404
X-APPLE-STRUCTURED-LOCATION;VALUE=URI;X-ADDRESS=Homewood Public Library 1721 Oxmoor Road Homewood AL 35209 United States;X-APPLE-RADIUS=500;X-TITLE=1721 Oxmoor Road:geo:-86.795404,33.4750533
END:VEVENT
BEGIN:VEVENT
DTSTART;TZID=America/Chicago:20191012T100000
DTEND;TZID=America/Chicago:20191012T150000
DTSTAMP:20260423T134049
CREATED:20190925T131526Z
LAST-MODIFIED:20190925T131526Z
UID:32118-1570874400-1570892400@birminghammommy.com
SUMMARY:Mt Laurel Fall Festival Craft
DESCRIPTION:Stop by during the Mt Laurel Fall Festival to make a craft at the library. All ages with parent help. Registration is not required but supplies are limited.
URL:https://birminghammommy.com/event/mt-laurel-fall-festival-craft-2/
LOCATION:Mt Laurel Library\, 111 Olmsted St\, Birmingham\, AL\, 35242
GEO:33.4096347;-86.6292618
X-APPLE-STRUCTURED-LOCATION;VALUE=URI;X-ADDRESS=Mt Laurel Library 111 Olmsted St Birmingham AL 35242;X-APPLE-RADIUS=500;X-TITLE=111 Olmsted St:geo:-86.6292618,33.4096347
END:VEVENT
BEGIN:VEVENT
DTSTART;TZID=America/Chicago:20191012T090000
DTEND;TZID=America/Chicago:20191012T163000
DTSTAMP:20260423T134049
CREATED:20191007T203544Z
LAST-MODIFIED:20191007T203544Z
UID:32180-1570870800-1570897800@birminghammommy.com
SUMMARY:Spooky Science at CHOM!
DESCRIPTION:Spooky Science at CHOM! \nSaturday\, October 12\, 2019   9 – 4:30 pm \nGrab your lab coat and step into our mad science lab \nfor spooky\, kooky\, and mind-boggling science experiments!
URL:https://birminghammommy.com/event/spooky-science-at-chom/
LOCATION:Children’s Hands-On Museum\, 2213 University Blvd.\, Tuscaloosa\, 35401\, United States
ATTACH;FMTTYPE=image/jpeg:https://birminghammommy.com/wp-content/uploads/2019/10/Spooky-Science-10-12.jpg
GEO:33.2100798;-87.566162
X-APPLE-STRUCTURED-LOCATION;VALUE=URI;X-ADDRESS=Children’s Hands-On Museum 2213 University Blvd. Tuscaloosa 35401 United States;X-APPLE-RADIUS=500;X-TITLE=2213 University Blvd.:geo:-87.566162,33.2100798
END:VEVENT
BEGIN:VEVENT
DTSTART;TZID=America/Chicago:20191011T170000
DTEND;TZID=America/Chicago:20191011T210000
DTSTAMP:20260423T134049
CREATED:20190924T191158Z
LAST-MODIFIED:20190924T191158Z
UID:32064-1570813200-1570827600@birminghammommy.com
SUMMARY:Boo at the Zoo
DESCRIPTION:Come experience the excitement on Henley Park with inflatables\, ghostly Ghoul School\, Bat Keeper Chats and so much more! Guests are invited to wear their favorite family-friendly costumes as they partake in the festivities. \nTrick or Treat Lane will be the sought after candy place for anyone with a sweet tooth! Take a wild ride around the Zoo on our Eerie Express Train. The Spider Slide\, Ghost Rollers and Scarousel are just a few thrills that are sure to entertain children of all ages. \nMeet members of our animal family at the UAB Callahan Eye Hospital Wildlife Show and around the park with Animal Greetings. Boogie down at the Monster Mash dance party under the Safari Peak. \nBoo at the Zoo presented by Wells Fargo is one spook-tacular event you won’t want to miss!
URL:https://birminghammommy.com/event/boo-at-the-zoo-14/2019-10-11/
LOCATION:Birmingham Zoo\, 2630 Cahaba Road\, Birmingham \, AL\, 35223
GEO:33.4867334;-86.7789473
X-APPLE-STRUCTURED-LOCATION;VALUE=URI;X-ADDRESS=Birmingham Zoo 2630 Cahaba Road Birmingham  AL 35223;X-APPLE-RADIUS=500;X-TITLE=2630 Cahaba Road:geo:-86.7789473,33.4867334
END:VEVENT
BEGIN:VEVENT
DTSTART;TZID=America/Chicago:20191011T160000
DTEND;TZID=America/Chicago:20191011T170000
DTSTAMP:20260423T134049
CREATED:20190925T131342Z
LAST-MODIFIED:20190925T131342Z
UID:32116-1570809600-1570813200@birminghammommy.com
SUMMARY:Painted Pumpkin Party
DESCRIPTION:BYOP (Bring Your Own Pumpkin). We’ll provide the paint. All ages welcome with a caregiver. Registration is required. Registration opens two weeks before event.
URL:https://birminghammommy.com/event/painted-pumpkin-party-2/
LOCATION:North Shelby Library\, 5521 Cahaba Valley Road\, Birmingham\, AL\, 35242
GEO:33.3646429;-86.7165499
X-APPLE-STRUCTURED-LOCATION;VALUE=URI;X-ADDRESS=North Shelby Library 5521 Cahaba Valley Road Birmingham AL 35242;X-APPLE-RADIUS=500;X-TITLE=5521 Cahaba Valley Road:geo:-86.7165499,33.3646429
END:VEVENT
BEGIN:VEVENT
DTSTART;TZID=America/Chicago:20191011T103000
DTEND;TZID=America/Chicago:20191011T110000
DTSTAMP:20260423T134049
CREATED:20190922T132716Z
LAST-MODIFIED:20190922T132716Z
UID:31980-1570789800-1570791600@birminghammommy.com
SUMMARY:Sensory Storytime
DESCRIPTION:(Preschool) Join Ms. Laura for books\, songs\, and activities that stimulate the senses and promote learning in a sensory-inclusive atmosphere. Registration is required. \n\n\n\n\n\n\nThis week’s theme is about Teeth. Here are the stories we will be sharing: \nClarabella’s Teeth by An Vrombaut \nPony Brushes His Teeth by Michael Dahl
URL:https://birminghammommy.com/event/sensory-storytime-15/2019-10-11/
LOCATION:Homewood Public Library\, 1721 Oxmoor Road\, Homewood\, AL\, 35209\, United States
GEO:33.4750533;-86.795404
X-APPLE-STRUCTURED-LOCATION;VALUE=URI;X-ADDRESS=Homewood Public Library 1721 Oxmoor Road Homewood AL 35209 United States;X-APPLE-RADIUS=500;X-TITLE=1721 Oxmoor Road:geo:-86.795404,33.4750533
END:VEVENT
BEGIN:VEVENT
DTSTART;TZID=America/Chicago:20191011T093000
DTEND;TZID=America/Chicago:20191011T110000
DTSTAMP:20260423T134049
CREATED:20190922T132534Z
LAST-MODIFIED:20190922T132534Z
UID:31977-1570786200-1570791600@birminghammommy.com
SUMMARY:Sensory Storytime
DESCRIPTION:(Preschool) Join Ms. Laura for books\, songs\, and activities that stimulate the senses and promote learning in a sensory-inclusive atmosphere. Registration is required. \n\n\n\n\n\n\nThis week’s theme is about Teeth. Here are the stories we will be sharing: \nClarabella’s Teeth by An Vrombaut \nPony Brushes His Teeth by Michael Dahl
URL:https://birminghammommy.com/event/sensory-storytime-14/2019-10-11/
LOCATION:Homewood Public Library\, 1721 Oxmoor Road\, Homewood\, AL\, 35209\, United States
GEO:33.4750533;-86.795404
X-APPLE-STRUCTURED-LOCATION;VALUE=URI;X-ADDRESS=Homewood Public Library 1721 Oxmoor Road Homewood AL 35209 United States;X-APPLE-RADIUS=500;X-TITLE=1721 Oxmoor Road:geo:-86.795404,33.4750533
END:VEVENT
BEGIN:VEVENT
DTSTART;TZID=America/Chicago:20191010T183000
DTEND;TZID=America/Chicago:20191010T191500
DTSTAMP:20260423T134049
CREATED:20190925T130532Z
LAST-MODIFIED:20190925T130532Z
UID:32114-1570732200-1570734900@birminghammommy.com
SUMMARY:Pajama Storytime
DESCRIPTION:Come in your PJs\, have some cookies\, and hear some wonderful bedtime tales.\n \nSuited for ages 3 and up. No Registration Required.
URL:https://birminghammommy.com/event/pajama-storytime-14/
LOCATION:North Shelby Library\, 5521 Cahaba Valley Road\, Birmingham\, AL\, 35242
GEO:33.3646429;-86.7165499
X-APPLE-STRUCTURED-LOCATION;VALUE=URI;X-ADDRESS=North Shelby Library 5521 Cahaba Valley Road Birmingham AL 35242;X-APPLE-RADIUS=500;X-TITLE=5521 Cahaba Valley Road:geo:-86.7165499,33.3646429
END:VEVENT
BEGIN:VEVENT
DTSTART;TZID=America/Chicago:20191010T110000
DTEND;TZID=America/Chicago:20191010T113000
DTSTAMP:20260423T134049
CREATED:20190922T132203Z
LAST-MODIFIED:20190922T132214Z
UID:31975-1570705200-1570707000@birminghammommy.com
SUMMARY:Pop Up Storytime at Brookwood Mall
DESCRIPTION:Join Homewod Public Library at Brookwood Village for a special pop up storytime at the atrium near the food court.
URL:https://birminghammommy.com/event/pop-up-storytime-at-brookwood-mall/
LOCATION:Brookwood Mall\, 780 Brookwood Village\, Birmingham\, AL\, 35209
GEO:33.470018;-86.771001
X-APPLE-STRUCTURED-LOCATION;VALUE=URI;X-ADDRESS=Brookwood Mall 780 Brookwood Village Birmingham AL 35209;X-APPLE-RADIUS=500;X-TITLE=780 Brookwood Village:geo:-86.771001,33.470018
END:VEVENT
BEGIN:VEVENT
DTSTART;TZID=America/Chicago:20191009T153000
DTEND;TZID=America/Chicago:20191009T161500
DTSTAMP:20260423T134049
CREATED:20190922T131538Z
LAST-MODIFIED:20190922T131538Z
UID:31973-1570635000-1570637700@birminghammommy.com
SUMMARY:Kids Create: LEGO Challenge
DESCRIPTION:(K-5 Grade) Put your LEGO skills to the test with each new challenge.
URL:https://birminghammommy.com/event/kids-create-lego-challenge-2/
LOCATION:Homewood Public Library\, 1721 Oxmoor Road\, Homewood\, AL\, 35209\, United States
GEO:33.4750533;-86.795404
X-APPLE-STRUCTURED-LOCATION;VALUE=URI;X-ADDRESS=Homewood Public Library 1721 Oxmoor Road Homewood AL 35209 United States;X-APPLE-RADIUS=500;X-TITLE=1721 Oxmoor Road:geo:-86.795404,33.4750533
END:VEVENT
BEGIN:VEVENT
DTSTART;TZID=America/Chicago:20191008T180000
DTEND;TZID=America/Chicago:20191008T193000
DTSTAMP:20260423T134049
CREATED:20190826T171601Z
LAST-MODIFIED:20190826T171601Z
UID:31490-1570557600-1570563000@birminghammommy.com
SUMMARY:Family Game Night at Pelham Library
DESCRIPTION:Meets every 2nd and 4th Tuesday of the month. Offers card games and board games\, such as chess\, Monopoly\, Sorry\, Jenga\, and Uno\, as well as King of Tokyo\, One Night Ultimate Werewolf\, Munchkin\, and Spy Alley. Participants are also welcome to bring their own favorite games from home. \nTeens meet in Roberts Room A\, while families with small children meet in Roberts Room B.
URL:https://birminghammommy.com/event/family-game-night-at-pelham-library-4/
LOCATION:Pelham Public Library\, 2000 Pelham Park Boulevard\, Pelham\, AL\, 35124\, United States
ATTACH;FMTTYPE=image/jpeg:https://birminghammommy.com/wp-content/uploads/2019/08/family-game-night-3.jpg
END:VEVENT
BEGIN:VEVENT
DTSTART;TZID=America/Chicago:20191008T103000
DTEND;TZID=America/Chicago:20191008T113000
DTSTAMP:20260423T134049
CREATED:20190919T235315Z
LAST-MODIFIED:20190919T235315Z
UID:31824-1570530600-1570534200@birminghammommy.com
SUMMARY:Tiny Tyke Tales: Monster Tales!
DESCRIPTION:Join Birmingham Children’s Theatre for an interactive story adventure! Together we’ll journey through the pages of some of your favorite children’s books with physical\, musical and creative stimulation for your very youngest theatre makers. For ages 6 weeks – 3 years. \nHalloween is a time for ghosts\, ghouls\, and wild things! Let your imagination roar as we create magical monster worlds – each week features a different children’s book about our favorite furry and fanged friends! \nTiny Tyke Tales will feature a 30 minute guided interactive adventure followed by 30 minutes of open exploration and play. \nSelect dates throughout the year. Tickets are $5 for each participant older than 6 months.\nAll of our adventures start at 10:30am in the Charlotte Lane Dominick Theatre at the BJCC.
URL:https://birminghammommy.com/event/tiny-tyke-tales-monster-tales/2019-10-08/
LOCATION:Birmingham Children’s Theatre\, 2130 Richard Arrington Jr Blvd N\, Birmingham\, AL\, 35203
CATEGORIES:StoryTime
ATTACH;FMTTYPE=image/png:https://birminghammommy.com/wp-content/uploads/2019/09/TinyTykeMonster-sm.png
ORGANIZER;CN="Birmingham Children's Theatre":MAILTO:info@bct123.org
GEO:33.525709;-86.8101544
X-APPLE-STRUCTURED-LOCATION;VALUE=URI;X-ADDRESS=Birmingham Children’s Theatre 2130 Richard Arrington Jr Blvd N Birmingham AL 35203;X-APPLE-RADIUS=500;X-TITLE=2130 Richard Arrington Jr Blvd N:geo:-86.8101544,33.525709
END:VEVENT
BEGIN:VEVENT
DTSTART;TZID=America/Chicago:20191008T103000
DTEND;TZID=America/Chicago:20191008T111500
DTSTAMP:20260423T134049
CREATED:20190925T130000Z
LAST-MODIFIED:20190925T130000Z
UID:32112-1570530600-1570533300@birminghammommy.com
SUMMARY:Puppet Tales
DESCRIPTION:A new storytime filled with puppet fun! Watch stories and songs come alive through puppets and make a small puppet to take! Registration will begin two weeks prior to program date. \nDesigned for ages 2-5. Registration required.
URL:https://birminghammommy.com/event/puppet-tales-4/
LOCATION:North Shelby Library\, 5521 Cahaba Valley Road\, Birmingham\, AL\, 35242
GEO:33.3646429;-86.7165499
X-APPLE-STRUCTURED-LOCATION;VALUE=URI;X-ADDRESS=North Shelby Library 5521 Cahaba Valley Road Birmingham AL 35242;X-APPLE-RADIUS=500;X-TITLE=5521 Cahaba Valley Road:geo:-86.7165499,33.3646429
END:VEVENT
BEGIN:VEVENT
DTSTART;TZID=America/Chicago:20191007T103000
DTEND;TZID=America/Chicago:20191007T111500
DTSTAMP:20260423T134049
CREATED:20190925T125841Z
LAST-MODIFIED:20190925T125841Z
UID:32110-1570444200-1570446900@birminghammommy.com
SUMMARY:Toddler Tales
DESCRIPTION:Stories\, songs\, and fingerplays make up a lively 30 minute program designed especially for toddlers. Registration will begin one week prior to each storytime. \n\n \nAges 19-36 months. Registration required and opens 1 week before program.
URL:https://birminghammommy.com/event/toddler-tales-19/
LOCATION:North Shelby Library\, 5521 Cahaba Valley Road\, Birmingham\, AL\, 35242
GEO:33.3646429;-86.7165499
X-APPLE-STRUCTURED-LOCATION;VALUE=URI;X-ADDRESS=North Shelby Library 5521 Cahaba Valley Road Birmingham AL 35242;X-APPLE-RADIUS=500;X-TITLE=5521 Cahaba Valley Road:geo:-86.7165499,33.3646429
END:VEVENT
BEGIN:VEVENT
DTSTART;TZID=America/Chicago:20191007T103000
DTEND;TZID=America/Chicago:20191007T110000
DTSTAMP:20260423T134049
CREATED:20190922T131421Z
LAST-MODIFIED:20190922T131421Z
UID:31963-1570444200-1570446000@birminghammommy.com
SUMMARY:Storypalooza
DESCRIPTION:Join Ms. Cristina for an interactive and playful storytime to start off the week!
URL:https://birminghammommy.com/event/storypalooza-7/2019-10-07/
LOCATION:Homewood Public Library\, 1721 Oxmoor Road\, Homewood\, AL\, 35209\, United States
GEO:33.4750533;-86.795404
X-APPLE-STRUCTURED-LOCATION;VALUE=URI;X-ADDRESS=Homewood Public Library 1721 Oxmoor Road Homewood AL 35209 United States;X-APPLE-RADIUS=500;X-TITLE=1721 Oxmoor Road:geo:-86.795404,33.4750533
END:VEVENT
BEGIN:VEVENT
DTSTART;TZID=America/Chicago:20191007T100000
DTEND;TZID=America/Chicago:20191007T104500
DTSTAMP:20260423T134049
CREATED:20190922T131221Z
LAST-MODIFIED:20190922T131221Z
UID:31961-1570442400-1570445100@birminghammommy.com
SUMMARY:Homewood STEAM Club
DESCRIPTION:Live Animal Show and Dissecting Owl Pellets – Students will learn about invertebrates and vertebrates by meeting live animals. The children will also dissect owl pellets.
URL:https://birminghammommy.com/event/homewood-steam-club/
LOCATION:Homewood Public Library\, 1721 Oxmoor Road\, Homewood\, AL\, 35209\, United States
GEO:33.4750533;-86.795404
X-APPLE-STRUCTURED-LOCATION;VALUE=URI;X-ADDRESS=Homewood Public Library 1721 Oxmoor Road Homewood AL 35209 United States;X-APPLE-RADIUS=500;X-TITLE=1721 Oxmoor Road:geo:-86.795404,33.4750533
END:VEVENT
END:VCALENDAR