BEGIN:VCALENDAR
VERSION:2.0
PRODID:-//Birmingham Mommy - ECPv6.3.5//NONSGML v1.0//EN
CALSCALE:GREGORIAN
METHOD:PUBLISH
X-ORIGINAL-URL:https://birminghammommy.com
X-WR-CALDESC:Events for Birmingham Mommy
REFRESH-INTERVAL;VALUE=DURATION:PT1H
X-Robots-Tag:noindex
X-PUBLISHED-TTL:PT1H
BEGIN:VTIMEZONE
TZID:America/Chicago
BEGIN:DAYLIGHT
TZOFFSETFROM:-0600
TZOFFSETTO:-0500
TZNAME:CDT
DTSTART:20190310T080000
END:DAYLIGHT
BEGIN:STANDARD
TZOFFSETFROM:-0500
TZOFFSETTO:-0600
TZNAME:CST
DTSTART:20191103T070000
END:STANDARD
END:VTIMEZONE
BEGIN:VEVENT
DTSTART;TZID=America/Chicago:20190910T153000
DTEND;TZID=America/Chicago:20190910T161500
DTSTAMP:20260423T024325
CREATED:20190820T004714Z
LAST-MODIFIED:20190820T004714Z
UID:31331-1568129400-1568132100@birminghammommy.com
SUMMARY:Library Out Loud
DESCRIPTION:Sign in and drop off your K-2nd graders for live-action stories\, puppet shows\, crafts\, snacks\, and games.
URL:https://birminghammommy.com/event/library-out-loud-5/
LOCATION:Emmet O’ Neal Library\, 50 Oak Street\, Mountain Brook\, AL\, 35213
GEO:33.5012941;-86.7565774
X-APPLE-STRUCTURED-LOCATION;VALUE=URI;X-ADDRESS=Emmet O’ Neal Library 50 Oak Street Mountain Brook AL 35213;X-APPLE-RADIUS=500;X-TITLE=50 Oak Street:geo:-86.7565774,33.5012941
END:VEVENT
BEGIN:VEVENT
DTSTART;TZID=America/Chicago:20190910T173000
DTEND;TZID=America/Chicago:20190910T190000
DTSTAMP:20260423T024325
CREATED:20190820T004852Z
LAST-MODIFIED:20190820T004852Z
UID:31333-1568136600-1568142000@birminghammommy.com
SUMMARY:Family Night
DESCRIPTION:Music with Jim Aycock. A light dinner at 5:30 pm and a show at 6:00 pm
URL:https://birminghammommy.com/event/family-night/
LOCATION:Emmet O’ Neal Library\, 50 Oak Street\, Mountain Brook\, AL\, 35213
GEO:33.5012941;-86.7565774
X-APPLE-STRUCTURED-LOCATION;VALUE=URI;X-ADDRESS=Emmet O’ Neal Library 50 Oak Street Mountain Brook AL 35213;X-APPLE-RADIUS=500;X-TITLE=50 Oak Street:geo:-86.7565774,33.5012941
END:VEVENT
BEGIN:VEVENT
DTSTART;TZID=America/Chicago:20190910T180000
DTEND;TZID=America/Chicago:20190910T193000
DTSTAMP:20260423T024325
CREATED:20190826T171631Z
LAST-MODIFIED:20190826T171631Z
UID:31484-1568138400-1568143800@birminghammommy.com
SUMMARY:Family Game Night at Pelham Library
DESCRIPTION:Meets every 2nd and 4th Tuesday of the month. Offers card games and board games\, such as chess\, Monopoly\, Sorry\, Jenga\, and Uno\, as well as King of Tokyo\, One Night Ultimate Werewolf\, Munchkin\, and Spy Alley. Participants are also welcome to bring their own favorite games from home. \nTeens meet in Roberts Room A\, while families with small children meet in Roberts Room B.
URL:https://birminghammommy.com/event/family-game-night-at-pelham-library-6/
LOCATION:Pelham Public Library\, 2000 Pelham Park Boulevard\, Pelham\, AL\, 35124\, United States
ATTACH;FMTTYPE=image/jpeg:https://birminghammommy.com/wp-content/uploads/2019/08/family-game-night-1.jpg
END:VEVENT
BEGIN:VEVENT
DTSTART;TZID=America/Chicago:20190911T093000
DTEND;TZID=America/Chicago:20190911T100000
DTSTAMP:20260423T024325
CREATED:20190820T005240Z
LAST-MODIFIED:20190820T005240Z
UID:31335-1568194200-1568196000@birminghammommy.com
SUMMARY:Mother Goose Storytime
DESCRIPTION:Stories\, songs\, and finger plays make up a lively 30 minute lap sit program designed especially for short attention spans. Ages 12-24 months with caregiver \nRegistration opens on Wednesday\, September 4 2019 at 9:00am
URL:https://birminghammommy.com/event/mother-goose-storytime-10/
LOCATION:Emmet O’ Neal Library\, 50 Oak Street\, Mountain Brook\, AL\, 35213
GEO:33.5012941;-86.7565774
X-APPLE-STRUCTURED-LOCATION;VALUE=URI;X-ADDRESS=Emmet O’ Neal Library 50 Oak Street Mountain Brook AL 35213;X-APPLE-RADIUS=500;X-TITLE=50 Oak Street:geo:-86.7565774,33.5012941
END:VEVENT
BEGIN:VEVENT
DTSTART;TZID=America/Chicago:20190911T103000
DTEND;TZID=America/Chicago:20190911T110000
DTSTAMP:20260423T024325
CREATED:20190817T232239Z
LAST-MODIFIED:20190817T232239Z
UID:31234-1568197800-1568199600@birminghammommy.com
SUMMARY:Storytime at Your Biblioteca
DESCRIPTION:(Preschool) Join us for a special bilingual storytime in English and Spanish!
URL:https://birminghammommy.com/event/storytime-at-your-biblioteca-4/
LOCATION:Homewood Public Library\, 1721 Oxmoor Road\, Homewood\, AL\, 35209\, United States
GEO:33.4750533;-86.795404
X-APPLE-STRUCTURED-LOCATION;VALUE=URI;X-ADDRESS=Homewood Public Library 1721 Oxmoor Road Homewood AL 35209 United States;X-APPLE-RADIUS=500;X-TITLE=1721 Oxmoor Road:geo:-86.795404,33.4750533
END:VEVENT
BEGIN:VEVENT
DTSTART;TZID=America/Chicago:20190911T103000
DTEND;TZID=America/Chicago:20190911T110000
DTSTAMP:20260423T024325
CREATED:20190820T005331Z
LAST-MODIFIED:20190820T005331Z
UID:31337-1568197800-1568199600@birminghammommy.com
SUMMARY:Mother Goose Storytime
DESCRIPTION:Stories\, songs\, and finger plays make up a lively 30 minute lap sit program designed especially for short attention spans. Ages 12-24 months with caregiver \nRegistration opens on Wednesday\, September 4 2019 at 9:00am
URL:https://birminghammommy.com/event/mother-goose-storytime-11/
LOCATION:Emmet O’ Neal Library\, 50 Oak Street\, Mountain Brook\, AL\, 35213
GEO:33.5012941;-86.7565774
X-APPLE-STRUCTURED-LOCATION;VALUE=URI;X-ADDRESS=Emmet O’ Neal Library 50 Oak Street Mountain Brook AL 35213;X-APPLE-RADIUS=500;X-TITLE=50 Oak Street:geo:-86.7565774,33.5012941
END:VEVENT
BEGIN:VEVENT
DTSTART;TZID=America/Chicago:20190911T104500
DTEND;TZID=America/Chicago:20190911T113000
DTSTAMP:20260423T024325
CREATED:20190821T035224Z
LAST-MODIFIED:20190821T035224Z
UID:31438-1568198700-1568201400@birminghammommy.com
SUMMARY:Family Storytime with Mr Mac
DESCRIPTION:Stories\, puppets\, and lots of music for every member of the family. \nAll ages. No registration.
URL:https://birminghammommy.com/event/family-storytime-with-mr-mac-20/
LOCATION:North Shelby Library\, 5521 Cahaba Valley Road\, Birmingham\, AL\, 35242
GEO:33.3646429;-86.7165499
X-APPLE-STRUCTURED-LOCATION;VALUE=URI;X-ADDRESS=North Shelby Library 5521 Cahaba Valley Road Birmingham AL 35242;X-APPLE-RADIUS=500;X-TITLE=5521 Cahaba Valley Road:geo:-86.7165499,33.3646429
END:VEVENT
BEGIN:VEVENT
DTSTART;TZID=America/Chicago:20190911T133000
DTEND;TZID=America/Chicago:20190911T141500
DTSTAMP:20260423T024325
CREATED:20190820T005633Z
LAST-MODIFIED:20190820T005633Z
UID:31339-1568208600-1568211300@birminghammommy.com
SUMMARY:Movers and Makers
DESCRIPTION:Build cooperation\, reading\, and school readiness skills. Ages 3-5.  Registration opens on Wednesday\, September 4 2019 at 9:00am
URL:https://birminghammommy.com/event/movers-and-makers-5/
LOCATION:Emmet O’ Neal Library\, 50 Oak Street\, Mountain Brook\, AL\, 35213
GEO:33.5012941;-86.7565774
X-APPLE-STRUCTURED-LOCATION;VALUE=URI;X-ADDRESS=Emmet O’ Neal Library 50 Oak Street Mountain Brook AL 35213;X-APPLE-RADIUS=500;X-TITLE=50 Oak Street:geo:-86.7565774,33.5012941
END:VEVENT
BEGIN:VEVENT
DTSTART;TZID=America/Chicago:20190911T153000
DTEND;TZID=America/Chicago:20190911T161500
DTSTAMP:20260423T024325
CREATED:20190817T232358Z
LAST-MODIFIED:20190817T232358Z
UID:31236-1568215800-1568218500@birminghammommy.com
SUMMARY:Kids Create: LEGO Challenge
DESCRIPTION:(K-5 Grade) Put your LEGO skills to the test with each new challenge.
URL:https://birminghammommy.com/event/kids-create-lego-challenge/
LOCATION:Homewood Public Library\, 1721 Oxmoor Road\, Homewood\, AL\, 35209\, United States
GEO:33.4750533;-86.795404
X-APPLE-STRUCTURED-LOCATION;VALUE=URI;X-ADDRESS=Homewood Public Library 1721 Oxmoor Road Homewood AL 35209 United States;X-APPLE-RADIUS=500;X-TITLE=1721 Oxmoor Road:geo:-86.795404,33.4750533
END:VEVENT
BEGIN:VEVENT
DTSTART;TZID=America/Chicago:20190911T153000
DTEND;TZID=America/Chicago:20190911T161500
DTSTAMP:20260423T024325
CREATED:20190820T005821Z
LAST-MODIFIED:20190820T005821Z
UID:31341-1568215800-1568218500@birminghammommy.com
SUMMARY:Comics and Cookies
DESCRIPTION:Each month we’ll talk about a different graphic novel! This month we’re reading New Kid by Jerry Craft. Pick up a copy at the Children’s Desk. Grades 3-6
URL:https://birminghammommy.com/event/comics-and-cookies/
LOCATION:Emmet O’ Neal Library\, 50 Oak Street\, Mountain Brook\, AL\, 35213
GEO:33.5012941;-86.7565774
X-APPLE-STRUCTURED-LOCATION;VALUE=URI;X-ADDRESS=Emmet O’ Neal Library 50 Oak Street Mountain Brook AL 35213;X-APPLE-RADIUS=500;X-TITLE=50 Oak Street:geo:-86.7565774,33.5012941
END:VEVENT
BEGIN:VEVENT
DTSTART;TZID=America/Chicago:20190912T093000
DTEND;TZID=America/Chicago:20190912T095000
DTSTAMP:20260423T024325
CREATED:20190820T010945Z
LAST-MODIFIED:20190820T010945Z
UID:31343-1568280600-1568281800@birminghammommy.com
SUMMARY:Patty Cake Storytime
DESCRIPTION:Early language enrichment program composed of stories\, rhymes\, and songs designed to nurture the bond between caregiver and baby. Ages 0-12 months\n\nRegistration opens on Thursday\, September 5 2019 at 9:00am
URL:https://birminghammommy.com/event/patty-cake-storytime-8/
LOCATION:Emmet O’ Neal Library\, 50 Oak Street\, Mountain Brook\, AL\, 35213
GEO:33.5012941;-86.7565774
X-APPLE-STRUCTURED-LOCATION;VALUE=URI;X-ADDRESS=Emmet O’ Neal Library 50 Oak Street Mountain Brook AL 35213;X-APPLE-RADIUS=500;X-TITLE=50 Oak Street:geo:-86.7565774,33.5012941
END:VEVENT
BEGIN:VEVENT
DTSTART;TZID=America/Chicago:20190912T093000
DTEND;TZID=America/Chicago:20190912T100000
DTSTAMP:20260423T024325
CREATED:20190817T232817Z
LAST-MODIFIED:20190817T232817Z
UID:31238-1568280600-1568282400@birminghammommy.com
SUMMARY:Preschool Playtime
DESCRIPTION:(Preschool) We’ll provide the stations\, and you provide the imagination for a fun morning of play.
URL:https://birminghammommy.com/event/preschool-playtime-12/
LOCATION:Homewood Public Library\, 1721 Oxmoor Road\, Homewood\, AL\, 35209\, United States
GEO:33.4750533;-86.795404
X-APPLE-STRUCTURED-LOCATION;VALUE=URI;X-ADDRESS=Homewood Public Library 1721 Oxmoor Road Homewood AL 35209 United States;X-APPLE-RADIUS=500;X-TITLE=1721 Oxmoor Road:geo:-86.795404,33.4750533
END:VEVENT
BEGIN:VEVENT
DTSTART;TZID=America/Chicago:20190912T103000
DTEND;TZID=America/Chicago:20190912T105000
DTSTAMP:20260423T024325
CREATED:20190820T011050Z
LAST-MODIFIED:20190820T011050Z
UID:31345-1568284200-1568285400@birminghammommy.com
SUMMARY:Patty Cake Sotrytime
DESCRIPTION:Early language enrichment program composed of stories\, rhymes\, and songs designed to nurture the bond between caregiver and baby. Ages 0-12 months\n\nRegistration opens on Thursday\, September 5 2019 at 9:00am
URL:https://birminghammommy.com/event/patty-cake-sotrytime/
LOCATION:Emmet O’ Neal Library\, 50 Oak Street\, Mountain Brook\, AL\, 35213
GEO:33.5012941;-86.7565774
X-APPLE-STRUCTURED-LOCATION;VALUE=URI;X-ADDRESS=Emmet O’ Neal Library 50 Oak Street Mountain Brook AL 35213;X-APPLE-RADIUS=500;X-TITLE=50 Oak Street:geo:-86.7565774,33.5012941
END:VEVENT
BEGIN:VEVENT
DTSTART;TZID=America/Chicago:20190912T153000
DTEND;TZID=America/Chicago:20190912T163000
DTSTAMP:20260423T024325
CREATED:20190817T233110Z
LAST-MODIFIED:20190817T233110Z
UID:31240-1568302200-1568305800@birminghammommy.com
SUMMARY:Kid Coderz
DESCRIPTION:(K-1 Grade) This introductory coding class introduces coding basics. A laptop is not required\, but participants are encouraged to bring their own. Register online.
URL:https://birminghammommy.com/event/kid-coderz-5/
LOCATION:Homewood Public Library\, 1721 Oxmoor Road\, Homewood\, AL\, 35209\, United States
GEO:33.4750533;-86.795404
X-APPLE-STRUCTURED-LOCATION;VALUE=URI;X-ADDRESS=Homewood Public Library 1721 Oxmoor Road Homewood AL 35209 United States;X-APPLE-RADIUS=500;X-TITLE=1721 Oxmoor Road:geo:-86.795404,33.4750533
END:VEVENT
BEGIN:VEVENT
DTSTART;TZID=America/Chicago:20190912T153000
DTEND;TZID=America/Chicago:20190912T163000
DTSTAMP:20260423T024325
CREATED:20190820T011212Z
LAST-MODIFIED:20190820T011212Z
UID:31347-1568302200-1568305800@birminghammommy.com
SUMMARY:SNaP
DESCRIPTION:Crafting: Perler Beads
URL:https://birminghammommy.com/event/snap-3/
LOCATION:Emmet O’ Neal Library\, 50 Oak Street\, Mountain Brook\, AL\, 35213
GEO:33.5012941;-86.7565774
X-APPLE-STRUCTURED-LOCATION;VALUE=URI;X-ADDRESS=Emmet O’ Neal Library 50 Oak Street Mountain Brook AL 35213;X-APPLE-RADIUS=500;X-TITLE=50 Oak Street:geo:-86.7565774,33.5012941
END:VEVENT
BEGIN:VEVENT
DTSTART;TZID=America/Chicago:20190912T164500
DTEND;TZID=America/Chicago:20190912T174500
DTSTAMP:20260423T024325
CREATED:20190817T233221Z
LAST-MODIFIED:20190817T233221Z
UID:31242-1568306700-1568310300@birminghammommy.com
SUMMARY:Kid Coderz
DESCRIPTION:(2-3 Grade) This introductory coding class introduces coding basics. A laptop is not required\, but participants are encouraged to bring their own. Register online.
URL:https://birminghammommy.com/event/kid-coderz-6/
LOCATION:Homewood Public Library\, 1721 Oxmoor Road\, Homewood\, AL\, 35209\, United States
GEO:33.4750533;-86.795404
X-APPLE-STRUCTURED-LOCATION;VALUE=URI;X-ADDRESS=Homewood Public Library 1721 Oxmoor Road Homewood AL 35209 United States;X-APPLE-RADIUS=500;X-TITLE=1721 Oxmoor Road:geo:-86.795404,33.4750533
END:VEVENT
BEGIN:VEVENT
DTSTART;TZID=America/Chicago:20190912T180000
DTEND;TZID=America/Chicago:20190912T190000
DTSTAMP:20260423T024325
CREATED:20190906T131320Z
LAST-MODIFIED:20190906T131320Z
UID:31545-1568311200-1568314800@birminghammommy.com
SUMMARY:Manga Drawing Class for Teens & Tweens
DESCRIPTION:Ages 10-18 only. Local Birmingham artist Bo Hughins will teach teens and tweens how to draw manga. Limited seating. Call 205-620-6418 to register.
URL:https://birminghammommy.com/event/manga-drawing-class-for-teens-tweens-2/
LOCATION:Pelham Public Library\, 2000 Pelham Park Boulevard\, Pelham\, AL\, 35124\, United States
ATTACH;FMTTYPE=image/jpeg:https://birminghammommy.com/wp-content/uploads/2019/08/facebook-banner-manga-bham365-1.jpg
END:VEVENT
BEGIN:VEVENT
DTSTART;TZID=America/Chicago:20190912T183000
DTEND;TZID=America/Chicago:20190912T191500
DTSTAMP:20260423T024325
CREATED:20190821T035332Z
LAST-MODIFIED:20190821T035332Z
UID:31440-1568313000-1568315700@birminghammommy.com
SUMMARY:Pajama Storytime
DESCRIPTION:Come in your PJs\, have some cookies\, and hear some wonderful bedtime tales.\n \nSuited for ages 3+. No registration required.
URL:https://birminghammommy.com/event/pajama-storytime-10/
LOCATION:North Shelby Library\, 5521 Cahaba Valley Road\, Birmingham\, AL\, 35242
GEO:33.3646429;-86.7165499
X-APPLE-STRUCTURED-LOCATION;VALUE=URI;X-ADDRESS=North Shelby Library 5521 Cahaba Valley Road Birmingham AL 35242;X-APPLE-RADIUS=500;X-TITLE=5521 Cahaba Valley Road:geo:-86.7165499,33.3646429
END:VEVENT
BEGIN:VEVENT
DTSTART;TZID=America/Chicago:20190913T093000
DTEND;TZID=America/Chicago:20190913T100000
DTSTAMP:20260423T024325
CREATED:20190817T233749Z
LAST-MODIFIED:20190817T233749Z
UID:31244-1568367000-1568368800@birminghammommy.com
SUMMARY:Sensory Storytime
DESCRIPTION:(Preschool) Join Ms. Laura for books\, songs\, and activities that stimulate the senses and promote learning in a sensory-inclusive atmosphere. Registration is required. \n\n\n\n\n\n\nThis week’s theme is about Apples. Here are the stories we will be sharing: \nShake the Tree by Chiara Vignocchi and Silvia Borando \nNed’s New Home by Kevin Tseng
URL:https://birminghammommy.com/event/sensory-storytime-11/
LOCATION:Homewood Public Library\, 1721 Oxmoor Road\, Homewood\, AL\, 35209\, United States
GEO:33.4750533;-86.795404
X-APPLE-STRUCTURED-LOCATION;VALUE=URI;X-ADDRESS=Homewood Public Library 1721 Oxmoor Road Homewood AL 35209 United States;X-APPLE-RADIUS=500;X-TITLE=1721 Oxmoor Road:geo:-86.795404,33.4750533
END:VEVENT
BEGIN:VEVENT
DTSTART;TZID=America/Chicago:20190913T093000
DTEND;TZID=America/Chicago:20190913T103000
DTSTAMP:20260423T024325
CREATED:20190820T011425Z
LAST-MODIFIED:20190820T011425Z
UID:31349-1568367000-1568370600@birminghammommy.com
SUMMARY:Sensory Play\, Explore & More
DESCRIPTION:During the program\, children move through different sensory stations with their caregiver. 9:30-10:30: Free Play (There will be no limit to the fun during this hour.)
URL:https://birminghammommy.com/event/sensory-play-explore-more/
LOCATION:Emmet O’ Neal Library\, 50 Oak Street\, Mountain Brook\, AL\, 35213
GEO:33.5012941;-86.7565774
X-APPLE-STRUCTURED-LOCATION;VALUE=URI;X-ADDRESS=Emmet O’ Neal Library 50 Oak Street Mountain Brook AL 35213;X-APPLE-RADIUS=500;X-TITLE=50 Oak Street:geo:-86.7565774,33.5012941
END:VEVENT
BEGIN:VEVENT
DTSTART;TZID=America/Chicago:20190913T110000
DTEND;TZID=America/Chicago:20190913T113000
DTSTAMP:20260423T024325
CREATED:20190820T011557Z
LAST-MODIFIED:20190820T011557Z
UID:31351-1568372400-1568374200@birminghammommy.com
SUMMARY:Sensory Play\, Explore & More
DESCRIPTION:During the program\, children move through different sensory stations with their caregiver. 10:30- 11:00: Limited space (10 participants)
URL:https://birminghammommy.com/event/sensory-play-explore-more-2/
LOCATION:Emmet O’ Neal Library\, 50 Oak Street\, Mountain Brook\, AL\, 35213
GEO:33.5012941;-86.7565774
X-APPLE-STRUCTURED-LOCATION;VALUE=URI;X-ADDRESS=Emmet O’ Neal Library 50 Oak Street Mountain Brook AL 35213;X-APPLE-RADIUS=500;X-TITLE=50 Oak Street:geo:-86.7565774,33.5012941
END:VEVENT
BEGIN:VEVENT
DTSTART;TZID=America/Chicago:20190913T160000
DTEND;TZID=America/Chicago:20190913T230000
DTSTAMP:20260423T024325
CREATED:20190903T033635Z
LAST-MODIFIED:20190903T033635Z
UID:31624-1568390400-1568415600@birminghammommy.com
SUMMARY:Alabama State Fair
DESCRIPTION:Exciting Attractions & Shows. Live Music. All Your Favorite Fair Food. Spectacular Carnival & Kiddie Rides and more! \nAdmission: \nAdults (13-59) : $10\nYouth (5-12) : $5\nSenior (62+) : $5\nMilitary (With ID) : $5\nRide Passes  – $25 \n​Discount Days: \n$10 Tuesday (Unlimited Rides on Tuesday\,  Sept. 17th)\n2 for 1 Thursday (Ride Wristbands are 2 for $25\, Sept. 19th)​ \nGet FREE admission on Monday by entering your email on the State Fair Website \n*Please note the new location will be at the Birmingham Race Course for 2019
URL:https://birminghammommy.com/event/alabama-state-fair/
LOCATION:Birmingham Race Course\, 1000 John Rogers Dr\,\, Birmingham\, AL\, 35235
END:VEVENT
BEGIN:VEVENT
DTSTART;TZID=America/Chicago:20190913T180000
DTEND;TZID=America/Chicago:20190913T200000
DTSTAMP:20260423T024325
CREATED:20190723T130441Z
LAST-MODIFIED:20190723T130441Z
UID:31021-1568397600-1568404800@birminghammommy.com
SUMMARY:Paw Patrol Live! The Great Pirate Adventure
DESCRIPTION:X barks the spot in PAW Patrol Live! “The Great Pirate Adventure”! It’s Pirate Day in Adventure Bay\, and Mayor Goodway is getting ready for a big celebration! But first\, Ryder and his team of pirate pups must rescue Cap’n Turbot from a mysterious cavern. When they do\, they also discover a secret pirate treasure map! The PAW Patrol set out over land and sea to find the treasure for Mayor Goodway’s celebration before Mayor Humdinger finds it first! The pups will need all paws on deck for this pirate adventure\, including some help from the newest pup … Tracker!
URL:https://birminghammommy.com/event/paw-patrol-live-the-great-pirate-adventure/
LOCATION:BJCC Concert Hall\, 2100 Richard Arrington Jr. Blvd. North\, Birmingham\, AL\, 35203
ATTACH;FMTTYPE=image/png:https://birminghammommy.com/wp-content/uploads/2019/07/Screen-Shot-2019-07-23-at-7.49.16-AM-e1563886508898.png
GEO:33.5249488;-86.8082265
X-APPLE-STRUCTURED-LOCATION;VALUE=URI;X-ADDRESS=BJCC Concert Hall 2100 Richard Arrington Jr. Blvd. North Birmingham AL 35203;X-APPLE-RADIUS=500;X-TITLE=2100 Richard Arrington Jr. Blvd. North:geo:-86.8082265,33.5249488
END:VEVENT
BEGIN:VEVENT
DTSTART;TZID=America/Chicago:20190914T090000
DTEND;TZID=America/Chicago:20190914T163000
DTSTAMP:20260423T024325
CREATED:20190919T235749Z
LAST-MODIFIED:20190919T235749Z
UID:31785-1568451600-1568478600@birminghammommy.com
SUMMARY:World First Aid Day at CHOM!
DESCRIPTION:World First Aid Day at CHOM! \nSaturday\, September 14\, 2019   9-4:30 pm \nMake a first aid kit! \nTalk to emergency professionals! \nPractice your first aid skills! \nAll activities included in admission! \n 
URL:https://birminghammommy.com/event/world-first-aid-day-at-chom/
LOCATION:Children’s Hands-On Museum\, 2213 University Blvd.\, Tuscaloosa\, AL\, 35401\, United States
ATTACH;FMTTYPE=image/jpeg:https://birminghammommy.com/wp-content/uploads/2019/09/World-First-Aid-Day-9-14.jpg
END:VEVENT
BEGIN:VEVENT
DTSTART;TZID=America/Chicago:20190914T100000
DTEND;TZID=America/Chicago:20190914T110000
DTSTAMP:20260423T024325
CREATED:20190919T235749Z
LAST-MODIFIED:20190919T235749Z
UID:31768-1568455200-1568458800@birminghammommy.com
SUMMARY:The City Mouse and the Country Mouse
DESCRIPTION:THE CITY MOUSE AND THE COUNTRY MOUSE\nWRITTEN JEAN PIERCE ; MUSIC BY JAY TUMMINELLO & BARRY AUSTIN \nDIRECTED BY NAJAH ALI\nCountry Mouse invites her friend\, City Mouse\, to visit but plans change when City Mouse expounds on the adventures and luxuries of city living. Will Country Mouse be tempted by the excitement of the broader world? Or will the comforts of a small town prevail? Aesop’s traditional story of two mice from two different worlds comes to stage in this much beloved classic.\nSEPTEMBER 14TH\, 21ST* & 28TH\nSHOWS AT 10AM & 12PM\nRecommended for ages 2 – 7\nApproximate Time: 45 minutes \n*Saturday\, September 21st @ 12:00pm is our Sensory Friendly performance. Tickets at https://www.eventbrite.com/e/the-city-mouse-and-the-country-mouse-sensory-friendly-tickets-65193733211
URL:https://birminghammommy.com/event/the-city-mouse-and-the-country-mouse/2019-09-14/
LOCATION:Birmingham Children’s Theatre\, 2130 Richard Arrington Jr Blvd N\, Birmingham\, AL\, 35203
CATEGORIES:StoryTime
ATTACH;FMTTYPE=image/png:https://birminghammommy.com/wp-content/uploads/2019/09/CMCMFBCover.png
ORGANIZER;CN="Birmingham Children's Theatre":MAILTO:info@bct123.org
GEO:33.525709;-86.8101544
X-APPLE-STRUCTURED-LOCATION;VALUE=URI;X-ADDRESS=Birmingham Children’s Theatre 2130 Richard Arrington Jr Blvd N Birmingham AL 35203;X-APPLE-RADIUS=500;X-TITLE=2130 Richard Arrington Jr Blvd N:geo:-86.8101544,33.525709
END:VEVENT
BEGIN:VEVENT
DTSTART;TZID=America/Chicago:20190914T100000
DTEND;TZID=America/Chicago:20190914T140000
DTSTAMP:20260423T024325
CREATED:20190723T130722Z
LAST-MODIFIED:20190723T130722Z
UID:31023-1568455200-1568469600@birminghammommy.com
SUMMARY:PAW Patrol Live! The Great Pirate Adventure
DESCRIPTION:X barks the spot in PAW Patrol Live! “The Great Pirate Adventure”! It’s Pirate Day in Adventure Bay\, and Mayor Goodway is getting ready for a big celebration! But first\, Ryder and his team of pirate pups must rescue Cap’n Turbot from a mysterious cavern. When they do\, they also discover a secret pirate treasure map! The PAW Patrol set out over land and sea to find the treasure for Mayor Goodway’s celebration before Mayor Humdinger finds it first! The pups will need all paws on deck for this pirate adventure\, including some help from the newest pup … Tracker!
URL:https://birminghammommy.com/event/paw-patrol-live-the-great-pirate-adventure-2/2019-09-14/
LOCATION:BJCC Concert Hall\, 2100 Richard Arrington Jr. Blvd. North\, Birmingham\, AL\, 35203
ATTACH;FMTTYPE=image/png:https://birminghammommy.com/wp-content/uploads/2019/07/Screen-Shot-2019-07-23-at-7.49.16-AM-e1563886508898.png
GEO:33.5249488;-86.8082265
X-APPLE-STRUCTURED-LOCATION;VALUE=URI;X-ADDRESS=BJCC Concert Hall 2100 Richard Arrington Jr. Blvd. North Birmingham AL 35203;X-APPLE-RADIUS=500;X-TITLE=2100 Richard Arrington Jr. Blvd. North:geo:-86.8082265,33.5249488
END:VEVENT
BEGIN:VEVENT
DTSTART;TZID=America/Chicago:20190914T100000
DTEND;TZID=America/Chicago:20190914T140000
DTSTAMP:20260423T024325
CREATED:20190821T035430Z
LAST-MODIFIED:20190821T035430Z
UID:31442-1568455200-1568469600@birminghammommy.com
SUMMARY:Mt Laurel Crafty Saturday
DESCRIPTION:Drop in to make a craft at the library. All ages with parent help. Registration is not required but supplies are limited.
URL:https://birminghammommy.com/event/mt-laurel-crafty-saturday-7/
LOCATION:Mt Laurel Library\, 111 Olmsted St\, Birmingham\, AL\, 35242
GEO:33.4096347;-86.6292618
X-APPLE-STRUCTURED-LOCATION;VALUE=URI;X-ADDRESS=Mt Laurel Library 111 Olmsted St Birmingham AL 35242;X-APPLE-RADIUS=500;X-TITLE=111 Olmsted St:geo:-86.6292618,33.4096347
END:VEVENT
BEGIN:VEVENT
DTSTART;TZID=America/Chicago:20190914T100000
DTEND;TZID=America/Chicago:20190914T180000
DTSTAMP:20260423T024325
CREATED:20190831T131354Z
LAST-MODIFIED:20190831T131354Z
UID:31561-1568455200-1568484000@birminghammommy.com
SUMMARY:First Responder's Day
DESCRIPTION:Honor the service of Birmingham’s real-life superheroes. Meet local first responders*\, and learn about the everyday science that helps them tackle their daily jobs. \n*First Responders will receive half price admission with a valid ID for up to 5 family members.
URL:https://birminghammommy.com/event/first-responders-day/
LOCATION:McWane Science Center\, 200 19th Street North\, Birmingham\, AL\, 35203
GEO:33.5149315;-86.8083142
X-APPLE-STRUCTURED-LOCATION;VALUE=URI;X-ADDRESS=McWane Science Center 200 19th Street North Birmingham AL 35203;X-APPLE-RADIUS=500;X-TITLE=200 19th Street North:geo:-86.8083142,33.5149315
END:VEVENT
BEGIN:VEVENT
DTSTART;TZID=America/Chicago:20190914T103000
DTEND;TZID=America/Chicago:20190914T110000
DTSTAMP:20260423T024325
CREATED:20190817T233900Z
LAST-MODIFIED:20190817T233900Z
UID:31246-1568457000-1568458800@birminghammommy.com
SUMMARY:Baby & Me Storytime
DESCRIPTION:(Birth-12 Months) Join Ms. Mary for an educational and engaging storytime filled with songs\, fingerplays\, board books\, and stories.
URL:https://birminghammommy.com/event/baby-me-storytime/
LOCATION:Homewood Public Library\, 1721 Oxmoor Road\, Homewood\, AL\, 35209\, United States
GEO:33.4750533;-86.795404
X-APPLE-STRUCTURED-LOCATION;VALUE=URI;X-ADDRESS=Homewood Public Library 1721 Oxmoor Road Homewood AL 35209 United States;X-APPLE-RADIUS=500;X-TITLE=1721 Oxmoor Road:geo:-86.795404,33.4750533
END:VEVENT
BEGIN:VEVENT
DTSTART;TZID=America/Chicago:20190914T103000
DTEND;TZID=America/Chicago:20190914T110000
DTSTAMP:20260423T024325
CREATED:20190820T011747Z
LAST-MODIFIED:20190820T011747Z
UID:31353-1568457000-1568458800@birminghammommy.com
SUMMARY:Family Storytime with Mr. Mac
DESCRIPTION:Sing and dance along with songs\, stories\, and puppets
URL:https://birminghammommy.com/event/family-storytime-with-mr-mac-16/
LOCATION:Emmet O’ Neal Library\, 50 Oak Street\, Mountain Brook\, AL\, 35213
GEO:33.5012941;-86.7565774
X-APPLE-STRUCTURED-LOCATION;VALUE=URI;X-ADDRESS=Emmet O’ Neal Library 50 Oak Street Mountain Brook AL 35213;X-APPLE-RADIUS=500;X-TITLE=50 Oak Street:geo:-86.7565774,33.5012941
END:VEVENT
END:VCALENDAR