BEGIN:VCALENDAR
VERSION:2.0
PRODID:-//Birmingham Mommy - ECPv6.3.5//NONSGML v1.0//EN
CALSCALE:GREGORIAN
METHOD:PUBLISH
X-WR-CALNAME:Birmingham Mommy
X-ORIGINAL-URL:https://birminghammommy.com
X-WR-CALDESC:Events for Birmingham Mommy
REFRESH-INTERVAL;VALUE=DURATION:PT1H
X-Robots-Tag:noindex
X-PUBLISHED-TTL:PT1H
BEGIN:VTIMEZONE
TZID:America/Chicago
BEGIN:DAYLIGHT
TZOFFSETFROM:-0600
TZOFFSETTO:-0500
TZNAME:CDT
DTSTART:20190310T080000
END:DAYLIGHT
BEGIN:STANDARD
TZOFFSETFROM:-0500
TZOFFSETTO:-0600
TZNAME:CST
DTSTART:20191103T070000
END:STANDARD
END:VTIMEZONE
BEGIN:VEVENT
DTSTART;TZID=America/Chicago:20190110T100000
DTEND;TZID=America/Chicago:20190110T103000
DTSTAMP:20260419T125337
CREATED:20190105T151417Z
LAST-MODIFIED:20190105T151417Z
UID:28113-1547114400-1547116200@birminghammommy.com
SUMMARY:Book Babies - Birth to 18 months
DESCRIPTION:Book Babies offers a special parent-child time with short and engaging stories that promotes early literacy. Ages birth to 18 months.
URL:https://birminghammommy.com/event/book-babies-birth-to-18-months/2019-01-10/
LOCATION:Vestavia Hills Library in the Forest\, 1221 Montgomery Hwy\, Vestavia Hills Library\, AL\, 35216
GEO:33.4311673;-86.7875936
X-APPLE-STRUCTURED-LOCATION;VALUE=URI;X-ADDRESS=Vestavia Hills Library in the Forest 1221 Montgomery Hwy Vestavia Hills Library AL 35216;X-APPLE-RADIUS=500;X-TITLE=1221 Montgomery Hwy:geo:-86.7875936,33.4311673
END:VEVENT
BEGIN:VEVENT
DTSTART;TZID=America/Chicago:20190110T093000
DTEND;TZID=America/Chicago:20190110T120000
DTSTAMP:20260419T125337
CREATED:20190105T150602Z
LAST-MODIFIED:20190105T150602Z
UID:28108-1547112600-1547121600@birminghammommy.com
SUMMARY:L.I.F.T
DESCRIPTION:Join fellow preschoolers and their caregivers for social play with tents\, tunnels and much more. Playgroups encouraged!
URL:https://birminghammommy.com/event/l-i-f-t/2019-01-10/
LOCATION:Vestavia Hills Library in the Forest\, 1221 Montgomery Hwy\, Vestavia Hills Library\, AL\, 35216
GEO:33.4311673;-86.7875936
X-APPLE-STRUCTURED-LOCATION;VALUE=URI;X-ADDRESS=Vestavia Hills Library in the Forest 1221 Montgomery Hwy Vestavia Hills Library AL 35216;X-APPLE-RADIUS=500;X-TITLE=1221 Montgomery Hwy:geo:-86.7875936,33.4311673
END:VEVENT
BEGIN:VEVENT
DTSTART;TZID=America/Chicago:20190110T093000
DTEND;TZID=America/Chicago:20190110T095000
DTSTAMP:20260419T125337
CREATED:20181217T000646Z
LAST-MODIFIED:20181217T000646Z
UID:27995-1547112600-1547113800@birminghammommy.com
SUMMARY:Patty Cake Storytime
DESCRIPTION:0-12 months with a caregiver. Early language enrichment program composed of stories\, rhymes\, and songs designed to nurture the bond between caregiver and baby.
URL:https://birminghammommy.com/event/patty-cake-storytime-5/2019-01-10/
LOCATION:Emmet O’ Neal Library\, 50 Oak Street\, Mountain Brook\, AL\, 35213
GEO:33.5012941;-86.7565774
X-APPLE-STRUCTURED-LOCATION;VALUE=URI;X-ADDRESS=Emmet O’ Neal Library 50 Oak Street Mountain Brook AL 35213;X-APPLE-RADIUS=500;X-TITLE=50 Oak Street:geo:-86.7565774,33.5012941
END:VEVENT
BEGIN:VEVENT
DTSTART;TZID=America/Chicago:20190109T153000
DTEND;TZID=America/Chicago:20190109T161500
DTSTAMP:20260419T125337
CREATED:20181216T142318Z
LAST-MODIFIED:20181216T142318Z
UID:27751-1547047800-1547050500@birminghammommy.com
SUMMARY:Kids Create: Sewing Circle
DESCRIPTION:(K-5 Grade) Come and learn basic sewing skills and create your own pillow friend.
URL:https://birminghammommy.com/event/kids-create-sewing-circle/
LOCATION:Homewood Public Library\, 1721 Oxmoor Road\, Homewood\, AL\, 35209\, United States
GEO:33.4750533;-86.795404
X-APPLE-STRUCTURED-LOCATION;VALUE=URI;X-ADDRESS=Homewood Public Library 1721 Oxmoor Road Homewood AL 35209 United States;X-APPLE-RADIUS=500;X-TITLE=1721 Oxmoor Road:geo:-86.795404,33.4750533
END:VEVENT
BEGIN:VEVENT
DTSTART;TZID=America/Chicago:20190109T133000
DTEND;TZID=America/Chicago:20190109T141500
DTSTAMP:20260419T125337
CREATED:20181216T235922Z
LAST-MODIFIED:20181216T235922Z
UID:27986-1547040600-1547043300@birminghammommy.com
SUMMARY:Movers and Makers
DESCRIPTION:Preschoolers ages 3-4 Build cooperation\, reading\, and school readiness skills.
URL:https://birminghammommy.com/event/movers-and-makers-4/2019-01-09/
LOCATION:Emmet O’ Neal Library\, 50 Oak Street\, Mountain Brook\, AL\, 35213
GEO:33.5012941;-86.7565774
X-APPLE-STRUCTURED-LOCATION;VALUE=URI;X-ADDRESS=Emmet O’ Neal Library 50 Oak Street Mountain Brook AL 35213;X-APPLE-RADIUS=500;X-TITLE=50 Oak Street:geo:-86.7565774,33.5012941
END:VEVENT
BEGIN:VEVENT
DTSTART;TZID=America/Chicago:20190109T103000
DTEND;TZID=America/Chicago:20190109T111500
DTSTAMP:20260419T125337
CREATED:20190105T145618Z
LAST-MODIFIED:20190105T145618Z
UID:28103-1547029800-1547032500@birminghammommy.com
SUMMARY:Story Friends
DESCRIPTION:Join Ms. Lisa and see your favorite stories come to life! Ages 5 and under.
URL:https://birminghammommy.com/event/story-friends/2019-01-09/
LOCATION:Vestavia Hills Library in the Forest\, 1221 Montgomery Hwy\, Vestavia Hills Library\, AL\, 35216
GEO:33.4311673;-86.7875936
X-APPLE-STRUCTURED-LOCATION;VALUE=URI;X-ADDRESS=Vestavia Hills Library in the Forest 1221 Montgomery Hwy Vestavia Hills Library AL 35216;X-APPLE-RADIUS=500;X-TITLE=1221 Montgomery Hwy:geo:-86.7875936,33.4311673
END:VEVENT
BEGIN:VEVENT
DTSTART;TZID=America/Chicago:20190109T103000
DTEND;TZID=America/Chicago:20190109T110000
DTSTAMP:20260419T125337
CREATED:20181216T235624Z
LAST-MODIFIED:20181216T235624Z
UID:27977-1547029800-1547031600@birminghammommy.com
SUMMARY:Mother Goose Storytime Emmet O Neal
DESCRIPTION:12-24 months with caregiver. Stories\, songs\, and finger plays make up a lively 30 minute lap sit program designed especially for short attention spans.
URL:https://birminghammommy.com/event/mother-goose-storytime-emmet-o-neal/2019-01-09/
LOCATION:Emmet O’ Neal Library\, 50 Oak Street\, Mountain Brook\, AL\, 35213
GEO:33.5012941;-86.7565774
X-APPLE-STRUCTURED-LOCATION;VALUE=URI;X-ADDRESS=Emmet O’ Neal Library 50 Oak Street Mountain Brook AL 35213;X-APPLE-RADIUS=500;X-TITLE=50 Oak Street:geo:-86.7565774,33.5012941
END:VEVENT
BEGIN:VEVENT
DTSTART;TZID=America/Chicago:20190109T093000
DTEND;TZID=America/Chicago:20190109T100000
DTSTAMP:20260419T125337
CREATED:20181216T235111Z
LAST-MODIFIED:20181216T235111Z
UID:27968-1547026200-1547028000@birminghammommy.com
SUMMARY:Mother Goose Storytime
DESCRIPTION:12-24 months with a caregiver. Stories\, songs\, and finger plays make up a lively 30 minute lap sit program designed especially for short attention spans.
URL:https://birminghammommy.com/event/mother-goose-storytime-7/2019-01-09/
LOCATION:Emmet O’ Neal Library\, 50 Oak Street\, Mountain Brook\, AL\, 35213
GEO:33.5012941;-86.7565774
X-APPLE-STRUCTURED-LOCATION;VALUE=URI;X-ADDRESS=Emmet O’ Neal Library 50 Oak Street Mountain Brook AL 35213;X-APPLE-RADIUS=500;X-TITLE=50 Oak Street:geo:-86.7565774,33.5012941
END:VEVENT
BEGIN:VEVENT
DTSTART;TZID=America/Chicago:20190108T183000
DTEND;TZID=America/Chicago:20190108T190000
DTSTAMP:20260419T125337
CREATED:20190105T145452Z
LAST-MODIFIED:20190105T145452Z
UID:28099-1546972200-1546974000@birminghammommy.com
SUMMARY:PJ Storytime
DESCRIPTION:Wear your pajamas and join Ms. Courtney for exciting stories\, crafts and snacks before bedtime!
URL:https://birminghammommy.com/event/pj-storytime-5/2019-01-08/
LOCATION:Vestavia Hills Library in the Forest\, 1221 Montgomery Hwy\, Vestavia Hills Library\, AL\, 35216
GEO:33.4311673;-86.7875936
X-APPLE-STRUCTURED-LOCATION;VALUE=URI;X-ADDRESS=Vestavia Hills Library in the Forest 1221 Montgomery Hwy Vestavia Hills Library AL 35216;X-APPLE-RADIUS=500;X-TITLE=1221 Montgomery Hwy:geo:-86.7875936,33.4311673
END:VEVENT
BEGIN:VEVENT
DTSTART;TZID=America/Chicago:20190108T173000
DTEND;TZID=America/Chicago:20190108T190000
DTSTAMP:20260419T125337
CREATED:20181216T234825Z
LAST-MODIFIED:20181216T234825Z
UID:27966-1546968600-1546974000@birminghammommy.com
SUMMARY:Family Night at Emmet O Neal
DESCRIPTION:Miss Kit’s Bubble School All ages dinner @ 5:30 and show @ 6:00
URL:https://birminghammommy.com/event/family-night-at-emmet-o-neal/
LOCATION:Emmet O’ Neal Library\, 50 Oak Street\, Mountain Brook\, AL\, 35213
GEO:33.5012941;-86.7565774
X-APPLE-STRUCTURED-LOCATION;VALUE=URI;X-ADDRESS=Emmet O’ Neal Library 50 Oak Street Mountain Brook AL 35213;X-APPLE-RADIUS=500;X-TITLE=50 Oak Street:geo:-86.7565774,33.5012941
END:VEVENT
BEGIN:VEVENT
DTSTART;TZID=America/Chicago:20190108T163000
DTEND;TZID=America/Chicago:20190108T173000
DTSTAMP:20260419T125337
CREATED:20181216T135721Z
LAST-MODIFIED:20181216T135912Z
UID:27700-1546965000-1546968600@birminghammommy.com
SUMMARY:Girls Who Code
DESCRIPTION:This national club is geared towards empowering girls grades 4-12 who are interested in the computer science field. \n\n\n\n\n\n\nNo registration required\, but participants are encouraged to bring their laptops.
URL:https://birminghammommy.com/event/girls-who-code-6/2019-01-08/
LOCATION:Homewood Public Library\, 1721 Oxmoor Road\, Homewood\, AL\, 35209\, United States
GEO:33.4750533;-86.795404
X-APPLE-STRUCTURED-LOCATION;VALUE=URI;X-ADDRESS=Homewood Public Library 1721 Oxmoor Road Homewood AL 35209 United States;X-APPLE-RADIUS=500;X-TITLE=1721 Oxmoor Road:geo:-86.795404,33.4750533
END:VEVENT
BEGIN:VEVENT
DTSTART;TZID=America/Chicago:20190108T163000
DTEND;TZID=America/Chicago:20190108T170000
DTSTAMP:20260419T125337
CREATED:20181216T225458Z
LAST-MODIFIED:20181216T225458Z
UID:27906-1546965000-1546966800@birminghammommy.com
SUMMARY:Hello Hedgie
DESCRIPTION:Stop by to say hello to our pet hedgehog\, Oliver! We’ll take him out of his cage and feed him a few treats while you watch. All ages welcome. No registration required.
URL:https://birminghammommy.com/event/hello-hedgie-7/2019-01-08/
LOCATION:North Shelby Library\, 5521 Cahaba Valley Road\, Birmingham\, AL\, 35242
GEO:33.3646429;-86.7165499
X-APPLE-STRUCTURED-LOCATION;VALUE=URI;X-ADDRESS=North Shelby Library 5521 Cahaba Valley Road Birmingham AL 35242;X-APPLE-RADIUS=500;X-TITLE=5521 Cahaba Valley Road:geo:-86.7165499,33.3646429
END:VEVENT
BEGIN:VEVENT
DTSTART;TZID=America/Chicago:20190108T160000
DTEND;TZID=America/Chicago:20190108T173000
DTSTAMP:20260419T125337
CREATED:20181216T135150Z
LAST-MODIFIED:20181216T135150Z
UID:27696-1546963200-1546968600@birminghammommy.com
SUMMARY:Teen Drawing Class
DESCRIPTION:This four week long series is for teens who are interested in learning the basics of drawing. \n\n\n\n\n\n\nCan’t make it to all four sessions? No worries! Attend the sessions you can. All supplies provided. Open to 6th-12th graders. Register online. \nClass dates are: \nTuesday\, January 8\, from 4-5:30 p.m. in the Large Auditorium \nTuesday\, January 15\, from 4-5:30 p.m. in the Large Auditorium \nTuesday\, January 22\, from 4-5:30 p.m. in the Large Auditorium \nTuesday\, January 29\, from 4-5:30 p.m. in the Large Auditorium
URL:https://birminghammommy.com/event/teen-drawing-class/2019-01-08/
LOCATION:Homewood Public Library\, 1721 Oxmoor Road\, Homewood\, AL\, 35209\, United States
GEO:33.4750533;-86.795404
X-APPLE-STRUCTURED-LOCATION;VALUE=URI;X-ADDRESS=Homewood Public Library 1721 Oxmoor Road Homewood AL 35209 United States;X-APPLE-RADIUS=500;X-TITLE=1721 Oxmoor Road:geo:-86.795404,33.4750533
END:VEVENT
BEGIN:VEVENT
DTSTART;TZID=America/Chicago:20190108T153000
DTEND;TZID=America/Chicago:20190108T161500
DTSTAMP:20260419T125337
CREATED:20181216T234601Z
LAST-MODIFIED:20181216T234601Z
UID:27957-1546961400-1546964100@birminghammommy.com
SUMMARY:Library Out Loud
DESCRIPTION:Drop off your K-2nd graders for live-action stories\, puppet shows\, crafts\, snacks\, and games.
URL:https://birminghammommy.com/event/library-out-loud-3/2019-01-08/
LOCATION:Emmet O’ Neal Library\, 50 Oak Street\, Mountain Brook\, AL\, 35213
GEO:33.5012941;-86.7565774
X-APPLE-STRUCTURED-LOCATION;VALUE=URI;X-ADDRESS=Emmet O’ Neal Library 50 Oak Street Mountain Brook AL 35213;X-APPLE-RADIUS=500;X-TITLE=50 Oak Street:geo:-86.7565774,33.5012941
END:VEVENT
BEGIN:VEVENT
DTSTART;TZID=America/Chicago:20190108T103000
DTEND;TZID=America/Chicago:20190108T111500
DTSTAMP:20260419T125337
CREATED:20181216T234242Z
LAST-MODIFIED:20181216T234242Z
UID:27948-1546943400-1546946100@birminghammommy.com
SUMMARY:Together Time at Emmet O Neal
DESCRIPTION:Songs\, stories\, puppets\, and more with Ms. NayNay
URL:https://birminghammommy.com/event/together-time-at-emmet-o-neal-2/2019-01-08/
LOCATION:Emmet O’ Neal Library\, 50 Oak Street\, Mountain Brook\, AL\, 35213
GEO:33.5012941;-86.7565774
X-APPLE-STRUCTURED-LOCATION;VALUE=URI;X-ADDRESS=Emmet O’ Neal Library 50 Oak Street Mountain Brook AL 35213;X-APPLE-RADIUS=500;X-TITLE=50 Oak Street:geo:-86.7565774,33.5012941
END:VEVENT
BEGIN:VEVENT
DTSTART;TZID=America/Chicago:20190108T100000
DTEND;TZID=America/Chicago:20190108T120000
DTSTAMP:20260419T125337
CREATED:20181216T225322Z
LAST-MODIFIED:20181216T225322Z
UID:27904-1546941600-1546948800@birminghammommy.com
SUMMARY:Preschool Playtime
DESCRIPTION:We will have different play stations – such as dramatic play\, art\, LEGOs\, and more – for young ones and their adults. Drop in anytime between 10-12! Ages 5 and under. Caregiver supervision required. No registration.
URL:https://birminghammommy.com/event/preschool-playtime-9/
LOCATION:North Shelby Library\, 5521 Cahaba Valley Road\, Birmingham\, 35242\, United States
GEO:33.3646429;-86.71655
X-APPLE-STRUCTURED-LOCATION;VALUE=URI;X-ADDRESS=North Shelby Library 5521 Cahaba Valley Road Birmingham 35242 United States;X-APPLE-RADIUS=500;X-TITLE=5521 Cahaba Valley Road:geo:-86.71655,33.3646429
END:VEVENT
BEGIN:VEVENT
DTSTART;TZID=America/Chicago:20190108T093000
DTEND;TZID=America/Chicago:20190108T101500
DTSTAMP:20260419T125337
CREATED:20181216T234004Z
LAST-MODIFIED:20181216T234004Z
UID:27943-1546939800-1546942500@birminghammommy.com
SUMMARY:Together Time at Emmet O Neal
DESCRIPTION:Songs\, stories\, puppets\, and more with Ms. NayNay
URL:https://birminghammommy.com/event/together-time-at-emmet-o-neal/2019-01-08/
LOCATION:Emmet O’ Neal Library\, 50 Oak Street\, Mountain Brook\, AL\, 35213
GEO:33.5012941;-86.7565774
X-APPLE-STRUCTURED-LOCATION;VALUE=URI;X-ADDRESS=Emmet O’ Neal Library 50 Oak Street Mountain Brook AL 35213;X-APPLE-RADIUS=500;X-TITLE=50 Oak Street:geo:-86.7565774,33.5012941
END:VEVENT
BEGIN:VEVENT
DTSTART;TZID=America/Chicago:20190107T160000
DTEND;TZID=America/Chicago:20190107T170000
DTSTAMP:20260419T125337
CREATED:20181216T233443Z
LAST-MODIFIED:20181216T233443Z
UID:27941-1546876800-1546880400@birminghammommy.com
SUMMARY:Steam Powered at Emmet O Neal
DESCRIPTION:Fossil Art!
URL:https://birminghammommy.com/event/steam-powered-at-emmet-o-neal/
LOCATION:Emmet O’ Neal Library\, 50 Oak Street\, Mountain Brook\, AL\, 35213
GEO:33.5012941;-86.7565774
X-APPLE-STRUCTURED-LOCATION;VALUE=URI;X-ADDRESS=Emmet O’ Neal Library 50 Oak Street Mountain Brook AL 35213;X-APPLE-RADIUS=500;X-TITLE=50 Oak Street:geo:-86.7565774,33.5012941
END:VEVENT
BEGIN:VEVENT
DTSTART;TZID=America/Chicago:20190107T103000
DTEND;TZID=America/Chicago:20190107T111500
DTSTAMP:20260419T125337
CREATED:20181216T015921Z
LAST-MODIFIED:20181216T015921Z
UID:27659-1546857000-1546859700@birminghammommy.com
SUMMARY:Storypalooza
DESCRIPTION:(Preschool) Join Ms. Cristina for an interactive and playful storytime to start off the week!
URL:https://birminghammommy.com/event/storypalooza-2/2019-01-07/
LOCATION:Homewood Public Library\, 1721 Oxmoor Road\, Homewood\, AL\, 35209\, United States
GEO:33.4750533;-86.795404
X-APPLE-STRUCTURED-LOCATION;VALUE=URI;X-ADDRESS=Homewood Public Library 1721 Oxmoor Road Homewood AL 35209 United States;X-APPLE-RADIUS=500;X-TITLE=1721 Oxmoor Road:geo:-86.795404,33.4750533
END:VEVENT
BEGIN:VEVENT
DTSTART;TZID=America/Chicago:20190107T103000
DTEND;TZID=America/Chicago:20190107T110000
DTSTAMP:20260419T125337
CREATED:20190105T145259Z
LAST-MODIFIED:20190105T145259Z
UID:28094-1546857000-1546858800@birminghammommy.com
SUMMARY:Toddler A-Go-Go 24-36 mos
DESCRIPTION:Storytime for children 24 to 36 months and a caregiver. This storytime is age-appropriate for toddlers with short stories\, songs and lots of movement. Each program is 30 minutes in length.
URL:https://birminghammommy.com/event/toddler-a-go-go-24-36-mos/2019-01-07/
LOCATION:Vestavia Hills Library in the Forest\, 1221 Montgomery Hwy\, Vestavia Hills Library\, AL\, 35216
GEO:33.4311673;-86.7875936
X-APPLE-STRUCTURED-LOCATION;VALUE=URI;X-ADDRESS=Vestavia Hills Library in the Forest 1221 Montgomery Hwy Vestavia Hills Library AL 35216;X-APPLE-RADIUS=500;X-TITLE=1221 Montgomery Hwy:geo:-86.7875936,33.4311673
END:VEVENT
BEGIN:VEVENT
DTSTART;TZID=America/Chicago:20190107T103000
DTEND;TZID=America/Chicago:20190107T110000
DTSTAMP:20260419T125337
CREATED:20181216T233259Z
LAST-MODIFIED:20181216T233259Z
UID:27933-1546857000-1546858800@birminghammommy.com
SUMMARY:Toddler Tales Emmet O Neal
DESCRIPTION:Stories\, songs\, finger plays and crafts make up a lively 30 minute program\, designed for active toddlers.
URL:https://birminghammommy.com/event/toddler-tales-emmet-o-neal-2/2019-01-07/
END:VEVENT
BEGIN:VEVENT
DTSTART;TZID=America/Chicago:20190107T100000
DTEND;TZID=America/Chicago:20190107T103000
DTSTAMP:20260419T125337
CREATED:20181216T225000Z
LAST-MODIFIED:20181216T225000Z
UID:27900-1546855200-1546857000@birminghammommy.com
SUMMARY:Toddler Tales at North Shelby
DESCRIPTION:Stories\, songs\, fingerplays and crafts make up a lively 30 minute program designed especially for short attention spans. Registration will begin one week prior to each storytime. Ages 19-36 months. Registration required and opens 1 week before program.
URL:https://birminghammommy.com/event/toddler-tales-at-north-shelby-3/2019-01-07/
END:VEVENT
BEGIN:VEVENT
DTSTART;TZID=America/Chicago:20190107T093000
DTEND;TZID=America/Chicago:20190107T100000
DTSTAMP:20260419T125337
CREATED:20190105T145127Z
LAST-MODIFIED:20190105T145127Z
UID:28089-1546853400-1546855200@birminghammommy.com
SUMMARY:Toddler A-Go-Go 18 - 24 mos
DESCRIPTION:Storytime for children 18 to 24 months and a caregiver. This storytime is age-appropriate for toddlers with short stories\, songs and lots of movement. Each program is 30 minutes in length.
URL:https://birminghammommy.com/event/toddler-a-go-go-18-24-mos/2019-01-07/
LOCATION:Vestavia Hills Library in the Forest\, 1221 Montgomery Hwy\, Vestavia Hills Library\, AL\, 35216
GEO:33.4311673;-86.7875936
X-APPLE-STRUCTURED-LOCATION;VALUE=URI;X-ADDRESS=Vestavia Hills Library in the Forest 1221 Montgomery Hwy Vestavia Hills Library AL 35216;X-APPLE-RADIUS=500;X-TITLE=1221 Montgomery Hwy:geo:-86.7875936,33.4311673
END:VEVENT
BEGIN:VEVENT
DTSTART;TZID=America/Chicago:20190107T093000
DTEND;TZID=America/Chicago:20190107T100000
DTSTAMP:20260419T125337
CREATED:20181216T233058Z
LAST-MODIFIED:20181216T233058Z
UID:27925-1546853400-1546855200@birminghammommy.com
SUMMARY:Toddler Tales Emmet O Neal
DESCRIPTION:Stories\, songs\, finger plays and crafts make up a lively 30 minute program\, designed for active toddlers.
URL:https://birminghammommy.com/event/toddler-tales-emmet-o-neal/2019-01-07/
LOCATION:Emmet O’ Neal Library\, 50 Oak Street\, Mountain Brook\, AL\, 35213
GEO:33.5012941;-86.7565774
X-APPLE-STRUCTURED-LOCATION;VALUE=URI;X-ADDRESS=Emmet O’ Neal Library 50 Oak Street Mountain Brook AL 35213;X-APPLE-RADIUS=500;X-TITLE=50 Oak Street:geo:-86.7565774,33.5012941
END:VEVENT
BEGIN:VEVENT
DTSTART;TZID=America/Chicago:20190106T153000
DTEND;TZID=America/Chicago:20190106T160000
DTSTAMP:20260419T125337
CREATED:20181216T015608Z
LAST-MODIFIED:20181216T015608Z
UID:27657-1546788600-1546790400@birminghammommy.com
SUMMARY:Special Siblings at Homewood Library
DESCRIPTION:(K-12 Grade) This support group for siblings of special needs children is a place to share ideas\, experiences\, and the ever changing needs of having a sibling with special needs.
URL:https://birminghammommy.com/event/special-siblings-at-homewood-library/
LOCATION:Homewood Public Library\, 1721 Oxmoor Road\, Homewood\, AL\, 35209\, United States
GEO:33.4750533;-86.795404
X-APPLE-STRUCTURED-LOCATION;VALUE=URI;X-ADDRESS=Homewood Public Library 1721 Oxmoor Road Homewood AL 35209 United States;X-APPLE-RADIUS=500;X-TITLE=1721 Oxmoor Road:geo:-86.795404,33.4750533
END:VEVENT
BEGIN:VEVENT
DTSTART;TZID=America/Chicago:20190106T140000
DTEND;TZID=America/Chicago:20190106T160000
DTSTAMP:20260419T125337
CREATED:20181216T014138Z
LAST-MODIFIED:20181216T014138Z
UID:27627-1546783200-1546790400@birminghammommy.com
SUMMARY:Monster Jam Triple Threat Series
DESCRIPTION:Scheduled to appear: Alien Invasion\, Earthshaker\, El Toro Loco\, Grave Digger\, Max-D\, Megalodon\, Monster Mutt Dalmation and Zombie. \nCompetitors are subject to change.\nNote: Costumes not permitted for guests 14 years & older.
URL:https://birminghammommy.com/event/monster-jam-triple-threat-series-5/
LOCATION:BJCC Legacy Arena\, 2100 Richard Arrington Jr Blvd\, Birmingham\, AL\, 35203
GEO:33.5249488;-86.8082265
X-APPLE-STRUCTURED-LOCATION;VALUE=URI;X-ADDRESS=BJCC Legacy Arena 2100 Richard Arrington Jr Blvd Birmingham AL 35203;X-APPLE-RADIUS=500;X-TITLE=2100 Richard Arrington Jr Blvd:geo:-86.8082265,33.5249488
END:VEVENT
BEGIN:VEVENT
DTSTART;TZID=America/Chicago:20190105T130000
DTEND;TZID=America/Chicago:20190105T150000
DTSTAMP:20260419T125337
CREATED:20181216T014020Z
LAST-MODIFIED:20181216T014020Z
UID:27625-1546693200-1546700400@birminghammommy.com
SUMMARY:Monster Jam Triple Threat Series
DESCRIPTION:Scheduled to appear: Alien Invasion\, Earthshaker\, El Toro Loco\, Grave Digger\, Max-D\, Megalodon\, Monster Mutt Dalmation and Zombie. \nCompetitors are subject to change.\nNote: Costumes not permitted for guests 14 years & older.
URL:https://birminghammommy.com/event/monster-jam-triple-threat-series-4/2019-01-05/
LOCATION:BJCC Legacy Arena\, 2100 Richard Arrington Jr Blvd\, Birmingham\, AL\, 35203
GEO:33.5249488;-86.8082265
X-APPLE-STRUCTURED-LOCATION;VALUE=URI;X-ADDRESS=BJCC Legacy Arena 2100 Richard Arrington Jr Blvd Birmingham AL 35203;X-APPLE-RADIUS=500;X-TITLE=2100 Richard Arrington Jr Blvd:geo:-86.8082265,33.5249488
END:VEVENT
BEGIN:VEVENT
DTSTART;TZID=America/Chicago:20190105T110000
DTEND;TZID=America/Chicago:20190105T120000
DTSTAMP:20260419T125337
CREATED:20181216T215155Z
LAST-MODIFIED:20181216T215155Z
UID:27866-1546686000-1546689600@birminghammommy.com
SUMMARY:Storytime and Activities Featuring Clifford the Big Red Dog
DESCRIPTION:Clifford is an adorable dog whose well-meaning bumblings have great kid appeal especially for his owner\, Emily Elizabeth. Join us as we read about everyone’s favorite big red dog. Plus\, get a coupon from our Café for a grilled cheese sandwich with milk or juice for $4.
URL:https://birminghammommy.com/event/storytime-and-activities-featuring-clifford-the-big-red-dog/
LOCATION:Barnes and Noble Summit\, 201 Summit Blvd\, Suite 100\, Birmingham\, AL\, 35243
GEO:33.446009;-86.7296901
X-APPLE-STRUCTURED-LOCATION;VALUE=URI;X-ADDRESS=Barnes and Noble Summit 201 Summit Blvd Suite 100 Birmingham AL 35243;X-APPLE-RADIUS=500;X-TITLE=201 Summit Blvd\, Suite 100:geo:-86.7296901,33.446009
END:VEVENT
BEGIN:VEVENT
DTSTART;TZID=America/Chicago:20190105T103000
DTEND;TZID=America/Chicago:20190105T110000
DTSTAMP:20260419T125337
CREATED:20181216T015414Z
LAST-MODIFIED:20181216T015414Z
UID:27655-1546684200-1546686000@birminghammommy.com
SUMMARY:Baby and Me Storytime
DESCRIPTION:(Birth-12 Months) Join Ms. Mary for an educational and engaging storytime filled with songs\, fingerplays\, board books\, and stories.
URL:https://birminghammommy.com/event/baby-and-me-storytime-4/
LOCATION:Homewood Public Library\, 1721 Oxmoor Road\, Homewood\, AL\, 35209\, United States
GEO:33.4750533;-86.795404
X-APPLE-STRUCTURED-LOCATION;VALUE=URI;X-ADDRESS=Homewood Public Library 1721 Oxmoor Road Homewood AL 35209 United States;X-APPLE-RADIUS=500;X-TITLE=1721 Oxmoor Road:geo:-86.795404,33.4750533
END:VEVENT
BEGIN:VEVENT
DTSTART;TZID=America/Chicago:20190105T090000
DTEND;TZID=America/Chicago:20190105T170000
DTSTAMP:20260419T125337
CREATED:20181216T224749Z
LAST-MODIFIED:20181216T224749Z
UID:27898-1546678800-1546707600@birminghammommy.com
SUMMARY:LEGO Play
DESCRIPTION:The library provides the Legos\, the kids provide the imagination and creativity! Families are welcome to drop in anytime  to build spectacular creations. Creations will then go on display on the first floor of the library.
URL:https://birminghammommy.com/event/lego-play-2/
LOCATION:North Shelby Library\, 5521 Cahaba Valley Road\, Birmingham\, 35242\, United States
GEO:33.3646429;-86.71655
X-APPLE-STRUCTURED-LOCATION;VALUE=URI;X-ADDRESS=North Shelby Library 5521 Cahaba Valley Road Birmingham 35242 United States;X-APPLE-RADIUS=500;X-TITLE=5521 Cahaba Valley Road:geo:-86.71655,33.3646429
END:VEVENT
END:VCALENDAR