BEGIN:VCALENDAR
VERSION:2.0
PRODID:-//Birmingham Mommy - ECPv6.3.5//NONSGML v1.0//EN
CALSCALE:GREGORIAN
METHOD:PUBLISH
X-WR-CALNAME:Birmingham Mommy
X-ORIGINAL-URL:https://birminghammommy.com
X-WR-CALDESC:Events for Birmingham Mommy
REFRESH-INTERVAL;VALUE=DURATION:PT1H
X-Robots-Tag:noindex
X-PUBLISHED-TTL:PT1H
BEGIN:VTIMEZONE
TZID:America/Chicago
BEGIN:DAYLIGHT
TZOFFSETFROM:-0600
TZOFFSETTO:-0500
TZNAME:CDT
DTSTART:20190310T080000
END:DAYLIGHT
BEGIN:STANDARD
TZOFFSETFROM:-0500
TZOFFSETTO:-0600
TZNAME:CST
DTSTART:20191103T070000
END:STANDARD
END:VTIMEZONE
BEGIN:VEVENT
DTSTART;TZID=America/Chicago:20191117T150000
DTEND;TZID=America/Chicago:20191117T154500
DTSTAMP:20260423T021640
CREATED:20190922T150804Z
LAST-MODIFIED:20190922T150804Z
UID:32024-1574002800-1574005500@birminghammommy.com
SUMMARY:Graphic Novel Club
DESCRIPTION:(2-5 Grade) Come and talk about the graphic novels you are reading\, make a cool craft and eat delicious snacks.
URL:https://birminghammommy.com/event/graphic-novel-club-2/
LOCATION:Homewood Public Library\, 1721 Oxmoor Road\, Homewood\, AL\, 35209\, United States
GEO:33.4750533;-86.795404
X-APPLE-STRUCTURED-LOCATION;VALUE=URI;X-ADDRESS=Homewood Public Library 1721 Oxmoor Road Homewood AL 35209 United States;X-APPLE-RADIUS=500;X-TITLE=1721 Oxmoor Road:geo:-86.795404,33.4750533
END:VEVENT
BEGIN:VEVENT
DTSTART;TZID=America/Chicago:20191116T150000
DTEND;TZID=America/Chicago:20191116T154500
DTSTAMP:20260423T021640
CREATED:20190922T150634Z
LAST-MODIFIED:20190922T150634Z
UID:32022-1573916400-1573919100@birminghammommy.com
SUMMARY:Code A Story
DESCRIPTION:(K-2 Grade) Learn coding basics through stories\, game and activities! Laptops will be provided.
URL:https://birminghammommy.com/event/code-a-story-4/
LOCATION:Homewood Public Library\, 1721 Oxmoor Road\, Homewood\, AL\, 35209\, United States
GEO:33.4750533;-86.795404
X-APPLE-STRUCTURED-LOCATION;VALUE=URI;X-ADDRESS=Homewood Public Library 1721 Oxmoor Road Homewood AL 35209 United States;X-APPLE-RADIUS=500;X-TITLE=1721 Oxmoor Road:geo:-86.795404,33.4750533
END:VEVENT
BEGIN:VEVENT
DTSTART;TZID=America/Chicago:20191116T100000
DTEND;TZID=America/Chicago:20191116T110000
DTSTAMP:20260423T021640
CREATED:20191104T170611Z
LAST-MODIFIED:20191104T170611Z
UID:32429-1573898400-1573902000@birminghammommy.com
SUMMARY:Family Play Group
DESCRIPTION:Drop by for a fun time and a chance to play with friends and all our toddler toys. Open to children from birth-5 years accompanied by caregivers.
URL:https://birminghammommy.com/event/family-play-group/
LOCATION:Parnell Memorial Library\, 277 Park Drive\, Montevallo\, 35115\, United States
END:VEVENT
BEGIN:VEVENT
DTSTART;TZID=America/Chicago:20191116T100000
DTEND;TZID=America/Chicago:20191116T103000
DTSTAMP:20260423T021640
CREATED:20190922T145639Z
LAST-MODIFIED:20190922T145639Z
UID:32020-1573898400-1573900200@birminghammommy.com
SUMMARY:Beyond Books Presents: Crunch\, the Shy Dinosaur
DESCRIPTION:(All Ages) Join us for a dino-mite morning with roarsome snacks\, crafts and games as we meet Crunch\, the Shy Dinosaur.
URL:https://birminghammommy.com/event/beyond-books-presents-crunch-the-shy-dinosaur/
LOCATION:Homewood Public Library\, 1721 Oxmoor Road\, Homewood\, AL\, 35209\, United States
GEO:33.4750533;-86.795404
X-APPLE-STRUCTURED-LOCATION;VALUE=URI;X-ADDRESS=Homewood Public Library 1721 Oxmoor Road Homewood AL 35209 United States;X-APPLE-RADIUS=500;X-TITLE=1721 Oxmoor Road:geo:-86.795404,33.4750533
END:VEVENT
BEGIN:VEVENT
DTSTART;TZID=America/Chicago:20191116T091500
DTEND;TZID=America/Chicago:20191116T220000
DTSTAMP:20260423T021640
CREATED:20191104T170611Z
LAST-MODIFIED:20191104T170611Z
UID:32422-1573895700-1573941600@birminghammommy.com
SUMMARY:Family Storytime
DESCRIPTION:Join us for Family Storytime with Ms. Jennifer! Perfect for babies\, toddlers\, and preschool kids. No registration required.
URL:https://birminghammommy.com/event/family-storytime-3/
LOCATION:Parnell Memorial Library\, 277 Park Drive\, Montevallo\, 35115\, United States
CATEGORIES:StoryTime
END:VEVENT
BEGIN:VEVENT
DTSTART;TZID=America/Chicago:20191116T090000
DTEND;TZID=America/Chicago:20191116T163000
DTSTAMP:20260423T021640
CREATED:20191108T155923Z
LAST-MODIFIED:20191108T155923Z
UID:32459-1573894800-1573921800@birminghammommy.com
SUMMARY:Fables & Fairy Tales at CHOM!
DESCRIPTION:Fables & Fairy Tales at CHOM! \nSaturday\, November 16\, 2019   9-4:40 pm \nIn celebration of National Young Readers Week \nStorybook STEAM projects! DIY bookmarks! \nStories in the Schoolhouse! \nAll activities Included in Admission! \n 
URL:https://birminghammommy.com/event/fables-fairy-tales-at-chom/
LOCATION:Children’s Hands-On Museum\, 2213 University Blvd.\, Tuscaloosa\, AL\, 35401\, United States
ATTACH;FMTTYPE=image/jpeg:https://birminghammommy.com/wp-content/uploads/2019/11/Fables-and-Fairy-Tales-11-16.jpg
END:VEVENT
BEGIN:VEVENT
DTSTART;TZID=America/Chicago:20191115T100000
DTEND;TZID=America/Chicago:20191115T103000
DTSTAMP:20260423T021640
CREATED:20191027T154048Z
LAST-MODIFIED:20191027T154048Z
UID:32310-1573812000-1573813800@birminghammommy.com
SUMMARY:Mt Laurel Toddler Tales
DESCRIPTION:Registration begins 11/1/2019 at 8:00 AM\n\nStories\, songs\, fingerplays\, and more make up a lively 30 minute program designed especially for short attention spans and their caregiver. Registration begins two weeks prior to each storytime. Ages 36 months and younger. Registration required.
URL:https://birminghammommy.com/event/mt-laurel-toddler-tales-15/
LOCATION:Mt Laurel Library\, 111 Olmsted St\, Birmingham\, AL\, 35242
GEO:33.4096347;-86.6292618
X-APPLE-STRUCTURED-LOCATION;VALUE=URI;X-ADDRESS=Mt Laurel Library 111 Olmsted St Birmingham AL 35242;X-APPLE-RADIUS=500;X-TITLE=111 Olmsted St:geo:-86.6292618,33.4096347
END:VEVENT
BEGIN:VEVENT
DTSTART;TZID=America/Chicago:20191114T160000
DTEND;TZID=America/Chicago:20191114T170000
DTSTAMP:20260423T021640
CREATED:20191027T153851Z
LAST-MODIFIED:20191027T153851Z
UID:32308-1573747200-1573750800@birminghammommy.com
SUMMARY:Stuff Your Turkey
DESCRIPTION:Registration is open\nThanksgiving is right around the corner. Join us to read a book about fall\, gobble a snack\, and stuff your very own turkey. All ages with caregiver help for our young patrons!
URL:https://birminghammommy.com/event/stuff-your-turkey-2/
LOCATION:Mt Laurel Library\, 111 Olmsted St\, Birmingham\, AL\, 35242
GEO:33.4096347;-86.6292618
X-APPLE-STRUCTURED-LOCATION;VALUE=URI;X-ADDRESS=Mt Laurel Library 111 Olmsted St Birmingham AL 35242;X-APPLE-RADIUS=500;X-TITLE=111 Olmsted St:geo:-86.6292618,33.4096347
END:VEVENT
BEGIN:VEVENT
DTSTART;TZID=America/Chicago:20191114T153000
DTEND;TZID=America/Chicago:20191114T161500
DTSTAMP:20260423T021640
CREATED:20190922T145103Z
LAST-MODIFIED:20190922T145103Z
UID:32018-1573745400-1573748100@birminghammommy.com
SUMMARY:Harry Potter Coding Club
DESCRIPTION:(3-5 Grade) Learn coding basics while practicing your spell work! Wands (and laptops) will be provided. Register online.
URL:https://birminghammommy.com/event/harry-potter-coding-club-3/
LOCATION:Homewood Public Library\, 1721 Oxmoor Road\, Homewood\, AL\, 35209\, United States
GEO:33.4750533;-86.795404
X-APPLE-STRUCTURED-LOCATION;VALUE=URI;X-ADDRESS=Homewood Public Library 1721 Oxmoor Road Homewood AL 35209 United States;X-APPLE-RADIUS=500;X-TITLE=1721 Oxmoor Road:geo:-86.795404,33.4750533
END:VEVENT
BEGIN:VEVENT
DTSTART;TZID=America/Chicago:20191114T153000
DTEND;TZID=America/Chicago:20191114T160000
DTSTAMP:20260423T021640
CREATED:20191027T171515Z
LAST-MODIFIED:20191027T171515Z
UID:32377-1573745400-1573747200@birminghammommy.com
SUMMARY:SNaP
DESCRIPTION:We’re getting crafty. This week we’re making watercolor mobiles.
URL:https://birminghammommy.com/event/snap-6/
LOCATION:Emmet O’ Neal Library\, 50 Oak Street\, Mountain Brook\, AL\, 35213
GEO:33.5012941;-86.7565774
X-APPLE-STRUCTURED-LOCATION;VALUE=URI;X-ADDRESS=Emmet O’ Neal Library 50 Oak Street Mountain Brook AL 35213;X-APPLE-RADIUS=500;X-TITLE=50 Oak Street:geo:-86.7565774,33.5012941
END:VEVENT
BEGIN:VEVENT
DTSTART;TZID=America/Chicago:20191114T103000
DTEND;TZID=America/Chicago:20191114T113000
DTSTAMP:20260423T021640
CREATED:20191027T153717Z
LAST-MODIFIED:20191027T153717Z
UID:32306-1573727400-1573731000@birminghammommy.com
SUMMARY:Stuff Your Turkey
DESCRIPTION:Registration is open\nThanksgiving is right around the corner. Join us to read a book about fall\, gobble a snack\, and stuff your very own turkey. All ages with caregiver help for our young patrons!
URL:https://birminghammommy.com/event/stuff-your-turkey/
LOCATION:Mt Laurel Library\, 111 Olmsted St\, Birmingham\, AL\, 35242
GEO:33.4096347;-86.6292618
X-APPLE-STRUCTURED-LOCATION;VALUE=URI;X-ADDRESS=Mt Laurel Library 111 Olmsted St Birmingham AL 35242;X-APPLE-RADIUS=500;X-TITLE=111 Olmsted St:geo:-86.6292618,33.4096347
END:VEVENT
BEGIN:VEVENT
DTSTART;TZID=America/Chicago:20191113T153000
DTEND;TZID=America/Chicago:20191113T161500
DTSTAMP:20260423T021640
CREATED:20191027T171246Z
LAST-MODIFIED:20191027T171246Z
UID:32375-1573659000-1573661700@birminghammommy.com
SUMMARY:Cookies and Comics
DESCRIPTION:This month we’re discussing Raina Telgemeier’s new graphic novel Guts! Stop by the children’s dept to pick up a copy of the book.
URL:https://birminghammommy.com/event/cookies-and-comics/
LOCATION:Emmet O’ Neal Library\, 50 Oak Street\, Mountain Brook\, AL\, 35213
GEO:33.5012941;-86.7565774
X-APPLE-STRUCTURED-LOCATION;VALUE=URI;X-ADDRESS=Emmet O’ Neal Library 50 Oak Street Mountain Brook AL 35213;X-APPLE-RADIUS=500;X-TITLE=50 Oak Street:geo:-86.7565774,33.5012941
END:VEVENT
BEGIN:VEVENT
DTSTART;TZID=America/Chicago:20191113T153000
DTEND;TZID=America/Chicago:20191113T161500
DTSTAMP:20260423T021640
CREATED:20190922T144914Z
LAST-MODIFIED:20190922T144914Z
UID:32016-1573659000-1573661700@birminghammommy.com
SUMMARY:Kids Create: LEGO Challenge
DESCRIPTION:(K-5 Grade) Put your LEGO skills to the test with each new challenge.
URL:https://birminghammommy.com/event/kids-create-lego-challenge-3/
LOCATION:Homewood Public Library\, 1721 Oxmoor Road\, Homewood\, AL\, 35209\, United States
GEO:33.4750533;-86.795404
X-APPLE-STRUCTURED-LOCATION;VALUE=URI;X-ADDRESS=Homewood Public Library 1721 Oxmoor Road Homewood AL 35209 United States;X-APPLE-RADIUS=500;X-TITLE=1721 Oxmoor Road:geo:-86.795404,33.4750533
END:VEVENT
BEGIN:VEVENT
DTSTART;TZID=America/Chicago:20191113T060000
DTEND;TZID=America/Chicago:20191113T210000
DTSTAMP:20260423T021640
CREATED:20191108T155923Z
LAST-MODIFIED:20191108T155923Z
UID:32481-1573624800-1573678800@birminghammommy.com
SUMMARY:Chick-fil-A Vestavia Hills: Receipt Day!
DESCRIPTION:Receipt Day at Chick-fil-A Vestavia Hills\nGuests buy once\, eat twice \n[VESTAVIA HILLS\, ALABAMA–ANNOUNCEMENT RELEASED ON NOVEMBER 6TH\, 2019—-] Chick-fil-A Vestavia Hills\, located at 513 Montgomery Highway in Vestavia Hills\, AL\,  is excited to kick off the giving season by hosting its first Receipt Day on Wednesday\, November 13th from 6 am to 9 pm. It is a special event that treats their guests to pay once for their order\, but eat twice. \n  \nOn 11/13 Chick-fil-A Vestavia Hills guests will be given their receipt for their purchase and encouraged to hang on to it until the week of January 13th-18th\, 2020. At any time during the redemption period (1/13-1/18) guests may present their receipt from Receipt Day (11/13) and given their exact order again at no charge. This also includes any size catering order and any menu items–there is no minimum or maximum purchase required.  \n  \n“Our Operator\, Rodney Jackson\, wanted to thank the Vestavia Hills community and find a way to give back in a meaningful way. Receipt Day is a very special way we can honor our remarkable guests\, families\, churches\, schools\, and Vestavia Hills businesses\,” says Chick-fil-A Vestavia Hills Marketing Director Lyndsey Jackson. Jackson also advised that catering orders may be called in in-advance for pick-up or delivery on 11/13\, “Receipt Day is ideal for party planners feeding large groups of people on a budget\, because we have opened it up to our catering services–you could feed a large group of people twice with half the budget.”  \n  \nReceipt Day is an exclusive offer from Chick-fil-A Vestavia Hills. Only receipts dated 11/13/19 from Chick-fil-A Vestavia Hills will be eligible for the redemption period of 1/13/19-1/18. Chick-fil-A Vestavia Hills encourages interested guests and businesses to check out the Receipt Day event on the Chick-fil-A Vestavia Hills Facebook page for details and FAQs. \n  \n##End## \n 
URL:https://birminghammommy.com/event/chick-fil-a-vestavia-hills-receipt-day/
LOCATION:Chick-fil-A Vestavia Hills\, 513 Montgomery Highway\, Vestavia Hills\, AL\, 35216\, United States
ATTACH;FMTTYPE=image/png:https://birminghammommy.com/wp-content/uploads/2019/11/VHRecdayflier.png
ORGANIZER;CN="Chick-fil-A Vestavia Hills":MAILTO:lyndsey.jackson@cfabirmingham.com
END:VEVENT
BEGIN:VEVENT
DTSTART;TZID=America/Chicago:20191112T180000
DTEND;TZID=America/Chicago:20191112T193000
DTSTAMP:20260423T021640
CREATED:20190826T171601Z
LAST-MODIFIED:20190826T171601Z
UID:31496-1573581600-1573587000@birminghammommy.com
SUMMARY:Family Game Night at Pelham Library
DESCRIPTION:Meets every 2nd and 4th Tuesday of the month. Offers card games and board games\, such as chess\, Monopoly\, Sorry\, Jenga\, and Uno\, as well as King of Tokyo\, One Night Ultimate Werewolf\, Munchkin\, and Spy Alley. Participants are also welcome to bring their own favorite games from home. \nTeens meet in Roberts Room A\, while families with small children meet in Roberts Room B.
URL:https://birminghammommy.com/event/family-game-night-at-pelham-library-2/
LOCATION:Pelham Public Library\, 2000 Pelham Park Boulevard\, Pelham\, AL\, 35124\, United States
ATTACH;FMTTYPE=image/jpeg:https://birminghammommy.com/wp-content/uploads/2019/08/family-game-night-5.jpg
END:VEVENT
BEGIN:VEVENT
DTSTART;TZID=America/Chicago:20191112T153000
DTEND;TZID=America/Chicago:20191112T164500
DTSTAMP:20260423T021640
CREATED:20190922T144753Z
LAST-MODIFIED:20190922T144753Z
UID:32014-1573572600-1573577100@birminghammommy.com
SUMMARY:Aladdin Film Screening
DESCRIPTION:A kind-hearted street urchin and a power-hungry Grand Vizier vie for a magic lamp that has the power to make their deepest wishes come true.
URL:https://birminghammommy.com/event/aladdin-film-screening/
LOCATION:Homewood Public Library\, 1721 Oxmoor Road\, Homewood\, AL\, 35209\, United States
GEO:33.4750533;-86.795404
X-APPLE-STRUCTURED-LOCATION;VALUE=URI;X-ADDRESS=Homewood Public Library 1721 Oxmoor Road Homewood AL 35209 United States;X-APPLE-RADIUS=500;X-TITLE=1721 Oxmoor Road:geo:-86.795404,33.4750533
END:VEVENT
BEGIN:VEVENT
DTSTART;TZID=America/Chicago:20191112T153000
DTEND;TZID=America/Chicago:20191112T161500
DTSTAMP:20260423T021640
CREATED:20191027T170840Z
LAST-MODIFIED:20191027T170840Z
UID:32373-1573572600-1573575300@birminghammommy.com
SUMMARY:Library Out Loud
DESCRIPTION:Sign in and drop off your K-2nd graders for live-action stories\, puppet shows\, crafts\, snacks\, and games.
URL:https://birminghammommy.com/event/library-out-loud-9/
LOCATION:Emmet O’ Neal Library\, 50 Oak Street\, Mountain Brook\, AL\, 35213
GEO:33.5012941;-86.7565774
X-APPLE-STRUCTURED-LOCATION;VALUE=URI;X-ADDRESS=Emmet O’ Neal Library 50 Oak Street Mountain Brook AL 35213;X-APPLE-RADIUS=500;X-TITLE=50 Oak Street:geo:-86.7565774,33.5012941
END:VEVENT
BEGIN:VEVENT
DTSTART;TZID=America/Chicago:20191112T140000
DTEND;TZID=America/Chicago:20191112T150000
DTSTAMP:20260423T021640
CREATED:20190922T144553Z
LAST-MODIFIED:20190922T144612Z
UID:32011-1573567200-1573570800@birminghammommy.com
SUMMARY:Homeschool Hour Dissection Day
DESCRIPTION:Discover science in a whole new light with a special Homeschool Hour Dissection Day experiment. \nThe subject? Perch! All supplies provided. Register online. Suggested for 4th grade and above. \nTuesday\, November 12\, 2019 from 2-3 p.m. in the Round Auditorium
URL:https://birminghammommy.com/event/homeschool-hour-dissection-day-2/
LOCATION:Homewood Public Library\, 1721 Oxmoor Road\, Homewood\, AL\, 35209\, United States
GEO:33.4750533;-86.795404
X-APPLE-STRUCTURED-LOCATION;VALUE=URI;X-ADDRESS=Homewood Public Library 1721 Oxmoor Road Homewood AL 35209 United States;X-APPLE-RADIUS=500;X-TITLE=1721 Oxmoor Road:geo:-86.795404,33.4750533
END:VEVENT
BEGIN:VEVENT
DTSTART;TZID=America/Chicago:20191112T103000
DTEND;TZID=America/Chicago:20191112T111500
DTSTAMP:20260423T021640
CREATED:20191027T153313Z
LAST-MODIFIED:20191027T153313Z
UID:32304-1573554600-1573557300@birminghammommy.com
SUMMARY:Puppet Tales
DESCRIPTION:Registration begins 10/29/2019 at 8:00 AM\nA new storytime filled with puppet fun! Watch stories and songs come alive through puppets and make a small puppet to take! Registration will begin two weeks prior to program date.Designed for ages 2-5. Registration required.
URL:https://birminghammommy.com/event/puppet-tales-6/
LOCATION:North Shelby Library\, 5521 Cahaba Valley Road\, Birmingham\, AL\, 35242
GEO:33.3646429;-86.7165499
X-APPLE-STRUCTURED-LOCATION;VALUE=URI;X-ADDRESS=North Shelby Library 5521 Cahaba Valley Road Birmingham AL 35242;X-APPLE-RADIUS=500;X-TITLE=5521 Cahaba Valley Road:geo:-86.7165499,33.3646429
END:VEVENT
BEGIN:VEVENT
DTSTART;TZID=America/Chicago:20191109T103000
DTEND;TZID=America/Chicago:20191109T110000
DTSTAMP:20260423T021640
CREATED:20190922T144437Z
LAST-MODIFIED:20190922T144437Z
UID:32009-1573295400-1573297200@birminghammommy.com
SUMMARY:Baby and Me Storytime
DESCRIPTION:(Birth-12 Months) Join Ms. Mary for an educational and engaging storytime filled with songs\, fingerplays\, board books\, and stories.
URL:https://birminghammommy.com/event/baby-and-me-storytime-10/
LOCATION:Homewood Public Library\, 1721 Oxmoor Road\, Homewood\, AL\, 35209\, United States
GEO:33.4750533;-86.795404
X-APPLE-STRUCTURED-LOCATION;VALUE=URI;X-ADDRESS=Homewood Public Library 1721 Oxmoor Road Homewood AL 35209 United States;X-APPLE-RADIUS=500;X-TITLE=1721 Oxmoor Road:geo:-86.795404,33.4750533
END:VEVENT
BEGIN:VEVENT
DTSTART;TZID=America/Chicago:20191109T100000
DTEND;TZID=America/Chicago:20191109T140000
DTSTAMP:20260423T021640
CREATED:20191027T153143Z
LAST-MODIFIED:20191027T153143Z
UID:32302-1573293600-1573308000@birminghammommy.com
SUMMARY:Mt Laurel Crafty Saturday
DESCRIPTION:Drop in to make a craft at the library. All ages with parent help. Registration is not required but supplies are limited.
URL:https://birminghammommy.com/event/mt-laurel-crafty-saturday-8/
LOCATION:Mt Laurel Library\, 111 Olmsted St\, Birmingham\, AL\, 35242
GEO:33.4096347;-86.6292618
X-APPLE-STRUCTURED-LOCATION;VALUE=URI;X-ADDRESS=Mt Laurel Library 111 Olmsted St Birmingham AL 35242;X-APPLE-RADIUS=500;X-TITLE=111 Olmsted St:geo:-86.6292618,33.4096347
END:VEVENT
BEGIN:VEVENT
DTSTART;TZID=America/Chicago:20191109T090000
DTEND;TZID=America/Chicago:20191109T163000
DTSTAMP:20260423T021640
CREATED:20191104T170611Z
LAST-MODIFIED:20191104T170611Z
UID:32414-1573290000-1573317000@birminghammommy.com
SUMMARY:CHOM Rocks!
DESCRIPTION:CHOM Rocks! \nSaturday\, November 9\, 2019    9 – 4:30 pm \nCome paint rocks to leave around town! \nThey are sure to brighten someone’s day! \n#TheKindnessRocksProject \n#CHOMRocks   #ALRocks \nAll activities included with admission! \n 
URL:https://birminghammommy.com/event/chom-rocks-2/
LOCATION:Children’s Hands-On Museum\, 2213 University Blvd.\, Tuscaloosa\, AL\, 35401\, United States
ATTACH;FMTTYPE=image/jpeg:https://birminghammommy.com/wp-content/uploads/2019/11/CHOM-Rocks-11-9.jpg
END:VEVENT
BEGIN:VEVENT
DTSTART;TZID=America/Chicago:20191108T180000
DTEND;TZID=America/Chicago:20191108T200000
DTSTAMP:20260423T021640
CREATED:20191027T170228Z
LAST-MODIFIED:20191027T170228Z
UID:32371-1573236000-1573243200@birminghammommy.com
SUMMARY:A Series of Unfortunate Breakouts
DESCRIPTION:The November Crossover program will feature A Series of Unfortunate Events breakout room. There will be pizza and guaranteed fun!
URL:https://birminghammommy.com/event/a-series-of-unfortunate-breakouts/
LOCATION:Emmet O’ Neal Library\, 50 Oak Street\, Mountain Brook\, AL\, 35213
GEO:33.5012941;-86.7565774
X-APPLE-STRUCTURED-LOCATION;VALUE=URI;X-ADDRESS=Emmet O’ Neal Library 50 Oak Street Mountain Brook AL 35213;X-APPLE-RADIUS=500;X-TITLE=50 Oak Street:geo:-86.7565774,33.5012941
END:VEVENT
BEGIN:VEVENT
DTSTART;TZID=America/Chicago:20191108T160000
DTEND;TZID=America/Chicago:20191108T170000
DTSTAMP:20260423T021640
CREATED:20191027T152958Z
LAST-MODIFIED:20191027T152958Z
UID:32300-1573228800-1573232400@birminghammommy.com
SUMMARY:Tea Rex Party
DESCRIPTION:Registration is open\nYou are cordially invited to attend a Terribly Good Tea Time!  Come partake of tea\, ‘biscuits’\, and other light lizard refreshments.  We’ll have a rip roaring jolly afternoon practicing our dinosaur manners\, making a dinosaur craft\, and other fun activities.  Who knows\, perhaps you shall see a dinosaur or two!  Fancy dinosaur dress is encouraged but not at all required. All Ages. Registration is required for children and their adults. Space is limited.
URL:https://birminghammommy.com/event/tea-rex-party/
LOCATION:North Shelby Library\, 5521 Cahaba Valley Road\, Birmingham\, AL\, 35242
GEO:33.3646429;-86.7165499
X-APPLE-STRUCTURED-LOCATION;VALUE=URI;X-ADDRESS=North Shelby Library 5521 Cahaba Valley Road Birmingham AL 35242;X-APPLE-RADIUS=500;X-TITLE=5521 Cahaba Valley Road:geo:-86.7165499,33.3646429
END:VEVENT
BEGIN:VEVENT
DTSTART;TZID=America/Chicago:20191108T104500
DTEND;TZID=America/Chicago:20191108T113000
DTSTAMP:20260423T021640
CREATED:20191027T170020Z
LAST-MODIFIED:20191027T170020Z
UID:32369-1573209900-1573212600@birminghammommy.com
SUMMARY:Sensory Play\, Explore & More Small Group Play
DESCRIPTION:During the program\, children move through different sensory stations with their caregiver. 10:45-11:30: Register for small group play.
URL:https://birminghammommy.com/event/sensory-play-explore-more-small-group-play-2/
LOCATION:Emmet O’ Neal Library\, 50 Oak Street\, Mountain Brook\, AL\, 35213
GEO:33.5012941;-86.7565774
X-APPLE-STRUCTURED-LOCATION;VALUE=URI;X-ADDRESS=Emmet O’ Neal Library 50 Oak Street Mountain Brook AL 35213;X-APPLE-RADIUS=500;X-TITLE=50 Oak Street:geo:-86.7565774,33.5012941
END:VEVENT
BEGIN:VEVENT
DTSTART;TZID=America/Chicago:20191108T100000
DTEND;TZID=America/Chicago:20191108T104500
DTSTAMP:20260423T021640
CREATED:20191027T165908Z
LAST-MODIFIED:20191027T165908Z
UID:32367-1573207200-1573209900@birminghammommy.com
SUMMARY:Sensory Play\, Explore & More Small Group Play
DESCRIPTION:Children of all abilities and ages need and benefit from sensory-based play. It allows them to connect ideas with concrete experiences\, it stimulates the brain which helps strengthen neural pathways\, and it helps develop fine and gross motor skills. \nDuring the program\, children move through different sensory stations with their caregiver. There will be guides for each station\, which matches it with a developmental goal and includes prompts to engage their children.
URL:https://birminghammommy.com/event/sensory-play-explore-more-small-group-play/
LOCATION:Emmet O’ Neal Library\, 50 Oak Street\, Mountain Brook\, AL\, 35213
GEO:33.5012941;-86.7565774
X-APPLE-STRUCTURED-LOCATION;VALUE=URI;X-ADDRESS=Emmet O’ Neal Library 50 Oak Street Mountain Brook AL 35213;X-APPLE-RADIUS=500;X-TITLE=50 Oak Street:geo:-86.7565774,33.5012941
END:VEVENT
BEGIN:VEVENT
DTSTART;TZID=America/Chicago:20191108T091500
DTEND;TZID=America/Chicago:20191108T100000
DTSTAMP:20260423T021640
CREATED:20191027T165636Z
LAST-MODIFIED:20191027T165636Z
UID:32365-1573204500-1573207200@birminghammommy.com
SUMMARY:Sensory Play\, Explore & More Free Play
DESCRIPTION:Children of all abilities and ages need and benefit from sensory-based play.  It allows them to connect ideas with concrete experiences\, it stimulates the brain which helps strengthen neural pathways\, and it helps develop fine and gross motor skills.\n\n\n\n\nDuring the program\, children move through different sensory stations with their caregiver. There will be guides for each station\, which matches it with a developmental goal and includes prompts to engage their children.
URL:https://birminghammommy.com/event/sensory-play-explore-more-free-play/
LOCATION:Emmet O’ Neal Library\, 50 Oak Street\, Mountain Brook\, AL\, 35213
GEO:33.5012941;-86.7565774
X-APPLE-STRUCTURED-LOCATION;VALUE=URI;X-ADDRESS=Emmet O’ Neal Library 50 Oak Street Mountain Brook AL 35213;X-APPLE-RADIUS=500;X-TITLE=50 Oak Street:geo:-86.7565774,33.5012941
END:VEVENT
BEGIN:VEVENT
DTSTART;TZID=America/Chicago:20191107T183000
DTEND;TZID=America/Chicago:20191107T191500
DTSTAMP:20260423T021640
CREATED:20191027T152822Z
LAST-MODIFIED:20191027T152822Z
UID:32296-1573151400-1573154100@birminghammommy.com
SUMMARY:Pajama Storytime
DESCRIPTION:Come in your PJs\, have some cookies\, and hear some wonderful bedtime tales.\n \nSuited for ages 3 and up. No Registration Required.
URL:https://birminghammommy.com/event/pajama-storytime-16/2019-11-07/
LOCATION:North Shelby Library\, 5521 Cahaba Valley Road\, Birmingham\, AL\, 35242
GEO:33.3646429;-86.7165499
X-APPLE-STRUCTURED-LOCATION;VALUE=URI;X-ADDRESS=North Shelby Library 5521 Cahaba Valley Road Birmingham AL 35242;X-APPLE-RADIUS=500;X-TITLE=5521 Cahaba Valley Road:geo:-86.7165499,33.3646429
END:VEVENT
BEGIN:VEVENT
DTSTART;TZID=America/Chicago:20191107T180000
DTEND;TZID=America/Chicago:20191107T203000
DTSTAMP:20260423T021640
CREATED:20191027T165447Z
LAST-MODIFIED:20191027T165447Z
UID:32363-1573149600-1573158600@birminghammommy.com
SUMMARY:Stamped Bracelets
DESCRIPTION:Stamp your favorite quote onto a metal bracelet that would look great on anyone!
URL:https://birminghammommy.com/event/stamped-bracelets/
LOCATION:Emmet O’ Neal Library\, 50 Oak Street\, Mountain Brook\, AL\, 35213
GEO:33.5012941;-86.7565774
X-APPLE-STRUCTURED-LOCATION;VALUE=URI;X-ADDRESS=Emmet O’ Neal Library 50 Oak Street Mountain Brook AL 35213;X-APPLE-RADIUS=500;X-TITLE=50 Oak Street:geo:-86.7565774,33.5012941
END:VEVENT
BEGIN:VEVENT
DTSTART;TZID=America/Chicago:20191107T153000
DTEND;TZID=America/Chicago:20191107T163000
DTSTAMP:20260423T021640
CREATED:20191027T164421Z
LAST-MODIFIED:20191027T164421Z
UID:32361-1573140600-1573144200@birminghammommy.com
SUMMARY:SNaP 3rd-6th grade
DESCRIPTION:Game On! Join us for tabletop games and a Smashbros tournament on the Switch console.
URL:https://birminghammommy.com/event/snap-3rd-6th-grade-2/
LOCATION:Emmet O’ Neal Library\, 50 Oak Street\, Mountain Brook\, AL\, 35213
GEO:33.5012941;-86.7565774
X-APPLE-STRUCTURED-LOCATION;VALUE=URI;X-ADDRESS=Emmet O’ Neal Library 50 Oak Street Mountain Brook AL 35213;X-APPLE-RADIUS=500;X-TITLE=50 Oak Street:geo:-86.7565774,33.5012941
END:VEVENT
END:VCALENDAR