BEGIN:VCALENDAR
VERSION:2.0
PRODID:-//Birmingham Mommy - ECPv6.3.5//NONSGML v1.0//EN
CALSCALE:GREGORIAN
METHOD:PUBLISH
X-ORIGINAL-URL:https://birminghammommy.com
X-WR-CALDESC:Events for Birmingham Mommy
REFRESH-INTERVAL;VALUE=DURATION:PT1H
X-Robots-Tag:noindex
X-PUBLISHED-TTL:PT1H
BEGIN:VTIMEZONE
TZID:America/Chicago
BEGIN:DAYLIGHT
TZOFFSETFROM:-0600
TZOFFSETTO:-0500
TZNAME:CDT
DTSTART:20190310T080000
END:DAYLIGHT
BEGIN:STANDARD
TZOFFSETFROM:-0500
TZOFFSETTO:-0600
TZNAME:CST
DTSTART:20191103T070000
END:STANDARD
END:VTIMEZONE
BEGIN:VEVENT
DTSTART;TZID=America/Chicago:20190716T103000
DTEND;TZID=America/Chicago:20190716T111500
DTSTAMP:20260422T171038
CREATED:20190430T175814Z
LAST-MODIFIED:20190430T175814Z
UID:29575-1563273000-1563275700@birminghammommy.com
SUMMARY:Ms. Kit's Bubble School at Homewood Library
DESCRIPTION:2019 (All Ages) Join Ms. Kit for a magically fun bubble show!
URL:https://birminghammommy.com/event/ms-kits-bubble-school-at-homewood-library/
LOCATION:Homewood Public Library\, Select a Country:
GEO:-12.0470469;-77.032263
END:VEVENT
BEGIN:VEVENT
DTSTART;TZID=America/Chicago:20190716T103000
DTEND;TZID=America/Chicago:20190716T113000
DTSTAMP:20260422T171038
CREATED:20190604T124856Z
LAST-MODIFIED:20190604T124856Z
UID:30225-1563273000-1563276600@birminghammommy.com
SUMMARY:Preschool Kitchen Science at North Shelby Library
DESCRIPTION:STEAM-y (Science Technology Engineering Art and Math) science experiments for preschoolers. \nAges 3-5. Registration required. Space is limited.
URL:https://birminghammommy.com/event/preschool-kitchen-science-at-north-shelby-library/
LOCATION:North Shelby Library\, 5521 Cahaba Valley Road\, Birmingham\, 35242\, United States
GEO:33.3646429;-86.71655
X-APPLE-STRUCTURED-LOCATION;VALUE=URI;X-ADDRESS=North Shelby Library 5521 Cahaba Valley Road Birmingham 35242 United States;X-APPLE-RADIUS=500;X-TITLE=5521 Cahaba Valley Road:geo:-86.71655,33.3646429
END:VEVENT
BEGIN:VEVENT
DTSTART;TZID=America/Chicago:20190716T153000
DTEND;TZID=America/Chicago:20190716T161500
DTSTAMP:20260422T171038
CREATED:20190720T181605Z
LAST-MODIFIED:20190720T181605Z
UID:30854-1563291000-1563293700@birminghammommy.com
SUMMARY:LOL: Go at Emmet O'Neal Library
DESCRIPTION:Learn Magic w/ Arthur Atsma for Kindergarten – 2nd grade
URL:https://birminghammommy.com/event/lol-go-at-emmet-oneal-library-4/
LOCATION:Emmet O’ Neal Library\, 50 Oak Street\, Mountain Brook\, AL\, 35213
GEO:33.5012941;-86.7565774
X-APPLE-STRUCTURED-LOCATION;VALUE=URI;X-ADDRESS=Emmet O’ Neal Library 50 Oak Street Mountain Brook AL 35213;X-APPLE-RADIUS=500;X-TITLE=50 Oak Street:geo:-86.7565774,33.5012941
END:VEVENT
BEGIN:VEVENT
DTSTART;TZID=America/Chicago:20190716T180000
DTEND;TZID=America/Chicago:20190716T190000
DTSTAMP:20260422T171038
CREATED:20190720T181605Z
LAST-MODIFIED:20190720T181605Z
UID:30856-1563300000-1563303600@birminghammommy.com
SUMMARY:Breakout Book Club: King & Kayla & the Missing Dog Treats
DESCRIPTION:emerging readers and their adults
URL:https://birminghammommy.com/event/breakout-book-club-king-kayla-the-missing-dog-treats/
LOCATION:Emmet O’ Neal Library\, 50 Oak Street\, Mountain Brook\, AL\, 35213
GEO:33.5012941;-86.7565774
X-APPLE-STRUCTURED-LOCATION;VALUE=URI;X-ADDRESS=Emmet O’ Neal Library 50 Oak Street Mountain Brook AL 35213;X-APPLE-RADIUS=500;X-TITLE=50 Oak Street:geo:-86.7565774,33.5012941
END:VEVENT
BEGIN:VEVENT
DTSTART;TZID=America/Chicago:20190717T093000
DTEND;TZID=America/Chicago:20190717T100000
DTSTAMP:20260422T171038
CREATED:20190720T181605Z
LAST-MODIFIED:20190720T181605Z
UID:30858-1563355800-1563357600@birminghammommy.com
SUMMARY:Mother Goose at Emmet O'Neal Library
DESCRIPTION:12 to 24 months with caregiver
URL:https://birminghammommy.com/event/mother-goose-at-emmet-oneal-library-6/
LOCATION:Emmet O’ Neal Library\, 50 Oak Street\, Mountain Brook\, AL\, 35213
GEO:33.5012941;-86.7565774
X-APPLE-STRUCTURED-LOCATION;VALUE=URI;X-ADDRESS=Emmet O’ Neal Library 50 Oak Street Mountain Brook AL 35213;X-APPLE-RADIUS=500;X-TITLE=50 Oak Street:geo:-86.7565774,33.5012941
END:VEVENT
BEGIN:VEVENT
DTSTART;TZID=America/Chicago:20190717T100000
DTEND;TZID=America/Chicago:20190717T160000
DTSTAMP:20260422T171038
CREATED:20190624T131124Z
LAST-MODIFIED:20190624T131124Z
UID:30764-1563357600-1563379200@birminghammommy.com
SUMMARY:LEGO Day at CHOM!
DESCRIPTION:LEGO Day at CHOM! \nWednesday\, July 17\, 2019 \n10 am – 4 pm \nAges 5 & older! \nLEGO Play \nLEGO Challenges \nEarthquake Table Test \nAges 4 & under:  DUPLO Play \nAll activities included with admission! \n 
URL:https://birminghammommy.com/event/lego-day-at-chom/
LOCATION:Children’s Hands-On Museum\, 2213 University Blvd.\, Tuscaloosa\, AL\, 35401\, United States
ATTACH;FMTTYPE=image/jpeg:https://birminghammommy.com/wp-content/uploads/2019/06/LEGO-Day-7-17.jpg
END:VEVENT
BEGIN:VEVENT
DTSTART;TZID=America/Chicago:20190717T103000
DTEND;TZID=America/Chicago:20190717T110000
DTSTAMP:20260422T171038
CREATED:20190430T175814Z
LAST-MODIFIED:20190430T175814Z
UID:29577-1563359400-1563361200@birminghammommy.com
SUMMARY:Story Bunch with Ms. Alicia at Homewood Library
DESCRIPTION:2019 (Preschool) Join Ms. Alicia for stories\, songs and lots of fun!
URL:https://birminghammommy.com/event/story-bunch-with-ms-alicia-at-homewood-library-4/
LOCATION:Homewood Public Library\, Select a Country:
GEO:-12.0470469;-77.032263
END:VEVENT
BEGIN:VEVENT
DTSTART;TZID=America/Chicago:20190717T103000
DTEND;TZID=America/Chicago:20190717T110000
DTSTAMP:20260422T171038
CREATED:20190720T181605Z
LAST-MODIFIED:20190720T181605Z
UID:30861-1563359400-1563361200@birminghammommy.com
SUMMARY:Mother Goose at Emmet O'Neal Library
DESCRIPTION:12 to 24 months with caregiver
URL:https://birminghammommy.com/event/mother-goose-at-emmet-oneal-library-7/
LOCATION:Emmet O’ Neal Library\, 50 Oak Street\, Mountain Brook\, AL\, 35213
GEO:33.5012941;-86.7565774
X-APPLE-STRUCTURED-LOCATION;VALUE=URI;X-ADDRESS=Emmet O’ Neal Library 50 Oak Street Mountain Brook AL 35213;X-APPLE-RADIUS=500;X-TITLE=50 Oak Street:geo:-86.7565774,33.5012941
END:VEVENT
BEGIN:VEVENT
DTSTART;TZID=America/Chicago:20190717T133000
DTEND;TZID=America/Chicago:20190717T140000
DTSTAMP:20260422T171038
CREATED:20190720T181605Z
LAST-MODIFIED:20190720T181605Z
UID:30867-1563370200-1563372000@birminghammommy.com
SUMMARY:Movers & Makers at Emmet O'Neal Library
DESCRIPTION:preschoolers aged 3-5
URL:https://birminghammommy.com/event/movers-makers-at-emmet-oneal-library-3/
END:VEVENT
BEGIN:VEVENT
DTSTART;TZID=America/Chicago:20190718T093000
DTEND;TZID=America/Chicago:20190718T095000
DTSTAMP:20260422T171038
CREATED:20190720T181605Z
LAST-MODIFIED:20190720T181605Z
UID:30869-1563442200-1563443400@birminghammommy.com
SUMMARY:Patty Cake at Emmet O'Neal Library
DESCRIPTION:0 to 12 months with caregiver
URL:https://birminghammommy.com/event/patty-cake-at-emmet-oneal-library-3/
LOCATION:Emmet O’ Neal Library\, 50 Oak Street\, Mountain Brook\, AL\, 35213
GEO:33.5012941;-86.7565774
X-APPLE-STRUCTURED-LOCATION;VALUE=URI;X-ADDRESS=Emmet O’ Neal Library 50 Oak Street Mountain Brook AL 35213;X-APPLE-RADIUS=500;X-TITLE=50 Oak Street:geo:-86.7565774,33.5012941
END:VEVENT
BEGIN:VEVENT
DTSTART;TZID=America/Chicago:20190718T103000
DTEND;TZID=America/Chicago:20190718T105000
DTSTAMP:20260422T171038
CREATED:20190720T181605Z
LAST-MODIFIED:20190720T181605Z
UID:30871-1563445800-1563447000@birminghammommy.com
SUMMARY:Patty Cake at Emmet O'Neal Library
DESCRIPTION:0 to 12 months with caregiver
URL:https://birminghammommy.com/event/patty-cake-at-emmet-oneal-library-4/
LOCATION:Emmet O’ Neal Library\, 50 Oak Street\, Mountain Brook\, AL\, 35213
GEO:33.5012941;-86.7565774
X-APPLE-STRUCTURED-LOCATION;VALUE=URI;X-ADDRESS=Emmet O’ Neal Library 50 Oak Street Mountain Brook AL 35213;X-APPLE-RADIUS=500;X-TITLE=50 Oak Street:geo:-86.7565774,33.5012941
END:VEVENT
BEGIN:VEVENT
DTSTART;TZID=America/Chicago:20190718T153000
DTEND;TZID=America/Chicago:20190718T163000
DTSTAMP:20260422T171038
CREATED:20190720T181605Z
LAST-MODIFIED:20190720T181605Z
UID:30874-1563463800-1563467400@birminghammommy.com
SUMMARY:SNaP at Emmet O'Neal Library
DESCRIPTION:3-6 Grade
URL:https://birminghammommy.com/event/snap-at-emmet-oneal-library-2/
LOCATION:Emmet O’ Neal Library\, 50 Oak Street\, Mountain Brook\, AL\, 35213
GEO:33.5012941;-86.7565774
X-APPLE-STRUCTURED-LOCATION;VALUE=URI;X-ADDRESS=Emmet O’ Neal Library 50 Oak Street Mountain Brook AL 35213;X-APPLE-RADIUS=500;X-TITLE=50 Oak Street:geo:-86.7565774,33.5012941
END:VEVENT
BEGIN:VEVENT
DTSTART;TZID=America/Chicago:20190718T163000
DTEND;TZID=America/Chicago:20190718T173000
DTSTAMP:20260422T171038
CREATED:20190430T175814Z
LAST-MODIFIED:20190430T175814Z
UID:29581-1563467400-1563471000@birminghammommy.com
SUMMARY:Learn French at Homewood Library
DESCRIPTION:2019 (3-5 Grade) Learn common French words and phrases in this three-week class. Registration is required.
URL:https://birminghammommy.com/event/learn-french-at-homewood-library-2/
LOCATION:Homewood Public Library\, 1721 Oxmoor Road\, Homewood\, AL\, 35209\, United States
GEO:33.4750533;-86.795404
X-APPLE-STRUCTURED-LOCATION;VALUE=URI;X-ADDRESS=Homewood Public Library 1721 Oxmoor Road Homewood AL 35209 United States;X-APPLE-RADIUS=500;X-TITLE=1721 Oxmoor Road:geo:-86.795404,33.4750533
END:VEVENT
BEGIN:VEVENT
DTSTART;TZID=America/Chicago:20190718T173000
DTEND;TZID=America/Chicago:20190718T193000
DTSTAMP:20260422T171038
CREATED:20190423T131820Z
LAST-MODIFIED:20190423T131820Z
UID:29355-1563471000-1563478200@birminghammommy.com
SUMMARY:1818 Farms Bloom Stroll and Bouquet Workshop
DESCRIPTION:Spend a late afternoon touring the beautiful gardens at 1818 Farms. Natasha will identify her favorite varieties of heirloom flowers and herbs that are grown in her cutting gardens. Workshop participants will learn planting\, growing and seed saving tips for creating their own beautiful garden. Natasha will also demonstrate the best methods for cutting flowers when gathering them for arrangements. Following the garden tour\, participants will gather at the 1818 Farms pavilion where the hands on portion of the workshop will begin. Each participant will be provided with a gorgeous selection of fresh cut flowers and herbs gathered that morning at the farm. Natasha will discuss the basic steps to follow in order to create a stunning floral arrangement for any occasion.
URL:https://birminghammommy.com/event/1818-farms-bloom-stroll-and-bouquet-workshop-4/
LOCATION:1818 Farms\, 24889 Lauderdale Street\, Mooresville\, Alabama\, 35649\, Select a Country:
ATTACH;FMTTYPE=image/jpeg:https://birminghammommy.com/wp-content/uploads/2019/04/bloom-stroll-2-3.jpg
END:VEVENT
BEGIN:VEVENT
DTSTART;TZID=America/Chicago:20190718T180000
DTEND;TZID=America/Chicago:20190718T184500
DTSTAMP:20260422T171038
CREATED:20190430T175814Z
LAST-MODIFIED:20190430T175814Z
UID:29583-1563472800-1563475500@birminghammommy.com
SUMMARY:Books and Brushes Art Night
DESCRIPTION:2019 (All Ages) We’re celebrating the 50th anniversary of the moon landing with artful creations inspired by If You Decide to Go to the Moon by Faith McNulty!
URL:https://birminghammommy.com/event/books-and-brushes-art-night/
LOCATION:Homewood Public Library\, Select a Country:
GEO:-12.0470469;-77.032263
END:VEVENT
BEGIN:VEVENT
DTSTART;TZID=America/Chicago:20190718T190500
DTEND;TZID=America/Chicago:20190718T220500
DTSTAMP:20260422T171038
CREATED:20190608T133540Z
LAST-MODIFIED:20190608T133540Z
UID:30584-1563476700-1563487500@birminghammommy.com
SUMMARY:Birmingham Barons at Regions Field
DESCRIPTION:V. Tennessee Smokies \nGame Highlight: Thirsty Thursday  \n\n\n\n\n\n\nCome out and enjoy a game at Regions Field with your best pal on Thirsty Thursday. On this night 16oz beverages for just $2. | Presented By Miller Lite\, Woodbridge\, and Buffalo Wild Wings. \n\n\n\n\n\n\n\n\n\n\n\n\n\n\n\n\n\n\n\n\n\n\n\n\n\n\n\n\n\n\n\n\n\n\n\n\n\n\n\n\n\n\n\nGeneral Admission seats remain the same price as in recent years with adult tickets available for $7.00. Children (12-years and younger)\, seniors (60 years and older) and members of the military receive $1.00 discounts on the listed prices for all reserved and general admission seats. General Admission seating is located in the right field bleachers and the berm seating areas.
URL:https://birminghammommy.com/event/birmingham-barons-at-regions-field-51/
LOCATION:Regions Field\, 1401 1st Avenue S\, Birmingham\, 35233
GEO:33.5075002;-86.8105789
X-APPLE-STRUCTURED-LOCATION;VALUE=URI;X-ADDRESS=Regions Field 1401 1st Avenue S Birmingham 35233;X-APPLE-RADIUS=500;X-TITLE=1401 1st Avenue S:geo:-86.8105789,33.5075002
END:VEVENT
BEGIN:VEVENT
DTSTART;TZID=America/Chicago:20190719T103000
DTEND;TZID=America/Chicago:20190719T111500
DTSTAMP:20260422T171038
CREATED:20190430T175814Z
LAST-MODIFIED:20190430T175814Z
UID:29585-1563532200-1563534900@birminghammommy.com
SUMMARY:Animal Adventures: Birmingham Zoo
DESCRIPTION:2019 (All Ages) Join us on Friday mornings to learn about different animals!
URL:https://birminghammommy.com/event/animal-adventures-birmingham-zoo/
LOCATION:Homewood Public Library\, Select a Country:
GEO:-12.0470469;-77.032263
END:VEVENT
BEGIN:VEVENT
DTSTART;TZID=America/Chicago:20190719T190500
DTEND;TZID=America/Chicago:20190719T220500
DTSTAMP:20260422T171038
CREATED:20190608T133726Z
LAST-MODIFIED:20190608T133726Z
UID:30586-1563563100-1563573900@birminghammommy.com
SUMMARY:Birmingham Barons at Regions Field
DESCRIPTION:V. Tennessee Smokies \nGame Highlights (2): Friday Night Fireworks  \n\n\n\n\n\n\nCome out to Regions Field as the Barons light up the sky after tonight’s game. | Presented By Coca-Cola\, Cajun Boys\, Comfort Care Hospice\, & Alabama Power \n\n\n\n\n\n\n\n\n Game Highlight:  Faith Night \n\n\n\n\n\n\n\n\n\n\n\n\nGeneral Admission seats remain the same price as in recent years with adult tickets available for $7.00. Children (12-years and younger)\, seniors (60 years and older) and members of the military receive $1.00 discounts on the listed prices for all reserved and general admission seats. General Admission seating is located in the right field bleachers and the berm seating areas.
URL:https://birminghammommy.com/event/birmingham-barons-at-regions-field-52/
LOCATION:Regions Field\, 1401 1st Avenue S\, Birmingham\, 35233
GEO:33.5075002;-86.8105789
X-APPLE-STRUCTURED-LOCATION;VALUE=URI;X-ADDRESS=Regions Field 1401 1st Avenue S Birmingham 35233;X-APPLE-RADIUS=500;X-TITLE=1401 1st Avenue S:geo:-86.8105789,33.5075002
END:VEVENT
BEGIN:VEVENT
DTSTART;TZID=America/Chicago:20190720T090000
DTEND;TZID=America/Chicago:20190720T163000
DTSTAMP:20260422T171038
CREATED:20190624T131124Z
LAST-MODIFIED:20190624T131124Z
UID:30761-1563613200-1563640200@birminghammommy.com
SUMMARY:Comic Book Chaos at CHOM!
DESCRIPTION:Comic Book Chaos at CHOM! \nSaturday\, July 20\, 2019 \n9 am – 4:30 pm \nCreate your own comic strip! \nDecorate a superhero sun-catcher! \nSuperhero science experiments! \nAll activities are included with admission! \n 
URL:https://birminghammommy.com/event/comic-book-chaos-at-chom/
LOCATION:Children’s Hands-On Museum\, 2213 University Blvd.\, Tuscaloosa\, AL\, 35401\, United States
ATTACH;FMTTYPE=image/jpeg:https://birminghammommy.com/wp-content/uploads/2019/06/Comic-Book-Chaos-7-20.jpg
END:VEVENT
BEGIN:VEVENT
DTSTART;TZID=America/Chicago:20190720T090000
DTEND;TZID=America/Chicago:20190720T180000
DTSTAMP:20260422T171038
CREATED:20190717T010542Z
LAST-MODIFIED:20190717T010542Z
UID:30964-1563613200-1563645600@birminghammommy.com
SUMMARY:Zoo Fun Days
DESCRIPTION:Visit the Zoo during Zoo Fun Days to take advantage of discounted admission – $5 off all admission tickets! Guests will have the opportunity to see our two new African elephants in Trails of Africa\, experience an up-close lion training at the Predator Zone\, enjoy a Red Diamond Sea Lion Show and be surrounded by and feed* our beautiful lorikeets in the Schaeffer Eye Center Lorikeet Aviary. Guests can also see live animal demonstrations and feedings during our daily activities! *Additional cost. \nOFFER\n$5 Off Admission Cost\nOffer only valid on Zoo Fun Days dates and cannot be combined with any other offer\, discount or coupon. \nPRICING\nAdults – $12*\nChildren 2 – 12 years old – $7*\nSenior Citizens 65 years+ – $9*\nMilitary (Active/Retired/Veteran/Reserve Military includes spouses and dependents- must show military ID)- $9\nCollege Student (Must show current and valid student ID) – $9\n*Plus tax \nWHEN\nSaturday\, July 20 – 9am-6pm\nSunday\, July 21 – 9am-6pm\nSaturday\, July 27 – 9am-6pm\nSunday\, July 28 – 9am-6pm
URL:https://birminghammommy.com/event/zoo-fun-days-4/2019-07-20/
LOCATION:Birmingham Zoo\, 2630 Cahaba Road\, Birmingham \, AL\, 35223
GEO:33.4867334;-86.7789473
X-APPLE-STRUCTURED-LOCATION;VALUE=URI;X-ADDRESS=Birmingham Zoo 2630 Cahaba Road Birmingham  AL 35223;X-APPLE-RADIUS=500;X-TITLE=2630 Cahaba Road:geo:-86.7789473,33.4867334
END:VEVENT
BEGIN:VEVENT
DTSTART;TZID=America/Chicago:20190720T103000
DTEND;TZID=America/Chicago:20190720T110000
DTSTAMP:20260422T171038
CREATED:20190430T175814Z
LAST-MODIFIED:20190430T175814Z
UID:29587-1563618600-1563620400@birminghammommy.com
SUMMARY:Baby & Me Storytime at Homewood Library
DESCRIPTION:(Birth-12 Months) Join Ms. Mary for an educational and engaging storytime filled with songs\, fingerplays\, board books\, and stories.
URL:https://birminghammommy.com/event/baby-me-storytime-at-homewood-library-2/
LOCATION:Homewood Public Library\, Select a Country:
GEO:-12.0470469;-77.032263
END:VEVENT
BEGIN:VEVENT
DTSTART;TZID=America/Chicago:20190720T103000
DTEND;TZID=America/Chicago:20190720T111500
DTSTAMP:20260422T171038
CREATED:20190720T181605Z
LAST-MODIFIED:20190720T181605Z
UID:30876-1563618600-1563621300@birminghammommy.com
SUMMARY:Family Storytime with Mr. Mac at Emmet O'Neal Library
DESCRIPTION:storytime for the whole family
URL:https://birminghammommy.com/event/family-storytime-with-mr-mac-at-emmet-oneal-library-4/
LOCATION:Emmet O’ Neal Library\, 50 Oak Street\, Mountain Brook\, AL\, 35213
GEO:33.5012941;-86.7565774
X-APPLE-STRUCTURED-LOCATION;VALUE=URI;X-ADDRESS=Emmet O’ Neal Library 50 Oak Street Mountain Brook AL 35213;X-APPLE-RADIUS=500;X-TITLE=50 Oak Street:geo:-86.7565774,33.5012941
END:VEVENT
BEGIN:VEVENT
DTSTART;TZID=America/Chicago:20190720T103000
DTEND;TZID=America/Chicago:20190720T113000
DTSTAMP:20260422T171038
CREATED:20190608T191407Z
LAST-MODIFIED:20190608T191407Z
UID:30440-1563618600-1563622200@birminghammommy.com
SUMMARY:Summer Reading End Party #1 with Starshine Faces
DESCRIPTION:Join us for fun with Starshine Faces to end our summer reading program! Refreshments will be provided. We will announce our grand prize winners and also have some door prizes! Sponsored by Indian Springs Village.\n\nAll ages welcome. No registration required.
URL:https://birminghammommy.com/event/summer-reading-end-party-1-with-starshine-faces/
LOCATION:North Shelby Library\, 5521 Cahaba Valley Road\, Birmingham\, 35242\, United States
GEO:33.3646429;-86.71655
X-APPLE-STRUCTURED-LOCATION;VALUE=URI;X-ADDRESS=North Shelby Library 5521 Cahaba Valley Road Birmingham 35242 United States;X-APPLE-RADIUS=500;X-TITLE=5521 Cahaba Valley Road:geo:-86.71655,33.3646429
END:VEVENT
BEGIN:VEVENT
DTSTART;TZID=America/Chicago:20190720T183000
DTEND;TZID=America/Chicago:20190720T213000
DTSTAMP:20260422T171038
CREATED:20190608T133908Z
LAST-MODIFIED:20190608T133908Z
UID:30588-1563647400-1563658200@birminghammommy.com
SUMMARY:Birmingham Barons at Regions Field
DESCRIPTION:V. Tennessee Smokies \n\n\n\n\n\n\nGame Highlights (2): Sandlot Night  \n\n\n\n\n\n\nTonight’s special guest will be Chauncey Leopardi “Squints” from the Sandlot. \n\n\n\n\n\n\n\n\n Game Highlight:  BBoy McCoy – Entertainer Series \nPresented By St. Vincent’s Health System\, a part of Ascension & Hiltion Birmingham at UAB \n\n\n\n\n\n\n\n\n\n\n\n\n\n\n\n\n\n\nGeneral Admission seats remain the same price as in recent years with adult tickets available for $7.00. Children (12-years and younger)\, seniors (60 years and older) and members of the military receive $1.00 discounts on the listed prices for all reserved and general admission seats. General Admission seating is located in the right field bleachers and the berm seating areas.
URL:https://birminghammommy.com/event/birmingham-barons-at-regions-field-53/
LOCATION:Regions Field\, 1401 1st Avenue S\, Birmingham\, 35233
GEO:33.5075002;-86.8105789
X-APPLE-STRUCTURED-LOCATION;VALUE=URI;X-ADDRESS=Regions Field 1401 1st Avenue S Birmingham 35233;X-APPLE-RADIUS=500;X-TITLE=1401 1st Avenue S:geo:-86.8105789,33.5075002
END:VEVENT
BEGIN:VEVENT
DTSTART;TZID=America/Chicago:20190721T153000
DTEND;TZID=America/Chicago:20190721T163000
DTSTAMP:20260422T171038
CREATED:20190430T175814Z
LAST-MODIFIED:20190430T175814Z
UID:29589-1563723000-1563726600@birminghammommy.com
SUMMARY:Special Siblings at Homewood Library
DESCRIPTION:(K-12 Grade) This support group for siblings of special needs children is a place to share ideas\, experiences\, and the ever changing needs of having a sibling with special needs.
URL:https://birminghammommy.com/event/special-siblings-at-homewood-library-6/
LOCATION:Homewood Public Library\, 1721 Oxmoor Road\, Homewood\, AL\, 35209\, United States
GEO:33.4750533;-86.795404
X-APPLE-STRUCTURED-LOCATION;VALUE=URI;X-ADDRESS=Homewood Public Library 1721 Oxmoor Road Homewood AL 35209 United States;X-APPLE-RADIUS=500;X-TITLE=1721 Oxmoor Road:geo:-86.795404,33.4750533
END:VEVENT
BEGIN:VEVENT
DTSTART;TZID=America/Chicago:20190721T160000
DTEND;TZID=America/Chicago:20190721T190000
DTSTAMP:20260422T171038
CREATED:20190608T134107Z
LAST-MODIFIED:20190608T134107Z
UID:30590-1563724800-1563735600@birminghammommy.com
SUMMARY:Birmingham Barons at Regions Field
DESCRIPTION:V. Tennessee Smokies \n\n\n\n\n\n\n\n\n\n\n\n\nGame Highlights (3): Family Sunday’s  \n\n\n\n\n\n\nFamily Sundays feature face painting\, a chance for kids to run the bases after the game\, and other fun filled activities. | Presented By Papa John’s and Jack’s Restaurant \n\n\n\n\n\n\n\n\n Game Highlight:  Zoo Days \nPresented By The Birmingham Zoo \n\n\n\n\n\n\n\n\n Game Highlight:  Zoo Days \nPresented By The Birmingham Zoo \n\n\n\n\n\n\n\n\n\n\n\n\n\n\n\n\n\n\n\n\n\n\n\n\nGeneral Admission seats remain the same price as in recent years with adult tickets available for $7.00. Children (12-years and younger)\, seniors (60 years and older) and members of the military receive $1.00 discounts on the listed prices for all reserved and general admission seats. General Admission seating is located in the right field bleachers and the berm seating areas.
URL:https://birminghammommy.com/event/birmingham-barons-at-regions-field-54/
LOCATION:Regions Field\, 1401 1st Avenue S\, Birmingham\, 35233
GEO:33.5075002;-86.8105789
X-APPLE-STRUCTURED-LOCATION;VALUE=URI;X-ADDRESS=Regions Field 1401 1st Avenue S Birmingham 35233;X-APPLE-RADIUS=500;X-TITLE=1401 1st Avenue S:geo:-86.8105789,33.5075002
END:VEVENT
BEGIN:VEVENT
DTSTART;TZID=America/Chicago:20190722T093000
DTEND;TZID=America/Chicago:20190722T100000
DTSTAMP:20260422T171038
CREATED:20190720T181731Z
LAST-MODIFIED:20190720T181731Z
UID:30878-1563787800-1563789600@birminghammommy.com
SUMMARY:Toddler Tales at Emmet O'Neal Library
DESCRIPTION:24 to 36 months with caregiver
URL:https://birminghammommy.com/event/toddler-tales-at-emmet-oneal-library-9/
LOCATION:Emmet O’ Neal Library\, 50 Oak Street\, Mountain Brook\, AL\, 35213
GEO:33.5012941;-86.7565774
X-APPLE-STRUCTURED-LOCATION;VALUE=URI;X-ADDRESS=Emmet O’ Neal Library 50 Oak Street Mountain Brook AL 35213;X-APPLE-RADIUS=500;X-TITLE=50 Oak Street:geo:-86.7565774,33.5012941
END:VEVENT
BEGIN:VEVENT
DTSTART;TZID=America/Chicago:20190722T103000
DTEND;TZID=America/Chicago:20190722T110000
DTSTAMP:20260422T171038
CREATED:20190430T175814Z
LAST-MODIFIED:20190430T175814Z
UID:29591-1563791400-1563793200@birminghammommy.com
SUMMARY:Story Bunch with Ms. Cristina at Homewood Library
DESCRIPTION:2019 (Preschool) Join Ms. Cristina for stories\, songs and lots of fun!
URL:https://birminghammommy.com/event/story-bunch-with-ms-cristina-at-homewood-library-3/
LOCATION:Homewood Public Library\, Select a Country:
GEO:-12.0470469;-77.032263
END:VEVENT
BEGIN:VEVENT
DTSTART;TZID=America/Chicago:20190722T103000
DTEND;TZID=America/Chicago:20190722T110000
DTSTAMP:20260422T171038
CREATED:20190720T181731Z
LAST-MODIFIED:20190720T181731Z
UID:30880-1563791400-1563793200@birminghammommy.com
SUMMARY:Toddler Tales at Emmet O'Neal Library
DESCRIPTION:24 to 36 months with caregiver
URL:https://birminghammommy.com/event/toddler-tales-at-emmet-oneal-library-10/
LOCATION:Emmet O’ Neal Library\, 50 Oak Street\, Mountain Brook\, AL\, 35213
GEO:33.5012941;-86.7565774
X-APPLE-STRUCTURED-LOCATION;VALUE=URI;X-ADDRESS=Emmet O’ Neal Library 50 Oak Street Mountain Brook AL 35213;X-APPLE-RADIUS=500;X-TITLE=50 Oak Street:geo:-86.7565774,33.5012941
END:VEVENT
BEGIN:VEVENT
DTSTART;TZID=America/Chicago:20190722T140000
DTEND;TZID=America/Chicago:20190722T150000
DTSTAMP:20260422T171038
CREATED:20190604T125225Z
LAST-MODIFIED:20190604T125225Z
UID:30134-1563804000-1563807600@birminghammommy.com
SUMMARY:Back-to-School Ice Cream Bash at Parnell Memorial Library
DESCRIPTION:Join us for a free ice cream party to celebrate the end of summer! Free\, open for the whole family. No registration required.
URL:https://birminghammommy.com/event/back-to-school-ice-cream-bash-at-parnell-memorial-library/
LOCATION:Parnell Memorial Library\, 277 Park Drive\, Montevallo\, AL\, 35115\, United States
ORGANIZER;CN="Parnell Memorial Library":MAILTO:skitchens@shelbycounty-al.org
END:VEVENT
END:VCALENDAR