BEGIN:VCALENDAR
VERSION:2.0
PRODID:-//Birmingham Mommy - ECPv6.3.5//NONSGML v1.0//EN
CALSCALE:GREGORIAN
METHOD:PUBLISH
X-WR-CALNAME:Birmingham Mommy
X-ORIGINAL-URL:https://birminghammommy.com
X-WR-CALDESC:Events for Birmingham Mommy
REFRESH-INTERVAL;VALUE=DURATION:PT1H
X-Robots-Tag:noindex
X-PUBLISHED-TTL:PT1H
BEGIN:VTIMEZONE
TZID:America/Chicago
BEGIN:DAYLIGHT
TZOFFSETFROM:-0600
TZOFFSETTO:-0500
TZNAME:CDT
DTSTART:20190310T080000
END:DAYLIGHT
BEGIN:STANDARD
TZOFFSETFROM:-0500
TZOFFSETTO:-0600
TZNAME:CST
DTSTART:20191103T070000
END:STANDARD
END:VTIMEZONE
BEGIN:VEVENT
DTSTART;TZID=America/Chicago:20191216T103000
DTEND;TZID=America/Chicago:20191216T111500
DTSTAMP:20260421T205335
CREATED:20191108T155831Z
LAST-MODIFIED:20191108T155831Z
UID:32541-1576492200-1576494900@birminghammommy.com
SUMMARY:Toddler Tales at North Shelby Library
DESCRIPTION:Stories\, songs\, and fingerplays make up a lively 30 minute program designed especially for toddlers. Registration will begin one week prior to each storytime. 
URL:https://birminghammommy.com/event/toddler-tales-at-north-shelby-library-9/
LOCATION:North Shelby Library\, 5521 Cahaba Valley Road\, Birmingham\, 35242\, United States
GEO:33.3646429;-86.71655
X-APPLE-STRUCTURED-LOCATION;VALUE=URI;X-ADDRESS=North Shelby Library 5521 Cahaba Valley Road Birmingham 35242 United States;X-APPLE-RADIUS=500;X-TITLE=5521 Cahaba Valley Road:geo:-86.71655,33.3646429
END:VEVENT
BEGIN:VEVENT
DTSTART;TZID=America/Chicago:20191216T103000
DTEND;TZID=America/Chicago:20191216T110000
DTSTAMP:20260421T205335
CREATED:20191208T215834Z
LAST-MODIFIED:20191208T215834Z
UID:32902-1576492200-1576494000@birminghammommy.com
SUMMARY:Toddler-A-Go-Go at Vestavia Hills Library
DESCRIPTION:Join Ms. Anjie for reading readiness action and fun! Ages 18-36 months.
URL:https://birminghammommy.com/event/toddler-a-go-go-at-vestavia-hills-library-4/
LOCATION:Vestavia Hills Library in the Forest\, 1221 Montgomery Hwy\, Vestavia Hills Library\, AL\, 35216
GEO:33.4311673;-86.7875936
X-APPLE-STRUCTURED-LOCATION;VALUE=URI;X-ADDRESS=Vestavia Hills Library in the Forest 1221 Montgomery Hwy Vestavia Hills Library AL 35216;X-APPLE-RADIUS=500;X-TITLE=1221 Montgomery Hwy:geo:-86.7875936,33.4311673
END:VEVENT
BEGIN:VEVENT
DTSTART;TZID=America/Chicago:20191216T103000
DTEND;TZID=America/Chicago:20191216T110000
DTSTAMP:20260421T205335
CREATED:20191208T215809Z
LAST-MODIFIED:20191208T215809Z
UID:32860-1576492200-1576494000@birminghammommy.com
SUMMARY:Toddler Tales at Emmet O'Neal Library
DESCRIPTION:24 to 36 months with caregiver
URL:https://birminghammommy.com/event/toddler-tales-at-emmet-oneal-library-16/
LOCATION:Emmet O’ Neal Library\, 50 Oak Street\, Mountain Brook\, AL\, 35213
GEO:33.5012941;-86.7565774
X-APPLE-STRUCTURED-LOCATION;VALUE=URI;X-ADDRESS=Emmet O’ Neal Library 50 Oak Street Mountain Brook AL 35213;X-APPLE-RADIUS=500;X-TITLE=50 Oak Street:geo:-86.7565774,33.5012941
END:VEVENT
BEGIN:VEVENT
DTSTART;TZID=America/Chicago:20191216T100000
DTEND;TZID=America/Chicago:20191216T104500
DTSTAMP:20260421T205335
CREATED:20191108T155802Z
LAST-MODIFIED:20191108T155802Z
UID:32513-1576490400-1576493100@birminghammommy.com
SUMMARY:Homeschool STEAM Club at Homewood Library
DESCRIPTION:2019 Crime Solving 101 and The Case of the Missing Library Book – Students will learn about fingerprints and blood typing as they solve the case of the Missing Library Book.
URL:https://birminghammommy.com/event/homeschool-steam-club-at-homewood-library/
LOCATION:Homewood Public Library\, 1721 Oxmoor Road\, Homewood\, AL\, 35209\, United States
GEO:33.4750533;-86.795404
X-APPLE-STRUCTURED-LOCATION;VALUE=URI;X-ADDRESS=Homewood Public Library 1721 Oxmoor Road Homewood AL 35209 United States;X-APPLE-RADIUS=500;X-TITLE=1721 Oxmoor Road:geo:-86.795404,33.4750533
END:VEVENT
BEGIN:VEVENT
DTSTART;TZID=America/Chicago:20191216T093000
DTEND;TZID=America/Chicago:20191216T100000
DTSTAMP:20260421T205335
CREATED:20191208T215834Z
LAST-MODIFIED:20191208T215834Z
UID:32900-1576488600-1576490400@birminghammommy.com
SUMMARY:Toddler-A-Go-Go at Vestavia Hills Library
DESCRIPTION:Join Ms. Anjie for reading readiness action and fun! Ages 18-36 months.
URL:https://birminghammommy.com/event/toddler-a-go-go-at-vestavia-hills-library-3/
LOCATION:Vestavia Hills Library in the Forest\, 1221 Montgomery Hwy\, Vestavia Hills Library\, AL\, 35216
GEO:33.4311673;-86.7875936
X-APPLE-STRUCTURED-LOCATION;VALUE=URI;X-ADDRESS=Vestavia Hills Library in the Forest 1221 Montgomery Hwy Vestavia Hills Library AL 35216;X-APPLE-RADIUS=500;X-TITLE=1221 Montgomery Hwy:geo:-86.7875936,33.4311673
END:VEVENT
BEGIN:VEVENT
DTSTART;TZID=America/Chicago:20191216T093000
DTEND;TZID=America/Chicago:20191216T100000
DTSTAMP:20260421T205335
CREATED:20191208T215809Z
LAST-MODIFIED:20191208T215809Z
UID:32858-1576488600-1576490400@birminghammommy.com
SUMMARY:Toddler Tales at Emmet O'Neal Library
DESCRIPTION:24 to 36 months with caregiver
URL:https://birminghammommy.com/event/toddler-tales-at-emmet-oneal-library-15/
LOCATION:Emmet O’ Neal Library\, 50 Oak Street\, Mountain Brook\, AL\, 35213
GEO:33.5012941;-86.7565774
X-APPLE-STRUCTURED-LOCATION;VALUE=URI;X-ADDRESS=Emmet O’ Neal Library 50 Oak Street Mountain Brook AL 35213;X-APPLE-RADIUS=500;X-TITLE=50 Oak Street:geo:-86.7565774,33.5012941
END:VEVENT
BEGIN:VEVENT
DTSTART;TZID=America/Chicago:20191215T150000
DTEND;TZID=America/Chicago:20191215T170000
DTSTAMP:20260421T205335
CREATED:20191208T220801Z
LAST-MODIFIED:20191208T220801Z
UID:32927-1576422000-1576429200@birminghammommy.com
SUMMARY:Birmingham Bulls Hockey
DESCRIPTION:V. Quad City Storm \nAs You Walk Through the Door\, Your Hearts Starts Pumping! The irresistible lure of HOCKEY and the buzz of a packed house causes your ADRENALIN to surge. The music is PUMPING\, the lights fade and the smoke swirls – and that’s just the beginning. Monster hits\, UNBELIEVABLE GOALS and in-your-face hockey keeps you on the edge of your seat. The action is NON-STOP! With heart pounding music\, contests\, and the prospect of catching a fantastic FREE SOUVENIR\, what are you waiting for? Build your team’s SPIRIT by sharing in ours. It’s an EXPERIENCE to remember.
URL:https://birminghammommy.com/event/birmingham-bulls-hockey-28/
LOCATION:Pelham Civic Center and Ice Arena\, 500 Amphitheater Drive\, Pelham\, 35124\, United States
END:VEVENT
BEGIN:VEVENT
DTSTART;TZID=America/Chicago:20191214T190000
DTEND;TZID=America/Chicago:20191214T210000
DTSTAMP:20260421T205335
CREATED:20191208T220624Z
LAST-MODIFIED:20191208T220624Z
UID:32925-1576350000-1576357200@birminghammommy.com
SUMMARY:Birmingham Bulls Hockey
DESCRIPTION:V. Pensacola Ice Flyers \nAs You Walk Through the Door\, Your Hearts Starts Pumping! The irresistible lure of HOCKEY and the buzz of a packed house causes your ADRENALIN to surge. The music is PUMPING\, the lights fade and the smoke swirls – and that’s just the beginning. Monster hits\, UNBELIEVABLE GOALS and in-your-face hockey keeps you on the edge of your seat. The action is NON-STOP! With heart pounding music\, contests\, and the prospect of catching a fantastic FREE SOUVENIR\, what are you waiting for? Build your team’s SPIRIT by sharing in ours. It’s an EXPERIENCE to remember.
URL:https://birminghammommy.com/event/birmingham-bulls-hockey-27/
LOCATION:Pelham Civic Center and Ice Arena\, 500 Amphitheater Drive\, Pelham\, 35124\, United States
END:VEVENT
BEGIN:VEVENT
DTSTART;TZID=America/Chicago:20191214T103000
DTEND;TZID=America/Chicago:20191214T121500
DTSTAMP:20260421T205335
CREATED:20191208T215809Z
LAST-MODIFIED:20191208T215809Z
UID:32856-1576319400-1576325700@birminghammommy.com
SUMMARY:Family Storytime with Mr. Mac at Emmet O'Neal Library
DESCRIPTION:storytime for the whole family
URL:https://birminghammommy.com/event/family-storytime-with-mr-mac-at-emmet-oneal-library-6/
LOCATION:Emmet O’ Neal Library\, 50 Oak Street\, Mountain Brook\, AL\, 35213
GEO:33.5012941;-86.7565774
X-APPLE-STRUCTURED-LOCATION;VALUE=URI;X-ADDRESS=Emmet O’ Neal Library 50 Oak Street Mountain Brook AL 35213;X-APPLE-RADIUS=500;X-TITLE=50 Oak Street:geo:-86.7565774,33.5012941
END:VEVENT
BEGIN:VEVENT
DTSTART;TZID=America/Chicago:20191214T100000
DTEND;TZID=America/Chicago:20191214T140000
DTSTAMP:20260421T205335
CREATED:20191108T155831Z
LAST-MODIFIED:20191108T155831Z
UID:32539-1576317600-1576332000@birminghammommy.com
SUMMARY:Mt Laurel Crafty Saturday at North Shelby Library
DESCRIPTION:Mt Laurel Library\nMeeting Room\n\nDrop in to make a craft at the library. All ages with parent help. Registration is not required but supplies are limited.
URL:https://birminghammommy.com/event/mt-laurel-crafty-saturday-at-north-shelby-library/
LOCATION:North Shelby Library\, 5521 Cahaba Valley Road\, Birmingham\, AL\, 35242
GEO:33.3646429;-86.7165499
X-APPLE-STRUCTURED-LOCATION;VALUE=URI;X-ADDRESS=North Shelby Library 5521 Cahaba Valley Road Birmingham AL 35242;X-APPLE-RADIUS=500;X-TITLE=5521 Cahaba Valley Road:geo:-86.7165499,33.3646429
END:VEVENT
BEGIN:VEVENT
DTSTART;TZID=America/Chicago:20191214T090000
DTEND;TZID=America/Chicago:20191214T103000
DTSTAMP:20260421T205335
CREATED:20191108T155831Z
LAST-MODIFIED:20191108T155831Z
UID:32537-1576314000-1576319400@birminghammommy.com
SUMMARY:Breakfast with Santa at North Shelby Library
DESCRIPTION:Join us for a great time of food\, fun\, and pictures with Santa! Breakfast will be from 9:00 – 9:30. Pictures with Santa and a craft will be from 9:30 – 10:30.\n\nAll ages are welcome. Registration required. A $5.00 fee per person is due at time of registration and can be paid online here with credit card or in person in the Children’s Department with cash or check. Please register each person individually or register as a group and specify the number of people.
URL:https://birminghammommy.com/event/breakfast-with-santa-at-north-shelby-library/
LOCATION:North Shelby Library\, 5521 Cahaba Valley Road\, Birmingham\, 35242\, United States
GEO:33.3646429;-86.71655
X-APPLE-STRUCTURED-LOCATION;VALUE=URI;X-ADDRESS=North Shelby Library 5521 Cahaba Valley Road Birmingham 35242 United States;X-APPLE-RADIUS=500;X-TITLE=5521 Cahaba Valley Road:geo:-86.71655,33.3646429
END:VEVENT
BEGIN:VEVENT
DTSTART;TZID=America/Chicago:20191214T080000
DTEND;TZID=America/Chicago:20191214T130000
DTSTAMP:20260421T205335
CREATED:20191108T155923Z
LAST-MODIFIED:20191108T155923Z
UID:32451-1576310400-1576328400@birminghammommy.com
SUMMARY:Breakfast at the North Pole with Santa & Mrs. Claus at CHOM!
DESCRIPTION:Breakfast at the North Pole with Santa & Mrs. Claus at CHOM! \nSaturday\, December 14\, 2019   \nThree separate dining times are available \n8:00-9:15 am\, 9:45-11 am\, 11:30-12:45 pm \n$20 per person   Pre-Register NOW! \nBecome a Toymaker in Santa’s Workshop!
URL:https://birminghammommy.com/event/breakfast-at-the-north-pole-with-santa-mrs-claus-at-chom/
LOCATION:Children’s Hands-On Museum\, 2213 University Blvd.\, Tuscaloosa\, AL\, 35401\, United States
ATTACH;FMTTYPE=image/jpeg:https://birminghammommy.com/wp-content/uploads/2019/11/Breakfast-at-the-North-Pole-12-14-19.jpg
END:VEVENT
BEGIN:VEVENT
DTSTART;TZID=America/Chicago:20191213T193000
DTEND;TZID=America/Chicago:20191213T213000
DTSTAMP:20260421T205335
CREATED:20191208T220518Z
LAST-MODIFIED:20191208T220518Z
UID:32923-1576265400-1576272600@birminghammommy.com
SUMMARY:Birmingham Bulls Hockey
DESCRIPTION:V. Pensacola Ice Flyers \nAs You Walk Through the Door\, Your Hearts Starts Pumping! The irresistible lure of HOCKEY and the buzz of a packed house causes your ADRENALIN to surge. The music is PUMPING\, the lights fade and the smoke swirls – and that’s just the beginning. Monster hits\, UNBELIEVABLE GOALS and in-your-face hockey keeps you on the edge of your seat. The action is NON-STOP! With heart pounding music\, contests\, and the prospect of catching a fantastic FREE SOUVENIR\, what are you waiting for? Build your team’s SPIRIT by sharing in ours. It’s an EXPERIENCE to remember.
URL:https://birminghammommy.com/event/birmingham-bulls-hockey-26/
LOCATION:Pelham Civic Center and Ice Arena\, 500 Amphitheater Drive\, Pelham\, 35124\, United States
END:VEVENT
BEGIN:VEVENT
DTSTART;TZID=America/Chicago:20191213T180000
DTEND;TZID=America/Chicago:20191213T200000
DTSTAMP:20260421T205335
CREATED:20191208T215744Z
LAST-MODIFIED:20191208T215744Z
UID:32854-1576260000-1576267200@birminghammommy.com
SUMMARY:DIY Candles at Emmet O'Neal Library
DESCRIPTION:Crossover Teen-Tween Event\n\n\n\n\n\n\nCome make holiday candles with craft instructor Virginia Brasher at the last Crossover event of 2019! All materials will be provided\, so you only need to register and attend. \nCrossover is a program series for younger teens in Grades 5-8. It occurs every 2nd Friday of the month at 6 PM. Some of our most popular Crossover programs have been Escape from Azkaban Breakout\, Floats & Strokes\, Putt-Putt in the Library\, and a Smash Ultimate Tournament. Registration is appreciated for this event. \nFor more information about our Crossover series\, contact Matthew Layne\, Tess DeView\, or Michelle Cheng.
URL:https://birminghammommy.com/event/diy-candles-at-emmet-oneal-library/
LOCATION:Emmet O’ Neal Library\, 50 Oak Street\, Mountain Brook\, AL\, 35213
GEO:33.5012941;-86.7565774
X-APPLE-STRUCTURED-LOCATION;VALUE=URI;X-ADDRESS=Emmet O’ Neal Library 50 Oak Street Mountain Brook AL 35213;X-APPLE-RADIUS=500;X-TITLE=50 Oak Street:geo:-86.7565774,33.5012941
END:VEVENT
BEGIN:VEVENT
DTSTART;TZID=America/Chicago:20191213T153000
DTEND;TZID=America/Chicago:20191213T170000
DTSTAMP:20260421T205335
CREATED:20191119T020852Z
LAST-MODIFIED:20191119T020852Z
UID:32659-1576251000-1576256400@birminghammommy.com
SUMMARY:Grinch Day
DESCRIPTION:It’s Grinch Day! Join us for a meet and greet with your favorite grumpy guy from Whoville\, then for a big-screen showing of The Grinch in our theater. No registration required.
URL:https://birminghammommy.com/event/grinch-day/
LOCATION:Parnell Memorial Library\, 277 Park Drive\, Montevallo\, AL\, 35115\, United States
END:VEVENT
BEGIN:VEVENT
DTSTART;TZID=America/Chicago:20191213T103000
DTEND;TZID=America/Chicago:20191213T114500
DTSTAMP:20260421T205335
CREATED:20191208T215744Z
LAST-MODIFIED:20191208T215744Z
UID:32852-1576233000-1576237500@birminghammommy.com
SUMMARY:Sensory Play\, Explore & More at Emmet O'Neal Library
DESCRIPTION:Children of all abilities and ages need and benefit from sensory-based play.  It allows them to connect ideas with concrete experiences\, it stimulates the brain which helps strengthen neural pathways\, and it helps develop fine and gross motor skills. \nDuring the program\, children move through different sensory stations with their caregiver. There will be guides for each station\, which matches it with a developmental goal and includes prompts to engage their children.
URL:https://birminghammommy.com/event/sensory-play-explore-more-at-emmet-oneal-library-3/
LOCATION:Emmet O’ Neal Library\, 50 Oak Street\, Mountain Brook\, AL\, 35213
GEO:33.5012941;-86.7565774
X-APPLE-STRUCTURED-LOCATION;VALUE=URI;X-ADDRESS=Emmet O’ Neal Library 50 Oak Street Mountain Brook AL 35213;X-APPLE-RADIUS=500;X-TITLE=50 Oak Street:geo:-86.7565774,33.5012941
END:VEVENT
BEGIN:VEVENT
DTSTART;TZID=America/Chicago:20191213T103000
DTEND;TZID=America/Chicago:20191213T110000
DTSTAMP:20260421T205335
CREATED:20191108T155802Z
LAST-MODIFIED:20191108T155802Z
UID:32509-1576233000-1576234800@birminghammommy.com
SUMMARY:Sensory Storytime at Homewood Library
DESCRIPTION:2019 (Preschool) Join Ms. Laura for books\, songs\, and activities that stimulate the senses and promote learning in a sensory-inclusive atmosphere. Registration is required.
URL:https://birminghammommy.com/event/sensory-storytime-at-homewood-library-12/
LOCATION:Homewood Public Library\, 1721 Oxmoor Road\, Homewood\, AL\, 35209\, United States
GEO:33.4750533;-86.795404
X-APPLE-STRUCTURED-LOCATION;VALUE=URI;X-ADDRESS=Homewood Public Library 1721 Oxmoor Road Homewood AL 35209 United States;X-APPLE-RADIUS=500;X-TITLE=1721 Oxmoor Road:geo:-86.795404,33.4750533
END:VEVENT
BEGIN:VEVENT
DTSTART;TZID=America/Chicago:20191213T100000
DTEND;TZID=America/Chicago:20191213T104500
DTSTAMP:20260421T205335
CREATED:20191208T215744Z
LAST-MODIFIED:20191208T215744Z
UID:32850-1576231200-1576233900@birminghammommy.com
SUMMARY:Sensory Play\, Explore & More at Emmet O'Neal Library
DESCRIPTION:Children of all abilities and ages need and benefit from sensory-based play.  It allows them to connect ideas with concrete experiences\, it stimulates the brain which helps strengthen neural pathways\, and it helps develop fine and gross motor skills. \nDuring the program\, children move through different sensory stations with their caregiver. There will be guides for each station\, which matches it with a developmental goal and includes prompts to engage their children.
URL:https://birminghammommy.com/event/sensory-play-explore-more-at-emmet-oneal-library-2/
LOCATION:Emmet O’ Neal Library\, 50 Oak Street\, Mountain Brook\, AL\, 35213
GEO:33.5012941;-86.7565774
X-APPLE-STRUCTURED-LOCATION;VALUE=URI;X-ADDRESS=Emmet O’ Neal Library 50 Oak Street Mountain Brook AL 35213;X-APPLE-RADIUS=500;X-TITLE=50 Oak Street:geo:-86.7565774,33.5012941
END:VEVENT
BEGIN:VEVENT
DTSTART;TZID=America/Chicago:20191213T093000
DTEND;TZID=America/Chicago:20191213T100000
DTSTAMP:20260421T205335
CREATED:20191108T155802Z
LAST-MODIFIED:20191108T155802Z
UID:32507-1576229400-1576231200@birminghammommy.com
SUMMARY:Sensory Storytime at Homewood Library
DESCRIPTION:2019 (Preschool) Join Ms. Laura for books\, songs\, and activities that stimulate the senses and promote learning in a sensory-inclusive atmosphere. Registration is required.
URL:https://birminghammommy.com/event/sensory-storytime-at-homewood-library-11/
LOCATION:Homewood Public Library\, Select a Country:
GEO:-12.0470469;-77.032263
END:VEVENT
BEGIN:VEVENT
DTSTART;TZID=America/Chicago:20191212T183000
DTEND;TZID=America/Chicago:20191212T191500
DTSTAMP:20260421T205335
CREATED:20191108T155831Z
LAST-MODIFIED:20191108T155831Z
UID:32535-1576175400-1576178100@birminghammommy.com
SUMMARY:Pajama Storytime at North Shelby Library
DESCRIPTION:Come in your PJs\, have some cookies\, and hear some wonderful bedtime tales.
URL:https://birminghammommy.com/event/pajama-storytime-at-north-shelby-library-5/
LOCATION:North Shelby Library\, 5521 Cahaba Valley Road\, Birmingham\, 35242\, United States
GEO:33.3646429;-86.71655
X-APPLE-STRUCTURED-LOCATION;VALUE=URI;X-ADDRESS=North Shelby Library 5521 Cahaba Valley Road Birmingham 35242 United States;X-APPLE-RADIUS=500;X-TITLE=5521 Cahaba Valley Road:geo:-86.71655,33.3646429
END:VEVENT
BEGIN:VEVENT
DTSTART;TZID=America/Chicago:20191212T160000
DTEND;TZID=America/Chicago:20191212T163000
DTSTAMP:20260421T205335
CREATED:20191208T221101Z
LAST-MODIFIED:20191208T221101Z
UID:32932-1576166400-1576168200@birminghammommy.com
SUMMARY:Storytime with Singing Santa
DESCRIPTION:Brookwood Village and Books-A-Million are partnering to bring you Story Time with Singing Santa\, an event where Singing Santa will read a holiday-related children’s book in a personal\, intimate setting. Join us every Tuesday at 11:00 a.m. and every Thursday at 4:00 p.m. between December 3 – December 19. The event is free to the public and will take place at Santa’s location on the upper level across from the food court.
URL:https://birminghammommy.com/event/storytime-with-singing-santa-2/2019-12-12/
LOCATION:Brookwood Mall\, 780 Brookwood Village\, Birmingham\, AL\, 35209
GEO:33.470018;-86.771001
X-APPLE-STRUCTURED-LOCATION;VALUE=URI;X-ADDRESS=Brookwood Mall 780 Brookwood Village Birmingham AL 35209;X-APPLE-RADIUS=500;X-TITLE=780 Brookwood Village:geo:-86.771001,33.470018
END:VEVENT
BEGIN:VEVENT
DTSTART;TZID=America/Chicago:20191212T153000
DTEND;TZID=America/Chicago:20191212T163000
DTSTAMP:20260421T205335
CREATED:20191208T215744Z
LAST-MODIFIED:20191208T215744Z
UID:32823-1576164600-1576168200@birminghammommy.com
SUMMARY:SNaP at Emmet O'Neal Library
DESCRIPTION:3-6 Grade\n\n\n\n\n\n\nIt’s craft day! We’re getting into the spirit by making tiny versions of Ugly Holiday Sweaters.
URL:https://birminghammommy.com/event/snap-at-emmet-oneal-library-5/
LOCATION:Emmet O’ Neal Library\, 50 Oak Street\, Mountain Brook\, AL\, 35213
GEO:33.5012941;-86.7565774
X-APPLE-STRUCTURED-LOCATION;VALUE=URI;X-ADDRESS=Emmet O’ Neal Library 50 Oak Street Mountain Brook AL 35213;X-APPLE-RADIUS=500;X-TITLE=50 Oak Street:geo:-86.7565774,33.5012941
END:VEVENT
BEGIN:VEVENT
DTSTART;TZID=America/Chicago:20191212T103000
DTEND;TZID=America/Chicago:20191212T103000
DTSTAMP:20260421T205335
CREATED:20191208T215744Z
LAST-MODIFIED:20191208T215744Z
UID:32821-1576146600-1576146600@birminghammommy.com
SUMMARY:Patty Cake at Emmet O'Neal Library
DESCRIPTION:0 to 12 months with caregiver
URL:https://birminghammommy.com/event/patty-cake-at-emmet-oneal-library-10/
LOCATION:Emmet O’ Neal Library\, 50 Oak Street\, Mountain Brook\, AL\, 35213
GEO:33.5012941;-86.7565774
X-APPLE-STRUCTURED-LOCATION;VALUE=URI;X-ADDRESS=Emmet O’ Neal Library 50 Oak Street Mountain Brook AL 35213;X-APPLE-RADIUS=500;X-TITLE=50 Oak Street:geo:-86.7565774,33.5012941
END:VEVENT
BEGIN:VEVENT
DTSTART;TZID=America/Chicago:20191212T100000
DTEND;TZID=America/Chicago:20191212T103000
DTSTAMP:20260421T205335
CREATED:20191208T215834Z
LAST-MODIFIED:20191208T215834Z
UID:32898-1576144800-1576146600@birminghammommy.com
SUMMARY:Book Babies at Vestavia Hills Library
DESCRIPTION:Ms. Lisa introduces babies birth to 18 months to the joys of storytime with special lap-sit programs.
URL:https://birminghammommy.com/event/book-babies-at-vestavia-hills-library/
LOCATION:Vestavia Hills Library in the Forest\, 1221 Montgomery Hwy\, Vestavia Hills Library\, AL\, 35216
GEO:33.4311673;-86.7875936
X-APPLE-STRUCTURED-LOCATION;VALUE=URI;X-ADDRESS=Vestavia Hills Library in the Forest 1221 Montgomery Hwy Vestavia Hills Library AL 35216;X-APPLE-RADIUS=500;X-TITLE=1221 Montgomery Hwy:geo:-86.7875936,33.4311673
END:VEVENT
BEGIN:VEVENT
DTSTART;TZID=America/Chicago:20191212T093000
DTEND;TZID=America/Chicago:20191212T120000
DTSTAMP:20260421T205335
CREATED:20191208T215834Z
LAST-MODIFIED:20191208T215834Z
UID:32896-1576143000-1576152000@birminghammommy.com
SUMMARY:L.I.F.T. at Vestavia Hills Library
DESCRIPTION:Join fellow preschoolers and their caregivers for social play with tents\, tunnels and more.
URL:https://birminghammommy.com/event/l-i-f-t-at-vestavia-hills-library/
LOCATION:Vestavia Hills Library in the Forest\, 1221 Montgomery Hwy\, Vestavia Hills Library\, AL\, 35216
GEO:33.4311673;-86.7875936
X-APPLE-STRUCTURED-LOCATION;VALUE=URI;X-ADDRESS=Vestavia Hills Library in the Forest 1221 Montgomery Hwy Vestavia Hills Library AL 35216;X-APPLE-RADIUS=500;X-TITLE=1221 Montgomery Hwy:geo:-86.7875936,33.4311673
END:VEVENT
BEGIN:VEVENT
DTSTART;TZID=America/Chicago:20191212T093000
DTEND;TZID=America/Chicago:20191212T095000
DTSTAMP:20260421T205335
CREATED:20191208T215744Z
LAST-MODIFIED:20191208T215744Z
UID:32819-1576143000-1576144200@birminghammommy.com
SUMMARY:Patty Cake at Emmet O'Neal Library
DESCRIPTION:0 to 12 months with caregiver
URL:https://birminghammommy.com/event/patty-cake-at-emmet-oneal-library-9/
LOCATION:Emmet O’ Neal Library\, 50 Oak Street\, Mountain Brook\, AL\, 35213
GEO:33.5012941;-86.7565774
X-APPLE-STRUCTURED-LOCATION;VALUE=URI;X-ADDRESS=Emmet O’ Neal Library 50 Oak Street Mountain Brook AL 35213;X-APPLE-RADIUS=500;X-TITLE=50 Oak Street:geo:-86.7565774,33.5012941
END:VEVENT
BEGIN:VEVENT
DTSTART;TZID=America/Chicago:20191212T060000
DTEND;TZID=America/Chicago:20191212T190000
DTSTAMP:20260421T205335
CREATED:20191208T215744Z
LAST-MODIFIED:20191208T215744Z
UID:32825-1576130400-1576177200@birminghammommy.com
SUMMARY:Art Reception at Emmet O'Neal Library
DESCRIPTION:Art by St. Francis Xavier students
URL:https://birminghammommy.com/event/art-reception-at-emmet-oneal-library/
LOCATION:Emmet O’ Neal Library\, 50 Oak Street\, Mountain Brook\, AL\, 35213
GEO:33.5012941;-86.7565774
X-APPLE-STRUCTURED-LOCATION;VALUE=URI;X-ADDRESS=Emmet O’ Neal Library 50 Oak Street Mountain Brook AL 35213;X-APPLE-RADIUS=500;X-TITLE=50 Oak Street:geo:-86.7565774,33.5012941
END:VEVENT
BEGIN:VEVENT
DTSTART;TZID=America/Chicago:20191211T170000
DTEND;TZID=America/Chicago:20191211T180000
DTSTAMP:20260421T205335
CREATED:20191208T215744Z
LAST-MODIFIED:20191208T215744Z
UID:32817-1576083600-1576087200@birminghammommy.com
SUMMARY:ElectraLite Ukulele Community Orchestra
DESCRIPTION:Have a ukulele?\nBring your own ukulele and learn from master musician\, Andrew Hollywood Harris. Walk away with a song.
URL:https://birminghammommy.com/event/electralite-ukulele-community-orchestra/
LOCATION:Emmet O’ Neal Library\, 50 Oak Street\, Mountain Brook\, AL\, 35213
GEO:33.5012941;-86.7565774
X-APPLE-STRUCTURED-LOCATION;VALUE=URI;X-ADDRESS=Emmet O’ Neal Library 50 Oak Street Mountain Brook AL 35213;X-APPLE-RADIUS=500;X-TITLE=50 Oak Street:geo:-86.7565774,33.5012941
END:VEVENT
BEGIN:VEVENT
DTSTART;TZID=America/Chicago:20191211T153000
DTEND;TZID=America/Chicago:20191211T163000
DTSTAMP:20260421T205335
CREATED:20191208T215809Z
LAST-MODIFIED:20191208T215809Z
UID:32894-1576078200-1576081800@birminghammommy.com
SUMMARY:12 Bel°w (Something Cool After School) at Vestavia Hills Library
DESCRIPTION:Join Ms. Holly on Wednesdays at 3:30 for a fun tween program at the Vestavia Library. Trivia\, Gaming\, Arts & Crafts\, Movies\, Holiday Fun & So MUCH More. It’s for 12 Bel°w or Ages 8-12!  Snacks served. We can’t wait to see you there!
URL:https://birminghammommy.com/event/12-belw-something-cool-after-school-at-vestavia-hills-library/
LOCATION:Vestavia Hills Library in the Forest\, 1221 Montgomery Hwy\, Vestavia Hills Library\, AL\, 35216
GEO:33.4311673;-86.7875936
X-APPLE-STRUCTURED-LOCATION;VALUE=URI;X-ADDRESS=Vestavia Hills Library in the Forest 1221 Montgomery Hwy Vestavia Hills Library AL 35216;X-APPLE-RADIUS=500;X-TITLE=1221 Montgomery Hwy:geo:-86.7875936,33.4311673
END:VEVENT
BEGIN:VEVENT
DTSTART;TZID=America/Chicago:20191211T153000
DTEND;TZID=America/Chicago:20191211T161500
DTSTAMP:20260421T205335
CREATED:20191208T215744Z
LAST-MODIFIED:20191208T215744Z
UID:32815-1576078200-1576080900@birminghammommy.com
SUMMARY:Comics & Cookies at Emmet O'Neal Library
DESCRIPTION:grades 3-6\n\n\n\n\n\n\nThis month we’re discussing Ben Hatke’s new graphic novel Mighty Jack and Zita the Spacegirl! Stop by the children’s dept to pick up a copy of the book.
URL:https://birminghammommy.com/event/comics-cookies-at-emmet-oneal-library/
LOCATION:Emmet O’ Neal Library\, 50 Oak Street\, Mountain Brook\, AL\, 35213
GEO:33.5012941;-86.7565774
X-APPLE-STRUCTURED-LOCATION;VALUE=URI;X-ADDRESS=Emmet O’ Neal Library 50 Oak Street Mountain Brook AL 35213;X-APPLE-RADIUS=500;X-TITLE=50 Oak Street:geo:-86.7565774,33.5012941
END:VEVENT
END:VCALENDAR