BEGIN:VCALENDAR
VERSION:2.0
PRODID:-//Birmingham Mommy - ECPv6.3.5//NONSGML v1.0//EN
CALSCALE:GREGORIAN
METHOD:PUBLISH
X-WR-CALNAME:Birmingham Mommy
X-ORIGINAL-URL:https://birminghammommy.com
X-WR-CALDESC:Events for Birmingham Mommy
REFRESH-INTERVAL;VALUE=DURATION:PT1H
X-Robots-Tag:noindex
X-PUBLISHED-TTL:PT1H
BEGIN:VTIMEZONE
TZID:America/Chicago
BEGIN:DAYLIGHT
TZOFFSETFROM:-0600
TZOFFSETTO:-0500
TZNAME:CDT
DTSTART:20190310T080000
END:DAYLIGHT
BEGIN:STANDARD
TZOFFSETFROM:-0500
TZOFFSETTO:-0600
TZNAME:CST
DTSTART:20191103T070000
END:STANDARD
END:VTIMEZONE
BEGIN:VEVENT
DTSTART;TZID=America/Chicago:20190720T103000
DTEND;TZID=America/Chicago:20190720T111500
DTSTAMP:20260421T192047
CREATED:20190720T181605Z
LAST-MODIFIED:20190720T181605Z
UID:30876-1563618600-1563621300@birminghammommy.com
SUMMARY:Family Storytime with Mr. Mac at Emmet O'Neal Library
DESCRIPTION:storytime for the whole family
URL:https://birminghammommy.com/event/family-storytime-with-mr-mac-at-emmet-oneal-library-4/
LOCATION:Emmet O’ Neal Library\, 50 Oak Street\, Mountain Brook\, AL\, 35213
GEO:33.5012941;-86.7565774
X-APPLE-STRUCTURED-LOCATION;VALUE=URI;X-ADDRESS=Emmet O’ Neal Library 50 Oak Street Mountain Brook AL 35213;X-APPLE-RADIUS=500;X-TITLE=50 Oak Street:geo:-86.7565774,33.5012941
END:VEVENT
BEGIN:VEVENT
DTSTART;TZID=America/Chicago:20190720T103000
DTEND;TZID=America/Chicago:20190720T113000
DTSTAMP:20260421T192047
CREATED:20190608T191407Z
LAST-MODIFIED:20190608T191407Z
UID:30440-1563618600-1563622200@birminghammommy.com
SUMMARY:Summer Reading End Party #1 with Starshine Faces
DESCRIPTION:Join us for fun with Starshine Faces to end our summer reading program! Refreshments will be provided. We will announce our grand prize winners and also have some door prizes! Sponsored by Indian Springs Village.\n\nAll ages welcome. No registration required.
URL:https://birminghammommy.com/event/summer-reading-end-party-1-with-starshine-faces/
LOCATION:North Shelby Library\, 5521 Cahaba Valley Road\, Birmingham\, 35242\, United States
GEO:33.3646429;-86.71655
X-APPLE-STRUCTURED-LOCATION;VALUE=URI;X-ADDRESS=North Shelby Library 5521 Cahaba Valley Road Birmingham 35242 United States;X-APPLE-RADIUS=500;X-TITLE=5521 Cahaba Valley Road:geo:-86.71655,33.3646429
END:VEVENT
BEGIN:VEVENT
DTSTART;TZID=America/Chicago:20190720T183000
DTEND;TZID=America/Chicago:20190720T213000
DTSTAMP:20260421T192047
CREATED:20190608T133908Z
LAST-MODIFIED:20190608T133908Z
UID:30588-1563647400-1563658200@birminghammommy.com
SUMMARY:Birmingham Barons at Regions Field
DESCRIPTION:V. Tennessee Smokies \n\n\n\n\n\n\nGame Highlights (2): Sandlot Night  \n\n\n\n\n\n\nTonight’s special guest will be Chauncey Leopardi “Squints” from the Sandlot. \n\n\n\n\n\n\n\n\n Game Highlight:  BBoy McCoy – Entertainer Series \nPresented By St. Vincent’s Health System\, a part of Ascension & Hiltion Birmingham at UAB \n\n\n\n\n\n\n\n\n\n\n\n\n\n\n\n\n\n\nGeneral Admission seats remain the same price as in recent years with adult tickets available for $7.00. Children (12-years and younger)\, seniors (60 years and older) and members of the military receive $1.00 discounts on the listed prices for all reserved and general admission seats. General Admission seating is located in the right field bleachers and the berm seating areas.
URL:https://birminghammommy.com/event/birmingham-barons-at-regions-field-53/
LOCATION:Regions Field\, 1401 1st Avenue S\, Birmingham\, 35233
GEO:33.5075002;-86.8105789
X-APPLE-STRUCTURED-LOCATION;VALUE=URI;X-ADDRESS=Regions Field 1401 1st Avenue S Birmingham 35233;X-APPLE-RADIUS=500;X-TITLE=1401 1st Avenue S:geo:-86.8105789,33.5075002
END:VEVENT
BEGIN:VEVENT
DTSTART;TZID=America/Chicago:20190721T153000
DTEND;TZID=America/Chicago:20190721T163000
DTSTAMP:20260421T192047
CREATED:20190430T175814Z
LAST-MODIFIED:20190430T175814Z
UID:29589-1563723000-1563726600@birminghammommy.com
SUMMARY:Special Siblings at Homewood Library
DESCRIPTION:(K-12 Grade) This support group for siblings of special needs children is a place to share ideas\, experiences\, and the ever changing needs of having a sibling with special needs.
URL:https://birminghammommy.com/event/special-siblings-at-homewood-library-6/
LOCATION:Homewood Public Library\, 1721 Oxmoor Road\, Homewood\, AL\, 35209\, United States
GEO:33.4750533;-86.795404
X-APPLE-STRUCTURED-LOCATION;VALUE=URI;X-ADDRESS=Homewood Public Library 1721 Oxmoor Road Homewood AL 35209 United States;X-APPLE-RADIUS=500;X-TITLE=1721 Oxmoor Road:geo:-86.795404,33.4750533
END:VEVENT
BEGIN:VEVENT
DTSTART;TZID=America/Chicago:20190721T160000
DTEND;TZID=America/Chicago:20190721T190000
DTSTAMP:20260421T192047
CREATED:20190608T134107Z
LAST-MODIFIED:20190608T134107Z
UID:30590-1563724800-1563735600@birminghammommy.com
SUMMARY:Birmingham Barons at Regions Field
DESCRIPTION:V. Tennessee Smokies \n\n\n\n\n\n\n\n\n\n\n\n\nGame Highlights (3): Family Sunday’s  \n\n\n\n\n\n\nFamily Sundays feature face painting\, a chance for kids to run the bases after the game\, and other fun filled activities. | Presented By Papa John’s and Jack’s Restaurant \n\n\n\n\n\n\n\n\n Game Highlight:  Zoo Days \nPresented By The Birmingham Zoo \n\n\n\n\n\n\n\n\n Game Highlight:  Zoo Days \nPresented By The Birmingham Zoo \n\n\n\n\n\n\n\n\n\n\n\n\n\n\n\n\n\n\n\n\n\n\n\n\nGeneral Admission seats remain the same price as in recent years with adult tickets available for $7.00. Children (12-years and younger)\, seniors (60 years and older) and members of the military receive $1.00 discounts on the listed prices for all reserved and general admission seats. General Admission seating is located in the right field bleachers and the berm seating areas.
URL:https://birminghammommy.com/event/birmingham-barons-at-regions-field-54/
LOCATION:Regions Field\, 1401 1st Avenue S\, Birmingham\, 35233
GEO:33.5075002;-86.8105789
X-APPLE-STRUCTURED-LOCATION;VALUE=URI;X-ADDRESS=Regions Field 1401 1st Avenue S Birmingham 35233;X-APPLE-RADIUS=500;X-TITLE=1401 1st Avenue S:geo:-86.8105789,33.5075002
END:VEVENT
BEGIN:VEVENT
DTSTART;TZID=America/Chicago:20190722T093000
DTEND;TZID=America/Chicago:20190722T100000
DTSTAMP:20260421T192047
CREATED:20190720T181731Z
LAST-MODIFIED:20190720T181731Z
UID:30878-1563787800-1563789600@birminghammommy.com
SUMMARY:Toddler Tales at Emmet O'Neal Library
DESCRIPTION:24 to 36 months with caregiver
URL:https://birminghammommy.com/event/toddler-tales-at-emmet-oneal-library-9/
LOCATION:Emmet O’ Neal Library\, 50 Oak Street\, Mountain Brook\, AL\, 35213
GEO:33.5012941;-86.7565774
X-APPLE-STRUCTURED-LOCATION;VALUE=URI;X-ADDRESS=Emmet O’ Neal Library 50 Oak Street Mountain Brook AL 35213;X-APPLE-RADIUS=500;X-TITLE=50 Oak Street:geo:-86.7565774,33.5012941
END:VEVENT
BEGIN:VEVENT
DTSTART;TZID=America/Chicago:20190722T103000
DTEND;TZID=America/Chicago:20190722T110000
DTSTAMP:20260421T192047
CREATED:20190430T175814Z
LAST-MODIFIED:20190430T175814Z
UID:29591-1563791400-1563793200@birminghammommy.com
SUMMARY:Story Bunch with Ms. Cristina at Homewood Library
DESCRIPTION:2019 (Preschool) Join Ms. Cristina for stories\, songs and lots of fun!
URL:https://birminghammommy.com/event/story-bunch-with-ms-cristina-at-homewood-library-3/
LOCATION:Homewood Public Library\, Select a Country:
GEO:-12.0470469;-77.032263
END:VEVENT
BEGIN:VEVENT
DTSTART;TZID=America/Chicago:20190722T103000
DTEND;TZID=America/Chicago:20190722T110000
DTSTAMP:20260421T192047
CREATED:20190720T181731Z
LAST-MODIFIED:20190720T181731Z
UID:30880-1563791400-1563793200@birminghammommy.com
SUMMARY:Toddler Tales at Emmet O'Neal Library
DESCRIPTION:24 to 36 months with caregiver
URL:https://birminghammommy.com/event/toddler-tales-at-emmet-oneal-library-10/
LOCATION:Emmet O’ Neal Library\, 50 Oak Street\, Mountain Brook\, AL\, 35213
GEO:33.5012941;-86.7565774
X-APPLE-STRUCTURED-LOCATION;VALUE=URI;X-ADDRESS=Emmet O’ Neal Library 50 Oak Street Mountain Brook AL 35213;X-APPLE-RADIUS=500;X-TITLE=50 Oak Street:geo:-86.7565774,33.5012941
END:VEVENT
BEGIN:VEVENT
DTSTART;TZID=America/Chicago:20190722T140000
DTEND;TZID=America/Chicago:20190722T150000
DTSTAMP:20260421T192047
CREATED:20190604T125225Z
LAST-MODIFIED:20190604T125225Z
UID:30134-1563804000-1563807600@birminghammommy.com
SUMMARY:Back-to-School Ice Cream Bash at Parnell Memorial Library
DESCRIPTION:Join us for a free ice cream party to celebrate the end of summer! Free\, open for the whole family. No registration required.
URL:https://birminghammommy.com/event/back-to-school-ice-cream-bash-at-parnell-memorial-library/
LOCATION:Parnell Memorial Library\, 277 Park Drive\, Montevallo\, AL\, 35115\, United States
ORGANIZER;CN="Parnell Memorial Library":MAILTO:skitchens@shelbycounty-al.org
END:VEVENT
BEGIN:VEVENT
DTSTART;TZID=America/Chicago:20190722T140000
DTEND;TZID=America/Chicago:20190722T150000
DTSTAMP:20260421T192047
CREATED:20190608T191531Z
LAST-MODIFIED:20190608T191531Z
UID:30442-1563804000-1563807600@birminghammommy.com
SUMMARY:Mt Laurel Ms. Kit's Bubble Show at North Shelby Library
DESCRIPTION:Ms. Kit is back with her interactive bubble show! No registration required. Program will be held at the Double Oak Community Church Café. 
URL:https://birminghammommy.com/event/mt-laurel-ms-kits-bubble-show-at-north-shelby-library/
LOCATION:North Shelby Library\, 5521 Cahaba Valley Road\, Birmingham\, 35242\, United States
GEO:33.3646429;-86.71655
X-APPLE-STRUCTURED-LOCATION;VALUE=URI;X-ADDRESS=North Shelby Library 5521 Cahaba Valley Road Birmingham 35242 United States;X-APPLE-RADIUS=500;X-TITLE=5521 Cahaba Valley Road:geo:-86.71655,33.3646429
END:VEVENT
BEGIN:VEVENT
DTSTART;TZID=America/Chicago:20190722T160000
DTEND;TZID=America/Chicago:20190722T164500
DTSTAMP:20260421T192047
CREATED:20190430T175837Z
LAST-MODIFIED:20190430T175837Z
UID:29593-1563811200-1563813900@birminghammommy.com
SUMMARY:City Passport - Alabama Symphony Orchestra
DESCRIPTION:2019 (K-12 Grade) Join us on Monday afternoons as we learn about amazing organizations around our city through presentations\, crafts and books.
URL:https://birminghammommy.com/event/city-passport-alabama-symphony-orchestra/
LOCATION:Homewood Public Library\, Select a Country:
GEO:-12.0470469;-77.032263
END:VEVENT
BEGIN:VEVENT
DTSTART;TZID=America/Chicago:20190722T180000
DTEND;TZID=America/Chicago:20190722T190000
DTSTAMP:20260421T192047
CREATED:20190608T191847Z
LAST-MODIFIED:20190608T191847Z
UID:30444-1563818400-1563822000@birminghammommy.com
SUMMARY:Chomp Into Shark Week: Tween Paint Program
DESCRIPTION:Kick off Shark Week by painting a “jawsome” shark.\n\nAges 8-12. Registration Required.
URL:https://birminghammommy.com/event/chomp-into-shark-week-tween-paint-program/
LOCATION:North Shelby Library\, 5521 Cahaba Valley Road\, Birmingham\, 35242\, United States
GEO:33.3646429;-86.71655
X-APPLE-STRUCTURED-LOCATION;VALUE=URI;X-ADDRESS=North Shelby Library 5521 Cahaba Valley Road Birmingham 35242 United States;X-APPLE-RADIUS=500;X-TITLE=5521 Cahaba Valley Road:geo:-86.71655,33.3646429
END:VEVENT
BEGIN:VEVENT
DTSTART;TZID=America/Chicago:20190722T190500
DTEND;TZID=America/Chicago:20190722T210500
DTSTAMP:20260421T192047
CREATED:20190608T141413Z
LAST-MODIFIED:20190608T141413Z
UID:30592-1563822300-1563829500@birminghammommy.com
SUMMARY:Birmingham Barons at Regions Field
DESCRIPTION:V. Chattanooga Lookouts \nGame Highlight: Movin’ Mondays  \n\n\n\n\n\n\nGet Movin’ Mondays aim to support healthy living in the Magic City with pregame activities including yoga and runs\, healthy food options\, encouraging activity with laps around the concourse to view the game from every great angle available at Regions Field\, and good old-fashioned sunshine for vitamin D. | Presented By Aaron’s \n\n\n\n\n\n\n\n\n\n\n\n\nGeneral Admission seats remain the same price as in recent years with adult tickets available for $7.00. Children (12-years and younger)\, seniors (60 years and older) and members of the military receive $1.00 discounts on the listed prices for all reserved and general admission seats. General Admission seating is located in the right field bleachers and the berm seating areas.
URL:https://birminghammommy.com/event/birmingham-barons-at-regions-field-55/
LOCATION:Regions Field\, 1401 1st Avenue S\, Birmingham\, 35233
GEO:33.5075002;-86.8105789
X-APPLE-STRUCTURED-LOCATION;VALUE=URI;X-ADDRESS=Regions Field 1401 1st Avenue S Birmingham 35233;X-APPLE-RADIUS=500;X-TITLE=1401 1st Avenue S:geo:-86.8105789,33.5075002
END:VEVENT
BEGIN:VEVENT
DTSTART;TZID=America/Chicago:20190723T103000
DTEND;TZID=America/Chicago:20190723T111500
DTSTAMP:20260421T192047
CREATED:20190430T175837Z
LAST-MODIFIED:20190430T175837Z
UID:29595-1563877800-1563880500@birminghammommy.com
SUMMARY:Alabama Bicentennial: Mr. Larry’s Magic Show
DESCRIPTION:2019 (All Ages) This amazing Alabama show is a magical exploration of Alabama’s history\, people\, culture and more!
URL:https://birminghammommy.com/event/alabama-bicentennial-mr-larrys-magic-show/
LOCATION:Homewood Public Library\, Select a Country:
GEO:-12.0470469;-77.032263
END:VEVENT
BEGIN:VEVENT
DTSTART;TZID=America/Chicago:20190723T140000
DTEND;TZID=America/Chicago:20190723T153000
DTSTAMP:20260421T192047
CREATED:20190608T191847Z
LAST-MODIFIED:20190608T191847Z
UID:30446-1563890400-1563895800@birminghammommy.com
SUMMARY:Craft Day: Hodge Podge at North Shelby Library
DESCRIPTION:Stop by anytime between 2:00 – 3:30 to work on a craft! Missed an earlier craft? We will have a variety of leftovers to choose from! \nAll ages\, but some crafts may have small parts! Caregiver supervision required. Registration required. Registration begins 1 week prior to craft date.
URL:https://birminghammommy.com/event/craft-day-hodge-podge-at-north-shelby-library/
LOCATION:North Shelby Library\, 5521 Cahaba Valley Road\, Birmingham\, 35242\, United States
GEO:33.3646429;-86.71655
X-APPLE-STRUCTURED-LOCATION;VALUE=URI;X-ADDRESS=North Shelby Library 5521 Cahaba Valley Road Birmingham 35242 United States;X-APPLE-RADIUS=500;X-TITLE=5521 Cahaba Valley Road:geo:-86.71655,33.3646429
END:VEVENT
BEGIN:VEVENT
DTSTART;TZID=America/Chicago:20190723T153000
DTEND;TZID=America/Chicago:20190723T161500
DTSTAMP:20260421T192047
CREATED:20190720T181731Z
LAST-MODIFIED:20190720T181731Z
UID:30883-1563895800-1563898500@birminghammommy.com
SUMMARY:LOL: Go at Emmet O'Neal Library
DESCRIPTION:Story Sampler for Kindergarten – 2nd grade
URL:https://birminghammommy.com/event/lol-go-at-emmet-oneal-library-5/
LOCATION:Emmet O’ Neal Library\, 50 Oak Street\, Mountain Brook\, AL\, 35213
GEO:33.5012941;-86.7565774
X-APPLE-STRUCTURED-LOCATION;VALUE=URI;X-ADDRESS=Emmet O’ Neal Library 50 Oak Street Mountain Brook AL 35213;X-APPLE-RADIUS=500;X-TITLE=50 Oak Street:geo:-86.7565774,33.5012941
END:VEVENT
BEGIN:VEVENT
DTSTART;TZID=America/Chicago:20190723T153000
DTEND;TZID=America/Chicago:20190723T170000
DTSTAMP:20260421T192047
CREATED:20190430T175837Z
LAST-MODIFIED:20190430T175837Z
UID:29597-1563895800-1563901200@birminghammommy.com
SUMMARY:Sewing Circle with Bib & Tucker
DESCRIPTION:2019 (K-5 Grade) Create a quilt square inspired by an Alabama heroine in a special program collaboration with Bib & Tucker Sew-Op and The March Quilts. Registration is required.\n 
URL:https://birminghammommy.com/event/sewing-circle-with-bib-tucker/
LOCATION:Homewood Public Library\, Select a Country:
GEO:-12.0470469;-77.032263
END:VEVENT
BEGIN:VEVENT
DTSTART;TZID=America/Chicago:20190723T160000
DTEND;TZID=America/Chicago:20190723T170000
DTSTAMP:20260421T192047
CREATED:20190608T191847Z
LAST-MODIFIED:20190608T191847Z
UID:30448-1563897600-1563901200@birminghammommy.com
SUMMARY:Garden Gates at North Shelby Library
DESCRIPTION:An hour of hands-on STEM fun with a nature focus. \nDesigned for Ages 5 and up. Registration is required.
URL:https://birminghammommy.com/event/garden-gates-at-north-shelby-library-3/
LOCATION:North Shelby Library\, 5521 Cahaba Valley Road\, Birmingham\, 35242\, United States
GEO:33.3646429;-86.71655
X-APPLE-STRUCTURED-LOCATION;VALUE=URI;X-ADDRESS=North Shelby Library 5521 Cahaba Valley Road Birmingham 35242 United States;X-APPLE-RADIUS=500;X-TITLE=5521 Cahaba Valley Road:geo:-86.71655,33.3646429
END:VEVENT
BEGIN:VEVENT
DTSTART;TZID=America/Chicago:20190723T180000
DTEND;TZID=America/Chicago:20190723T190000
DTSTAMP:20260421T192047
CREATED:20190720T181731Z
LAST-MODIFIED:20190720T181731Z
UID:30885-1563904800-1563908400@birminghammommy.com
SUMMARY:Hot off the Press Book Group
DESCRIPTION:grades 3-6
URL:https://birminghammommy.com/event/hot-off-the-press-book-group/
LOCATION:Emmet O’ Neal Library\, 50 Oak Street\, Mountain Brook\, AL\, 35213
GEO:33.5012941;-86.7565774
X-APPLE-STRUCTURED-LOCATION;VALUE=URI;X-ADDRESS=Emmet O’ Neal Library 50 Oak Street Mountain Brook AL 35213;X-APPLE-RADIUS=500;X-TITLE=50 Oak Street:geo:-86.7565774,33.5012941
END:VEVENT
BEGIN:VEVENT
DTSTART;TZID=America/Chicago:20190723T190500
DTEND;TZID=America/Chicago:20190723T220500
DTSTAMP:20260421T192047
CREATED:20190608T141655Z
LAST-MODIFIED:20190608T141655Z
UID:30594-1563908700-1563919500@birminghammommy.com
SUMMARY:Birmingham Barons at Regions Field
DESCRIPTION:V. Chattanooga Lookouts \n\n\n\n\n\n\nPromotion: T-Shirt Tuesday  \n\n\n\n\n\n\nThe first 1\,000 adults in attendance will recieve a free Barons inspired t-shirt. | Presented By Paycor \nGame Highlight: Dollar Hot Dogs  \n\n\n\n\n\n\nBring the entire family out for Dollar Hot Dog night! | Presented By Flowers Bakery & Kayem Franks \n\n\n\n\n\n\n\n\n\n\n\n\n\n\n\n\n\n\n\n\n\n\n\n\nGeneral Admission seats remain the same price as in recent years with adult tickets available for $7.00. Children (12-years and younger)\, seniors (60 years and older) and members of the military receive $1.00 discounts on the listed prices for all reserved and general admission seats. General Admission seating is located in the right field bleachers and the berm seating areas.
URL:https://birminghammommy.com/event/birmingham-barons-at-regions-field-56/
LOCATION:Regions Field\, 1401 1st Avenue S\, Birmingham\, 35233
GEO:33.5075002;-86.8105789
X-APPLE-STRUCTURED-LOCATION;VALUE=URI;X-ADDRESS=Regions Field 1401 1st Avenue S Birmingham 35233;X-APPLE-RADIUS=500;X-TITLE=1401 1st Avenue S:geo:-86.8105789,33.5075002
END:VEVENT
BEGIN:VEVENT
DTSTART;TZID=America/Chicago:20190724T093000
DTEND;TZID=America/Chicago:20190724T100000
DTSTAMP:20260421T192047
CREATED:20190430T175837Z
LAST-MODIFIED:20190430T175837Z
UID:29599-1563960600-1563962400@birminghammommy.com
SUMMARY:Sensory Storytime at Homewood Library
DESCRIPTION:2019 (Preschool) Join Ms. Laura for books\, songs\, and activities that stimulate the senses and promote learning in a sensory-inclusive atmosphere. Registration is required.\n 
URL:https://birminghammommy.com/event/sensory-storytime-at-homewood-library-8/
LOCATION:Homewood Public Library\, Select a Country:
GEO:-12.0470469;-77.032263
END:VEVENT
BEGIN:VEVENT
DTSTART;TZID=America/Chicago:20190724T093000
DTEND;TZID=America/Chicago:20190724T100000
DTSTAMP:20260421T192047
CREATED:20190720T181731Z
LAST-MODIFIED:20190720T181731Z
UID:30887-1563960600-1563962400@birminghammommy.com
SUMMARY:Mother Goose at Emmet O'Neal Library
DESCRIPTION:12 to 24 months with caregiver
URL:https://birminghammommy.com/event/mother-goose-at-emmet-oneal-library-8/
LOCATION:Emmet O’ Neal Library\, 50 Oak Street\, Mountain Brook\, AL\, 35213
GEO:33.5012941;-86.7565774
X-APPLE-STRUCTURED-LOCATION;VALUE=URI;X-ADDRESS=Emmet O’ Neal Library 50 Oak Street Mountain Brook AL 35213;X-APPLE-RADIUS=500;X-TITLE=50 Oak Street:geo:-86.7565774,33.5012941
END:VEVENT
BEGIN:VEVENT
DTSTART;TZID=America/Chicago:20190724T103000
DTEND;TZID=America/Chicago:20190724T110000
DTSTAMP:20260421T192047
CREATED:20190430T175837Z
LAST-MODIFIED:20190430T175837Z
UID:29601-1563964200-1563966000@birminghammommy.com
SUMMARY:Story Bunch With Ms. Laura at Homewood Library
DESCRIPTION:2019 (Preschool) Join Ms. Laura for stories\, songs and lots of fun!
URL:https://birminghammommy.com/event/story-bunch-with-ms-laura-at-homewood-library-3/
LOCATION:Homewood Public Library\, Select a Country:
GEO:-12.0470469;-77.032263
END:VEVENT
BEGIN:VEVENT
DTSTART;TZID=America/Chicago:20190724T103000
DTEND;TZID=America/Chicago:20190724T110000
DTSTAMP:20260421T192047
CREATED:20190720T181731Z
LAST-MODIFIED:20190720T181731Z
UID:30890-1563964200-1563966000@birminghammommy.com
SUMMARY:Mother Goose at Emmet O'Neal Library
DESCRIPTION:12 to 24 months with caregiver
URL:https://birminghammommy.com/event/mother-goose-at-emmet-oneal-library-9/
LOCATION:Emmet O’ Neal Library\, 50 Oak Street\, Mountain Brook\, AL\, 35213
GEO:33.5012941;-86.7565774
X-APPLE-STRUCTURED-LOCATION;VALUE=URI;X-ADDRESS=Emmet O’ Neal Library 50 Oak Street Mountain Brook AL 35213;X-APPLE-RADIUS=500;X-TITLE=50 Oak Street:geo:-86.7565774,33.5012941
END:VEVENT
BEGIN:VEVENT
DTSTART;TZID=America/Chicago:20190724T104500
DTEND;TZID=America/Chicago:20190724T113000
DTSTAMP:20260421T192047
CREATED:20190608T191847Z
LAST-MODIFIED:20190608T191847Z
UID:30450-1563965100-1563967800@birminghammommy.com
SUMMARY:Summer Reading End Party #2: Family Storytime with Mr. Mac
DESCRIPTION:Join us for fun and refreshments to end our summer reading party with Mr. Mac! Stories\, puppets\, and lots of music for every member of the family. Our grand prize winners will be announced\, and we will have door prize available to win! \nAll ages welcome. No registration required.
URL:https://birminghammommy.com/event/summer-reading-end-party-2-family-storytime-with-mr-mac/
LOCATION:North Shelby Library\, 5521 Cahaba Valley Road\, Birmingham\, AL\, 35242
GEO:33.3646429;-86.7165499
X-APPLE-STRUCTURED-LOCATION;VALUE=URI;X-ADDRESS=North Shelby Library 5521 Cahaba Valley Road Birmingham AL 35242;X-APPLE-RADIUS=500;X-TITLE=5521 Cahaba Valley Road:geo:-86.7165499,33.3646429
END:VEVENT
BEGIN:VEVENT
DTSTART;TZID=America/Chicago:20190724T133000
DTEND;TZID=America/Chicago:20190724T140000
DTSTAMP:20260421T192047
CREATED:20190720T181731Z
LAST-MODIFIED:20190720T181731Z
UID:30892-1563975000-1563976800@birminghammommy.com
SUMMARY:Movers & Makers at Emmet O'Neal Library
DESCRIPTION:preschoolers aged 3-5
URL:https://birminghammommy.com/event/movers-makers-at-emmet-oneal-library-4/
LOCATION:Emmet O’ Neal Library\, 50 Oak Street\, Mountain Brook\, AL\, 35213
GEO:33.5012941;-86.7565774
X-APPLE-STRUCTURED-LOCATION;VALUE=URI;X-ADDRESS=Emmet O’ Neal Library 50 Oak Street Mountain Brook AL 35213;X-APPLE-RADIUS=500;X-TITLE=50 Oak Street:geo:-86.7565774,33.5012941
END:VEVENT
BEGIN:VEVENT
DTSTART;TZID=America/Chicago:20190724T140000
DTEND;TZID=America/Chicago:20190724T150000
DTSTAMP:20260421T192047
CREATED:20190608T191847Z
LAST-MODIFIED:20190608T191847Z
UID:30452-1563976800-1563980400@birminghammommy.com
SUMMARY:Mt Laurel End Party with Skip Cain at North Shelby Library
DESCRIPTION:An interactive show filled with magic\, jokes\, balloon sculptures & prizes for the top Mt Laurel readers. Program will be held at the Double Oak Community Church Café. All ages welcome. No registration required.
URL:https://birminghammommy.com/event/mt-laurel-end-party-with-skip-cain-at-north-shelby-library/
LOCATION:North Shelby Library\, 5521 Cahaba Valley Road\, Birmingham\, AL\, 35242
GEO:33.3646429;-86.7165499
X-APPLE-STRUCTURED-LOCATION;VALUE=URI;X-ADDRESS=North Shelby Library 5521 Cahaba Valley Road Birmingham AL 35242;X-APPLE-RADIUS=500;X-TITLE=5521 Cahaba Valley Road:geo:-86.7165499,33.3646429
END:VEVENT
BEGIN:VEVENT
DTSTART;TZID=America/Chicago:20190724T140000
DTEND;TZID=America/Chicago:20190724T150000
DTSTAMP:20260421T192047
CREATED:20190608T191847Z
LAST-MODIFIED:20190608T191847Z
UID:30454-1563976800-1563980400@birminghammommy.com
SUMMARY:Tween Finale-Rocket Science at North Shelby Library
DESCRIPTION:Join us for our Tween Finale!  Jan the Science Lady will be sharing Rocket Science and liquid nitrogen ice cream!   It will be tasty\, out of this world action!  Registration Required.  Ages 8-12.
URL:https://birminghammommy.com/event/tween-finale-rocket-science-at-north-shelby-library/
LOCATION:North Shelby Library\, 5521 Cahaba Valley Road\, Birmingham\, 35242\, United States
GEO:33.3646429;-86.71655
X-APPLE-STRUCTURED-LOCATION;VALUE=URI;X-ADDRESS=North Shelby Library 5521 Cahaba Valley Road Birmingham 35242 United States;X-APPLE-RADIUS=500;X-TITLE=5521 Cahaba Valley Road:geo:-86.71655,33.3646429
END:VEVENT
BEGIN:VEVENT
DTSTART;TZID=America/Chicago:20190724T153000
DTEND;TZID=America/Chicago:20190724T161500
DTSTAMP:20260421T192047
CREATED:20190430T175837Z
LAST-MODIFIED:20190430T175837Z
UID:29603-1563982200-1563984900@birminghammommy.com
SUMMARY:Harry Potter Coding Club at Homewood Library
DESCRIPTION:2019 (3-5 Grade) Learn coding basics while practicing your spell work! Wands (and laptops) will be provided. Registration is required.
URL:https://birminghammommy.com/event/harry-potter-coding-club-at-homewood-library-2/
LOCATION:Homewood Public Library\, Select a Country:
GEO:-12.0470469;-77.032263
END:VEVENT
BEGIN:VEVENT
DTSTART;TZID=America/Chicago:20190724T190500
DTEND;TZID=America/Chicago:20190724T190500
DTSTAMP:20260421T192047
CREATED:20190608T142121Z
LAST-MODIFIED:20190608T142137Z
UID:30596-1563995100-1563995100@birminghammommy.com
SUMMARY:Birmingham Barons at Regions Field
DESCRIPTION:V. Chattanooga Lookouts \n\n\n\n\n\n\nGame Highlight: Wet Nose Wednesday (Bama Bully Rescue) \n\n\n\n\n\n\n\n\n\n\n\n\nGeneral Admission seats remain the same price as in recent years with adult tickets available for $7.00. Children (12-years and younger)\, seniors (60 years and older) and members of the military receive $1.00 discounts on the listed prices for all reserved and general admission seats. General Admission seating is located in the right field bleachers and the berm seating areas.
URL:https://birminghammommy.com/event/birmingham-barons-at-regions-field-57/
LOCATION:Regions Field\, 1401 1st Avenue S\, Birmingham\, 35233
GEO:33.5075002;-86.8105789
X-APPLE-STRUCTURED-LOCATION;VALUE=URI;X-ADDRESS=Regions Field 1401 1st Avenue S Birmingham 35233;X-APPLE-RADIUS=500;X-TITLE=1401 1st Avenue S:geo:-86.8105789,33.5075002
END:VEVENT
END:VCALENDAR