BEGIN:VCALENDAR
VERSION:2.0
PRODID:-//Birmingham Mommy - ECPv6.3.5//NONSGML v1.0//EN
CALSCALE:GREGORIAN
METHOD:PUBLISH
X-WR-CALNAME:Birmingham Mommy
X-ORIGINAL-URL:https://birminghammommy.com
X-WR-CALDESC:Events for Birmingham Mommy
REFRESH-INTERVAL;VALUE=DURATION:PT1H
X-Robots-Tag:noindex
X-PUBLISHED-TTL:PT1H
BEGIN:VTIMEZONE
TZID:America/Chicago
BEGIN:DAYLIGHT
TZOFFSETFROM:-0600
TZOFFSETTO:-0500
TZNAME:CDT
DTSTART:20190310T080000
END:DAYLIGHT
BEGIN:STANDARD
TZOFFSETFROM:-0500
TZOFFSETTO:-0600
TZNAME:CST
DTSTART:20191103T070000
END:STANDARD
END:VTIMEZONE
BEGIN:VEVENT
DTSTART;TZID=America/Chicago:20191228T090000
DTEND;TZID=America/Chicago:20191228T163000
DTSTAMP:20260421T144323
CREATED:20191220T022749Z
LAST-MODIFIED:20191220T022749Z
UID:32992-1577523600-1577550600@birminghammommy.com
SUMMARY:Arctic Wild at CHOM!
DESCRIPTION:Arctic Wild at CHOM! \nSaturday\, December 28\, 20   9 – 4:30 pm \nLearn how Arctic & Antarctic animals stay warm! \nMake arctic arts & crafts! Play polar games! \nAll activities included in Admission! \n  \n 
URL:https://birminghammommy.com/event/arctic-wild-at-chom/
LOCATION:Children’s Hands-On Museum\, 2213 University Blvd.\, Tuscaloosa\, AL\, 35401\, United States
ATTACH;FMTTYPE=image/jpeg:https://birminghammommy.com/wp-content/uploads/2019/12/Arctic-Wild-12-28.jpg
END:VEVENT
BEGIN:VEVENT
DTSTART;TZID=America/Chicago:20191227T193000
DTEND;TZID=America/Chicago:20191227T213000
DTSTAMP:20260421T144323
CREATED:20191208T221320Z
LAST-MODIFIED:20191208T221320Z
UID:32935-1577475000-1577482200@birminghammommy.com
SUMMARY:Birmingham Bulls Hockey
DESCRIPTION:V. Macon Mayhem \nAs You Walk Through the Door\, Your Hearts Starts Pumping! The irresistible lure of HOCKEY and the buzz of a packed house causes your ADRENALIN to surge. The music is PUMPING\, the lights fade and the smoke swirls – and that’s just the beginning. Monster hits\, UNBELIEVABLE GOALS and in-your-face hockey keeps you on the edge of your seat. The action is NON-STOP! With heart pounding music\, contests\, and the prospect of catching a fantastic FREE SOUVENIR\, what are you waiting for? Build your team’s SPIRIT by sharing in ours. It’s an EXPERIENCE to remember.
URL:https://birminghammommy.com/event/birmingham-bulls-hockey-29/
LOCATION:Pelham Civic Center and Ice Arena\, 500 Amphitheater Drive\, Pelham\, 35124\, United States
END:VEVENT
BEGIN:VEVENT
DTSTART;TZID=America/Chicago:20191227T110000
DTEND;TZID=America/Chicago:20191227T130000
DTSTAMP:20260421T144323
CREATED:20191119T020930Z
LAST-MODIFIED:20191119T020930Z
UID:32672-1577444400-1577451600@birminghammommy.com
SUMMARY:Classic Movie Morning
DESCRIPTION:Join us for a morning of your favorite classic movies! Call library for title. No registration required.
URL:https://birminghammommy.com/event/classic-movie-morning/
LOCATION:Parnell Memorial Library\, 277 Park Drive\, Montevallo\, 35115\, United States
END:VEVENT
BEGIN:VEVENT
DTSTART;TZID=America/Chicago:20191223T140000
DTEND;TZID=America/Chicago:20191223T150000
DTSTAMP:20260421T144323
CREATED:20191119T020852Z
LAST-MODIFIED:20191119T020852Z
UID:32671-1577109600-1577113200@birminghammommy.com
SUMMARY:Kid's Craft: Cookie Decorating
DESCRIPTION:It’s time to decorate some Christmas cookies! Registration required.
URL:https://birminghammommy.com/event/kids-craft-cookie-decorating/
LOCATION:Parnell Memorial Library\, 277 Park Drive\, Montevallo\, 35115\, United States
END:VEVENT
BEGIN:VEVENT
DTSTART;TZID=America/Chicago:20191223T110000
DTEND;TZID=America/Chicago:20191223T130000
DTSTAMP:20260421T144323
CREATED:20191119T020852Z
LAST-MODIFIED:20191119T020852Z
UID:32670-1577098800-1577106000@birminghammommy.com
SUMMARY:Movie Morning
DESCRIPTION:Join us for a Christmas movie classic on the big screen. Free\, no registration required.
URL:https://birminghammommy.com/event/movie-morning/
LOCATION:Parnell Memorial Library\, 277 Park Drive\, Montevallo\, 35115\, United States
END:VEVENT
BEGIN:VEVENT
DTSTART;TZID=America/Chicago:20191222T153000
DTEND;TZID=America/Chicago:20191222T163000
DTSTAMP:20260421T144323
CREATED:20191108T155802Z
LAST-MODIFIED:20191108T155802Z
UID:32515-1577028600-1577032200@birminghammommy.com
SUMMARY:Special Siblings at Homewood Library
DESCRIPTION:2019 (K-12 Grade) This support group for siblings of special needs children is a place to share ideas\, experiences\, and the ever changing needs of having a sibling with special needs.
URL:https://birminghammommy.com/event/special-siblings-at-homewood-library-8/
END:VEVENT
BEGIN:VEVENT
DTSTART;TZID=America/Chicago:20191222T113000
DTEND;TZID=America/Chicago:20191222T123000
DTSTAMP:20260421T144323
CREATED:20191119T020852Z
LAST-MODIFIED:20191119T020852Z
UID:32673-1577014200-1577017800@birminghammommy.com
SUMMARY:The Rock and Roll Playhouse Presents The Music of Phish For Kids Holiday Celebration
DESCRIPTION:We’re back! The Rock and Roll Playhouse is excited to return to Birmingham this fall season with more family concerts at Saturn! Join us on Sunday\, December 22nd\, for The Music of Phish For Kids Holiday Celebration. Doors at 11:00 am and show at 11:30 am.  \nThe Rock and Roll Playhouse is a weekly children’s concert series that allows kids to “move\, play and sing while listening to works from the classic-rock canon” (NY Times). The Playhouse offers its core audience of children aged 10 and under games\, movement\, stories\, and an opportunity to rock out in a sensory-friendly environment while playing songs from musical icons such as the Grateful Dead\, David Bowie\, The Beatles\, and more. Founded in 2013 in New York City\, the Playhouse has now expanded to over thirty venues and cities across the United States. \n 
URL:https://birminghammommy.com/event/the-rock-and-roll-playhouse-presents-the-music-of-phish-for-kids-holiday-celebration/
LOCATION:Saturn\, 200 41st St S\, Birmingham\, AL\, 35222
ATTACH;FMTTYPE=image/png:https://birminghammommy.com/wp-content/uploads/2019/11/Saturn-Phish-Dec-22.png
ORGANIZER;CN="The Rock and Roll Playhouse":MAILTO:caitlin@therockandrollplayhouse.com
END:VEVENT
BEGIN:VEVENT
DTSTART;TZID=America/Chicago:20191221T103000
DTEND;TZID=America/Chicago:20191221T111500
DTSTAMP:20260421T144323
CREATED:20191208T215809Z
LAST-MODIFIED:20191208T215809Z
UID:32884-1576924200-1576926900@birminghammommy.com
SUMMARY:Family Storytime with Mr. Mac at Emmet O'Neal Library
DESCRIPTION:storytime for the whole family
URL:https://birminghammommy.com/event/family-storytime-with-mr-mac-at-emmet-oneal-library-7/
LOCATION:Emmet O’ Neal Library\, 50 Oak Street\, Mountain Brook\, AL\, 35213
GEO:33.5012941;-86.7565774
X-APPLE-STRUCTURED-LOCATION;VALUE=URI;X-ADDRESS=Emmet O’ Neal Library 50 Oak Street Mountain Brook AL 35213;X-APPLE-RADIUS=500;X-TITLE=50 Oak Street:geo:-86.7565774,33.5012941
END:VEVENT
BEGIN:VEVENT
DTSTART;TZID=America/Chicago:20191221T103000
DTEND;TZID=America/Chicago:20191221T110000
DTSTAMP:20260421T144323
CREATED:20191208T215834Z
LAST-MODIFIED:20191208T215834Z
UID:32917-1576924200-1576926000@birminghammommy.com
SUMMARY:Ms. Casey’s Marvelous Music & Me at Vestavia Hills Library
DESCRIPTION:Move and groove with Ms. Casey and learn about music and rhythm. Fun for families with preschoolers! First and Third Saturday Mornings at 10:30 a in the Children’s Department.
URL:https://birminghammommy.com/event/ms-caseys-marvelous-music-me-at-vestavia-hills-library/
LOCATION:Vestavia Hills Library in the Forest\, 1221 Montgomery Hwy\, Vestavia Hills Library\, AL\, 35216
GEO:33.4311673;-86.7875936
X-APPLE-STRUCTURED-LOCATION;VALUE=URI;X-ADDRESS=Vestavia Hills Library in the Forest 1221 Montgomery Hwy Vestavia Hills Library AL 35216;X-APPLE-RADIUS=500;X-TITLE=1221 Montgomery Hwy:geo:-86.7875936,33.4311673
END:VEVENT
BEGIN:VEVENT
DTSTART;TZID=America/Chicago:20191221T100000
DTEND;TZID=America/Chicago:20191221T110000
DTSTAMP:20260421T144323
CREATED:20191119T020852Z
LAST-MODIFIED:20191119T020852Z
UID:32669-1576922400-1576926000@birminghammommy.com
SUMMARY:Family Play Group
DESCRIPTION:Drop by for a fun time and a chance to play with friends and all our toddler toys. Open to children from birth-5 years accompanied by caregivers.
URL:https://birminghammommy.com/event/family-play-group-3/
LOCATION:Parnell Memorial Library\, 277 Park Drive\, Montevallo\, 35115\, United States
END:VEVENT
BEGIN:VEVENT
DTSTART;TZID=America/Chicago:20191221T091500
DTEND;TZID=America/Chicago:20191221T100000
DTSTAMP:20260421T144323
CREATED:20191119T020852Z
LAST-MODIFIED:20191119T020852Z
UID:32668-1576919700-1576922400@birminghammommy.com
SUMMARY:Family Storytime
DESCRIPTION:Join us for Family Storytime with Ms. Jennifer! Perfect for babies\, toddlers\, and preschool kids. No registration required.
URL:https://birminghammommy.com/event/family-storytime-4/
LOCATION:Parnell Memorial Library\, 277 Park Drive\, Montevallo\, AL\, 35115\, United States
END:VEVENT
BEGIN:VEVENT
DTSTART;TZID=America/Chicago:20191221T090000
DTEND;TZID=America/Chicago:20191221T163000
DTSTAMP:20260421T144323
CREATED:20191208T002228Z
LAST-MODIFIED:20191208T002228Z
UID:32771-1576918800-1576945800@birminghammommy.com
SUMMARY:Christmas Around the World at CHOM!
DESCRIPTION:Christmas Around the World at CHOM! \nSaturday\, December 21\, 2019   9-4:30 pm \nExplore how different cultures celebrate Christmas \nWith games and crafts throughout the museum! \n  \n  \n 
URL:https://birminghammommy.com/event/christmas-around-the-world-at-chom/
LOCATION:Children’s Hands-On Museum\, 2213 University Blvd.\, Tuscaloosa\, AL\, 35401\, United States
ATTACH;FMTTYPE=image/jpeg:https://birminghammommy.com/wp-content/uploads/2019/12/Christmas-Around-the-World-12-21.jpg
END:VEVENT
BEGIN:VEVENT
DTSTART;TZID=America/Chicago:20191220T140000
DTEND;TZID=America/Chicago:20191220T170000
DTSTAMP:20260421T144323
CREATED:20191119T020852Z
LAST-MODIFIED:20191119T020852Z
UID:32667-1576850400-1576861200@birminghammommy.com
SUMMARY:Polar Express Day
DESCRIPTION:Wear your PJs and join us for hot cocoa and a big-screen showing of one of favorite holiday movies: the Polar Express!
URL:https://birminghammommy.com/event/polar-express-day/
LOCATION:Parnell Memorial Library\, 277 Park Drive\, Montevallo\, AL\, 35115\, United States
END:VEVENT
BEGIN:VEVENT
DTSTART;TZID=America/Chicago:20191219T183000
DTEND;TZID=America/Chicago:20191219T191500
DTSTAMP:20260421T144323
CREATED:20191108T155831Z
LAST-MODIFIED:20191108T155831Z
UID:32553-1576780200-1576782900@birminghammommy.com
SUMMARY:Pajama Storytime at North Shelby Library
DESCRIPTION:Come in your PJs\, have some cookies\, and hear some wonderful bedtime tales.
URL:https://birminghammommy.com/event/pajama-storytime-at-north-shelby-library-6/
LOCATION:North Shelby Library\, 5521 Cahaba Valley Road\, Birmingham\, 35242\, United States
GEO:33.3646429;-86.71655
X-APPLE-STRUCTURED-LOCATION;VALUE=URI;X-ADDRESS=North Shelby Library 5521 Cahaba Valley Road Birmingham 35242 United States;X-APPLE-RADIUS=500;X-TITLE=5521 Cahaba Valley Road:geo:-86.71655,33.3646429
END:VEVENT
BEGIN:VEVENT
DTSTART;TZID=America/Chicago:20191219T180000
DTEND;TZID=America/Chicago:20191219T190000
DTSTAMP:20260421T144323
CREATED:20191208T215809Z
LAST-MODIFIED:20191208T215809Z
UID:32882-1576778400-1576782000@birminghammommy.com
SUMMARY:Hot off the Press Book Group at Emmet O'Neal Library
DESCRIPTION:Share a book you’ve enjoyed and get to know some of Ms. Morgan’s latest favorites over pizza.
URL:https://birminghammommy.com/event/hot-off-the-press-book-group-at-emmet-oneal-library-2/
LOCATION:Emmet O’ Neal Library\, 50 Oak Street\, Mountain Brook\, AL\, 35213
GEO:33.5012941;-86.7565774
X-APPLE-STRUCTURED-LOCATION;VALUE=URI;X-ADDRESS=Emmet O’ Neal Library 50 Oak Street Mountain Brook AL 35213;X-APPLE-RADIUS=500;X-TITLE=50 Oak Street:geo:-86.7565774,33.5012941
END:VEVENT
BEGIN:VEVENT
DTSTART;TZID=America/Chicago:20191219T153000
DTEND;TZID=America/Chicago:20191219T170000
DTSTAMP:20260421T144323
CREATED:20191119T020852Z
LAST-MODIFIED:20191119T020852Z
UID:32666-1576769400-1576774800@birminghammommy.com
SUMMARY:Holiday Movie
DESCRIPTION:Join us for a free holiday movie in our library theater. No registration required.
URL:https://birminghammommy.com/event/holiday-movie/
LOCATION:Parnell Memorial Library\, 277 Park Drive\, Montevallo\, 35115\, United States
END:VEVENT
BEGIN:VEVENT
DTSTART;TZID=America/Chicago:20191219T153000
DTEND;TZID=America/Chicago:20191219T164500
DTSTAMP:20260421T144323
CREATED:20191208T215809Z
LAST-MODIFIED:20191208T215809Z
UID:32880-1576769400-1576773900@birminghammommy.com
SUMMARY:SNaP at Emmet O'Neal Library
DESCRIPTION:Movie\, Popcorn\, and Hot Chocolate!\nThe Grinch (3:30-4:55)
URL:https://birminghammommy.com/event/snap-at-emmet-oneal-library-6/
LOCATION:Emmet O’ Neal Library\, 50 Oak Street\, Mountain Brook\, AL\, 35213
GEO:33.5012941;-86.7565774
X-APPLE-STRUCTURED-LOCATION;VALUE=URI;X-ADDRESS=Emmet O’ Neal Library 50 Oak Street Mountain Brook AL 35213;X-APPLE-RADIUS=500;X-TITLE=50 Oak Street:geo:-86.7565774,33.5012941
END:VEVENT
BEGIN:VEVENT
DTSTART;TZID=America/Chicago:20191219T103000
DTEND;TZID=America/Chicago:20191219T110000
DTSTAMP:20260421T144323
CREATED:20191108T155831Z
LAST-MODIFIED:20191108T155831Z
UID:32551-1576751400-1576753200@birminghammommy.com
SUMMARY:Baby Tales at North Shelby Library
DESCRIPTION:A special story program just for babies (birth to 18 months) and a caregiver. Stories\, fingerplays\, and music provide interaction for the babies and time for caregivers to talk and share with each other.
URL:https://birminghammommy.com/event/baby-tales-at-north-shelby-library-3/
LOCATION:North Shelby Library\, 5521 Cahaba Valley Road\, Birmingham\, 35242\, United States
GEO:33.3646429;-86.71655
X-APPLE-STRUCTURED-LOCATION;VALUE=URI;X-ADDRESS=North Shelby Library 5521 Cahaba Valley Road Birmingham 35242 United States;X-APPLE-RADIUS=500;X-TITLE=5521 Cahaba Valley Road:geo:-86.71655,33.3646429
END:VEVENT
BEGIN:VEVENT
DTSTART;TZID=America/Chicago:20191219T103000
DTEND;TZID=America/Chicago:20191219T105000
DTSTAMP:20260421T144323
CREATED:20191208T215809Z
LAST-MODIFIED:20191208T215809Z
UID:32878-1576751400-1576752600@birminghammommy.com
SUMMARY:Patty Cake at Emmet O'Neal Library
DESCRIPTION:0 to 12 months with caregiver
URL:https://birminghammommy.com/event/patty-cake-at-emmet-oneal-library-12/
LOCATION:Emmet O’ Neal Library\, 50 Oak Street\, Mountain Brook\, AL\, 35213
GEO:33.5012941;-86.7565774
X-APPLE-STRUCTURED-LOCATION;VALUE=URI;X-ADDRESS=Emmet O’ Neal Library 50 Oak Street Mountain Brook AL 35213;X-APPLE-RADIUS=500;X-TITLE=50 Oak Street:geo:-86.7565774,33.5012941
END:VEVENT
BEGIN:VEVENT
DTSTART;TZID=America/Chicago:20191219T100000
DTEND;TZID=America/Chicago:20191219T103000
DTSTAMP:20260421T144323
CREATED:20191208T215834Z
LAST-MODIFIED:20191208T215834Z
UID:32915-1576749600-1576751400@birminghammommy.com
SUMMARY:Book Babies at Vestavia Hills Library
DESCRIPTION:Ms. Lisa introduces babies birth to 18 months to the joys of storytime with special lap-sit programs.
URL:https://birminghammommy.com/event/book-babies-at-vestavia-hills-library-2/
LOCATION:Vestavia Hills Library in the Forest\, 1221 Montgomery Hwy\, Vestavia Hills Library\, AL\, 35216
GEO:33.4311673;-86.7875936
X-APPLE-STRUCTURED-LOCATION;VALUE=URI;X-ADDRESS=Vestavia Hills Library in the Forest 1221 Montgomery Hwy Vestavia Hills Library AL 35216;X-APPLE-RADIUS=500;X-TITLE=1221 Montgomery Hwy:geo:-86.7875936,33.4311673
END:VEVENT
BEGIN:VEVENT
DTSTART;TZID=America/Chicago:20191219T093000
DTEND;TZID=America/Chicago:20191219T120000
DTSTAMP:20260421T144323
CREATED:20191208T215834Z
LAST-MODIFIED:20191208T215834Z
UID:32912-1576747800-1576756800@birminghammommy.com
SUMMARY:L.I.F.T. at Vestavia Hill Library
DESCRIPTION:Join fellow preschoolers and their caregivers for social play with tents\, tunnels and more.
URL:https://birminghammommy.com/event/l-i-f-t-at-vestavia-hill-library/
LOCATION:Vestavia Hills Library in the Forest\, 1221 Montgomery Hwy\, Vestavia Hills Library\, AL\, 35216
GEO:33.4311673;-86.7875936
X-APPLE-STRUCTURED-LOCATION;VALUE=URI;X-ADDRESS=Vestavia Hills Library in the Forest 1221 Montgomery Hwy Vestavia Hills Library AL 35216;X-APPLE-RADIUS=500;X-TITLE=1221 Montgomery Hwy:geo:-86.7875936,33.4311673
END:VEVENT
BEGIN:VEVENT
DTSTART;TZID=America/Chicago:20191219T093000
DTEND;TZID=America/Chicago:20191219T095000
DTSTAMP:20260421T144323
CREATED:20191208T215809Z
LAST-MODIFIED:20191208T215809Z
UID:32876-1576747800-1576749000@birminghammommy.com
SUMMARY:Patty Cake at Emmet O'Neal Library
DESCRIPTION:0 to 12 months with caregiver
URL:https://birminghammommy.com/event/patty-cake-at-emmet-oneal-library-11/
LOCATION:Emmet O’ Neal Library\, 50 Oak Street\, Mountain Brook\, AL\, 35213
GEO:33.5012941;-86.7565774
X-APPLE-STRUCTURED-LOCATION;VALUE=URI;X-ADDRESS=Emmet O’ Neal Library 50 Oak Street Mountain Brook AL 35213;X-APPLE-RADIUS=500;X-TITLE=50 Oak Street:geo:-86.7565774,33.5012941
END:VEVENT
BEGIN:VEVENT
DTSTART;TZID=America/Chicago:20191218T153000
DTEND;TZID=America/Chicago:20191218T170000
DTSTAMP:20260421T144323
CREATED:20191119T020852Z
LAST-MODIFIED:20191119T020852Z
UID:32665-1576683000-1576688400@birminghammommy.com
SUMMARY:Holiday Movie
DESCRIPTION:Join us for a free holiday movie in our library theater. No registration required.
URL:https://birminghammommy.com/event/holiday-movie-2/
LOCATION:Parnell Memorial Library\, 277 Park Drive\, Montevallo\, AL\, 35115\, United States
END:VEVENT
BEGIN:VEVENT
DTSTART;TZID=America/Chicago:20191218T153000
DTEND;TZID=America/Chicago:20191218T163000
DTSTAMP:20260421T144323
CREATED:20191208T215834Z
LAST-MODIFIED:20191208T215834Z
UID:32910-1576683000-1576686600@birminghammommy.com
SUMMARY:12 Bel°w (Something Cool After School) at Vestavia Hills Library
DESCRIPTION:Join Ms. Holly on Wednesdays at 3:30 for a fun tween program at the Vestavia Library. Trivia\, Gaming\, Arts & Crafts\, Movies\, Holiday Fun & So MUCH More. It’s for 12 Bel°w or Ages 8-12!  Snacks served. We can’t wait to see you there!
URL:https://birminghammommy.com/event/12-belw-something-cool-after-school-at-vestavia-hills-library-2/
LOCATION:Vestavia Hills Library in the Forest\, 1221 Montgomery Hwy\, Vestavia Hills Library\, AL\, 35216
GEO:33.4311673;-86.7875936
X-APPLE-STRUCTURED-LOCATION;VALUE=URI;X-ADDRESS=Vestavia Hills Library in the Forest 1221 Montgomery Hwy Vestavia Hills Library AL 35216;X-APPLE-RADIUS=500;X-TITLE=1221 Montgomery Hwy:geo:-86.7875936,33.4311673
END:VEVENT
BEGIN:VEVENT
DTSTART;TZID=America/Chicago:20191218T133000
DTEND;TZID=America/Chicago:20191218T141500
DTSTAMP:20260421T144323
CREATED:20191208T215809Z
LAST-MODIFIED:20191208T215809Z
UID:32874-1576675800-1576678500@birminghammommy.com
SUMMARY:Movers & Makers at Emmet O'Neal Library
DESCRIPTION:preschoolers aged 3-5
URL:https://birminghammommy.com/event/movers-makers-at-emmet-oneal-library-7/
LOCATION:Emmet O’ Neal Library\, 50 Oak Street\, Mountain Brook\, AL\, 35213
GEO:33.5012941;-86.7565774
X-APPLE-STRUCTURED-LOCATION;VALUE=URI;X-ADDRESS=Emmet O’ Neal Library 50 Oak Street Mountain Brook AL 35213;X-APPLE-RADIUS=500;X-TITLE=50 Oak Street:geo:-86.7565774,33.5012941
END:VEVENT
BEGIN:VEVENT
DTSTART;TZID=America/Chicago:20191218T130000
DTEND;TZID=America/Chicago:20191218T140000
DTSTAMP:20260421T144323
CREATED:20191108T155831Z
LAST-MODIFIED:20191108T155831Z
UID:32549-1576674000-1576677600@birminghammommy.com
SUMMARY:Stories\, puppets\, and lots of music for every member of the family.
DESCRIPTION:Design and make your own sock puppet and then\, using HUE Animation Technology\, select a fun background picture and take your puppet’s portrait!
URL:https://birminghammommy.com/event/stories-puppets-and-lots-of-music-for-every-member-of-the-family/
LOCATION:North Shelby Library\, 5521 Cahaba Valley Road\, Birmingham\, 35242\, United States
GEO:33.3646429;-86.71655
X-APPLE-STRUCTURED-LOCATION;VALUE=URI;X-ADDRESS=North Shelby Library 5521 Cahaba Valley Road Birmingham 35242 United States;X-APPLE-RADIUS=500;X-TITLE=5521 Cahaba Valley Road:geo:-86.71655,33.3646429
END:VEVENT
BEGIN:VEVENT
DTSTART;TZID=America/Chicago:20191218T104500
DTEND;TZID=America/Chicago:20191218T104500
DTSTAMP:20260421T144323
CREATED:20191108T155831Z
LAST-MODIFIED:20191108T155831Z
UID:32547-1576665900-1576665900@birminghammommy.com
SUMMARY:Family Storytime with Mr. Mac at North Shelby Library
DESCRIPTION:Stories\, puppets\, and lots of music for every member of the family.
URL:https://birminghammommy.com/event/family-storytime-with-mr-mac-at-north-shelby-library-8/
LOCATION:North Shelby Library\, 5521 Cahaba Valley Road\, Birmingham\, 35242\, United States
GEO:33.3646429;-86.71655
X-APPLE-STRUCTURED-LOCATION;VALUE=URI;X-ADDRESS=North Shelby Library 5521 Cahaba Valley Road Birmingham 35242 United States;X-APPLE-RADIUS=500;X-TITLE=5521 Cahaba Valley Road:geo:-86.71655,33.3646429
END:VEVENT
BEGIN:VEVENT
DTSTART;TZID=America/Chicago:20191218T103000
DTEND;TZID=America/Chicago:20191218T111500
DTSTAMP:20260421T144323
CREATED:20191208T215834Z
LAST-MODIFIED:20191208T215834Z
UID:32908-1576665000-1576667700@birminghammommy.com
SUMMARY:Story Friends at Vestavia Hills Library
DESCRIPTION:See Ms. Lisa bring your favorite stories to life! Ages 5 and under.
URL:https://birminghammommy.com/event/story-friends-at-vestavia-hills-library-2/
LOCATION:Vestavia Hills Library in the Forest\, 1221 Montgomery Hwy\, Vestavia Hills Library\, AL\, 35216
GEO:33.4311673;-86.7875936
X-APPLE-STRUCTURED-LOCATION;VALUE=URI;X-ADDRESS=Vestavia Hills Library in the Forest 1221 Montgomery Hwy Vestavia Hills Library AL 35216;X-APPLE-RADIUS=500;X-TITLE=1221 Montgomery Hwy:geo:-86.7875936,33.4311673
END:VEVENT
BEGIN:VEVENT
DTSTART;TZID=America/Chicago:20191218T103000
DTEND;TZID=America/Chicago:20191218T110000
DTSTAMP:20260421T144323
CREATED:20191208T215809Z
LAST-MODIFIED:20191208T215809Z
UID:32872-1576665000-1576666800@birminghammommy.com
SUMMARY:Mother Goose at Emmet O'Neal Library
DESCRIPTION:12 to 24 months with caregiver
URL:https://birminghammommy.com/event/mother-goose-at-emmet-oneal-library-15/
LOCATION:Emmet O’ Neal Library\, 50 Oak Street\, Mountain Brook\, AL\, 35213
GEO:33.5012941;-86.7565774
X-APPLE-STRUCTURED-LOCATION;VALUE=URI;X-ADDRESS=Emmet O’ Neal Library 50 Oak Street Mountain Brook AL 35213;X-APPLE-RADIUS=500;X-TITLE=50 Oak Street:geo:-86.7565774,33.5012941
END:VEVENT
BEGIN:VEVENT
DTSTART;TZID=America/Chicago:20191218T093000
DTEND;TZID=America/Chicago:20191218T100000
DTSTAMP:20260421T144323
CREATED:20191208T215809Z
LAST-MODIFIED:20191208T215809Z
UID:32870-1576661400-1576663200@birminghammommy.com
SUMMARY:Mother Goose at Emmet O'Neal Library
DESCRIPTION:12 to 24 months with caregiver
URL:https://birminghammommy.com/event/mother-goose-at-emmet-oneal-library-14/
LOCATION:Emmet O’ Neal Library\, 50 Oak Street\, Mountain Brook\, AL\, 35213
GEO:33.5012941;-86.7565774
X-APPLE-STRUCTURED-LOCATION;VALUE=URI;X-ADDRESS=Emmet O’ Neal Library 50 Oak Street Mountain Brook AL 35213;X-APPLE-RADIUS=500;X-TITLE=50 Oak Street:geo:-86.7565774,33.5012941
END:VEVENT
END:VCALENDAR