BEGIN:VCALENDAR
VERSION:2.0
PRODID:-//Birmingham Mommy - ECPv6.3.5//NONSGML v1.0//EN
CALSCALE:GREGORIAN
METHOD:PUBLISH
X-WR-CALNAME:Birmingham Mommy
X-ORIGINAL-URL:https://birminghammommy.com
X-WR-CALDESC:Events for Birmingham Mommy
REFRESH-INTERVAL;VALUE=DURATION:PT1H
X-Robots-Tag:noindex
X-PUBLISHED-TTL:PT1H
BEGIN:VTIMEZONE
TZID:America/Chicago
BEGIN:DAYLIGHT
TZOFFSETFROM:-0600
TZOFFSETTO:-0500
TZNAME:CDT
DTSTART:20190310T080000
END:DAYLIGHT
BEGIN:STANDARD
TZOFFSETFROM:-0500
TZOFFSETTO:-0600
TZNAME:CST
DTSTART:20191103T070000
END:STANDARD
END:VTIMEZONE
BEGIN:VEVENT
DTSTART;TZID=America/Chicago:20190711T103000
DTEND;TZID=America/Chicago:20190711T110000
DTSTAMP:20260421T201613
CREATED:20190604T124827Z
LAST-MODIFIED:20190604T124827Z
UID:30209-1562841000-1562842800@birminghammommy.com
SUMMARY:Toddler Tales at North Shelby Library
DESCRIPTION:Stories\, songs\, and fingerplays make up a lively 30 minute program designed especially for toddlers. Registration will begin one week prior to each storytime. Ages 19-36 months. Registration required and opens 1 week before program.
URL:https://birminghammommy.com/event/toddler-tales-at-north-shelby-library-5/
LOCATION:North Shelby Library\, 5521 Cahaba Valley Road\, Birmingham\, 35242\, United States
GEO:33.3646429;-86.71655
X-APPLE-STRUCTURED-LOCATION;VALUE=URI;X-ADDRESS=North Shelby Library 5521 Cahaba Valley Road Birmingham 35242 United States;X-APPLE-RADIUS=500;X-TITLE=5521 Cahaba Valley Road:geo:-86.71655,33.3646429
END:VEVENT
BEGIN:VEVENT
DTSTART;TZID=America/Chicago:20190711T110000
DTEND;TZID=America/Chicago:20190711T120000
DTSTAMP:20260421T201613
CREATED:20190430T175814Z
LAST-MODIFIED:20190430T175814Z
UID:29559-1562842800-1562846400@birminghammommy.com
SUMMARY:Storytime at Magic City Sweet Ice
DESCRIPTION:2019 (All Ages) Join us at Magic City Sweet Ice for a special summer storytime and a discount on a sweet treat!
URL:https://birminghammommy.com/event/storytime-at-magic-city-sweet-ice-2/
LOCATION:Magic City Sweet Ice\, 715 Oak Grove Rd\, Homewood\, 35209
END:VEVENT
BEGIN:VEVENT
DTSTART;TZID=America/Chicago:20190711T143000
DTEND;TZID=America/Chicago:20190711T150000
DTSTAMP:20260421T201613
CREATED:20190604T124827Z
LAST-MODIFIED:20190604T124827Z
UID:30211-1562855400-1562857200@birminghammommy.com
SUMMARY:Building Tech: Grades K-3 at North Shelby Library
DESCRIPTION:Explore engineering through a different building challenge each week.\n\nThis week: Mazes\nBuild a maze using MakeDo and see who can get the Sphero through the fastest!\n \nFor Grades K-3rd. Registration required.
URL:https://birminghammommy.com/event/building-tech-grades-k-3-at-north-shelby-library/
LOCATION:North Shelby Library\, 5521 Cahaba Valley Road\, Birmingham\, 35242\, United States
GEO:33.3646429;-86.71655
X-APPLE-STRUCTURED-LOCATION;VALUE=URI;X-ADDRESS=North Shelby Library 5521 Cahaba Valley Road Birmingham 35242 United States;X-APPLE-RADIUS=500;X-TITLE=5521 Cahaba Valley Road:geo:-86.71655,33.3646429
END:VEVENT
BEGIN:VEVENT
DTSTART;TZID=America/Chicago:20190711T153000
DTEND;TZID=America/Chicago:20190711T163000
DTSTAMP:20260421T201613
CREATED:20190720T181605Z
LAST-MODIFIED:20190720T181605Z
UID:30838-1562859000-1562862600@birminghammommy.com
SUMMARY:SNaP at Emmet O'Neal Library
DESCRIPTION:3-6 Grade
URL:https://birminghammommy.com/event/snap-at-emmet-oneal-library/
LOCATION:Emmet O’ Neal Library\, 50 Oak Street\, Mountain Brook\, AL\, 35213
GEO:33.5012941;-86.7565774
X-APPLE-STRUCTURED-LOCATION;VALUE=URI;X-ADDRESS=Emmet O’ Neal Library 50 Oak Street Mountain Brook AL 35213;X-APPLE-RADIUS=500;X-TITLE=50 Oak Street:geo:-86.7565774,33.5012941
END:VEVENT
BEGIN:VEVENT
DTSTART;TZID=America/Chicago:20190711T163000
DTEND;TZID=America/Chicago:20190711T173000
DTSTAMP:20260421T201613
CREATED:20190430T175814Z
LAST-MODIFIED:20190430T175814Z
UID:29561-1562862600-1562866200@birminghammommy.com
SUMMARY:Learn French at Homewood Library
DESCRIPTION:2019 (3-5 Grade) Learn common French words and phrases in this three-week class. Registration is required.
URL:https://birminghammommy.com/event/learn-french-at-homewood-library/
LOCATION:Homewood Public Library\, Select a Country:
GEO:-12.0470469;-77.032263
END:VEVENT
BEGIN:VEVENT
DTSTART;TZID=America/Chicago:20190711T180000
DTEND;TZID=America/Chicago:20190711T190000
DTSTAMP:20260421T201613
CREATED:20190430T175814Z
LAST-MODIFIED:20190430T175814Z
UID:29563-1562868000-1562871600@birminghammommy.com
SUMMARY:Mary Poppins Returns Movie Showing
DESCRIPTION:2019 (All Ages) She’s back and ready for some more adventure! Grab your umbrellas and join us for snacks and refreshments for a musical evening.
URL:https://birminghammommy.com/event/mary-poppins-returns-movie-showing/
LOCATION:Homewood Public Library\, 1721 Oxmoor Road\, Homewood\, AL\, 35209\, United States
GEO:33.4750533;-86.795404
X-APPLE-STRUCTURED-LOCATION;VALUE=URI;X-ADDRESS=Homewood Public Library 1721 Oxmoor Road Homewood AL 35209 United States;X-APPLE-RADIUS=500;X-TITLE=1721 Oxmoor Road:geo:-86.795404,33.4750533
END:VEVENT
BEGIN:VEVENT
DTSTART;TZID=America/Chicago:20190711T183000
DTEND;TZID=America/Chicago:20190711T191500
DTSTAMP:20260421T201613
CREATED:20190604T124855Z
LAST-MODIFIED:20190604T124855Z
UID:30213-1562869800-1562872500@birminghammommy.com
SUMMARY:Pajama Storytime at North Shelby Library
DESCRIPTION:Come in your PJs\, have milk and cookies\, and hear some wonderful bedtime tales. Suited for ages 3 and up. No Registration Required.
URL:https://birminghammommy.com/event/pajama-storytime-at-north-shelby-library-3/
LOCATION:North Shelby Library\, 5521 Cahaba Valley Road\, Birmingham\, 35242\, United States
GEO:33.3646429;-86.71655
X-APPLE-STRUCTURED-LOCATION;VALUE=URI;X-ADDRESS=North Shelby Library 5521 Cahaba Valley Road Birmingham 35242 United States;X-APPLE-RADIUS=500;X-TITLE=5521 Cahaba Valley Road:geo:-86.71655,33.3646429
END:VEVENT
BEGIN:VEVENT
DTSTART;TZID=America/Chicago:20190712T100000
DTEND;TZID=America/Chicago:20190712T123000
DTSTAMP:20260421T201613
CREATED:20190604T124855Z
LAST-MODIFIED:20190604T124855Z
UID:30215-1562925600-1562934600@birminghammommy.com
SUMMARY:Mt Laurel Toddler Tales at North Shelby Library
DESCRIPTION:Stories\, songs\, finger plays\, and more make up a lively 30 minute program designed especially for short attention spans and their caregiver. Registration begins two weeks prior to each storytime. Ages 36 months and younger. Registration required.
URL:https://birminghammommy.com/event/mt-laurel-toddler-tales-at-north-shelby-library-2/
LOCATION:North Shelby Library\, 5521 Cahaba Valley Road\, Birmingham\, 35242\, United States
GEO:33.3646429;-86.71655
X-APPLE-STRUCTURED-LOCATION;VALUE=URI;X-ADDRESS=North Shelby Library 5521 Cahaba Valley Road Birmingham 35242 United States;X-APPLE-RADIUS=500;X-TITLE=5521 Cahaba Valley Road:geo:-86.71655,33.3646429
END:VEVENT
BEGIN:VEVENT
DTSTART;TZID=America/Chicago:20190712T103000
DTEND;TZID=America/Chicago:20190712T111500
DTSTAMP:20260421T201613
CREATED:20190430T175814Z
LAST-MODIFIED:20190430T175814Z
UID:29565-1562927400-1562930100@birminghammommy.com
SUMMARY:Animal Adventures: 6th Day Creatures
DESCRIPTION:2019 (All Ages) Join us on Friday mornings to learn about different animals!
URL:https://birminghammommy.com/event/animal-adventures-6th-day-creatures/
LOCATION:Homewood Public Library\, Select a Country:
GEO:-12.0470469;-77.032263
END:VEVENT
BEGIN:VEVENT
DTSTART;TZID=America/Chicago:20190712T110000
DTEND;TZID=America/Chicago:20190712T120000
DTSTAMP:20260421T201613
CREATED:20190604T124855Z
LAST-MODIFIED:20190604T124855Z
UID:30217-1562929200-1562932800@birminghammommy.com
SUMMARY:Mt Laurel Storytime at North Shelby Library
DESCRIPTION:Stories\, music\, and more for every member of the family. All ages. No registration required.
URL:https://birminghammommy.com/event/mt-laurel-storytime-at-north-shelby-library-2/
LOCATION:North Shelby Library\, 5521 Cahaba Valley Road\, Birmingham\, 35242\, United States
GEO:33.3646429;-86.71655
X-APPLE-STRUCTURED-LOCATION;VALUE=URI;X-ADDRESS=North Shelby Library 5521 Cahaba Valley Road Birmingham 35242 United States;X-APPLE-RADIUS=500;X-TITLE=5521 Cahaba Valley Road:geo:-86.71655,33.3646429
END:VEVENT
BEGIN:VEVENT
DTSTART;TZID=America/Chicago:20190712T180000
DTEND;TZID=America/Chicago:20190712T210000
DTSTAMP:20260421T201613
CREATED:20190720T181605Z
LAST-MODIFIED:20190720T181605Z
UID:30843-1562954400-1562965200@birminghammommy.com
SUMMARY:It IS Rocket Science at Emmet O'Neal Library
DESCRIPTION:Grades 5-8
URL:https://birminghammommy.com/event/it-is-rocket-science-at-emmet-oneal-library/
LOCATION:Emmet O’ Neal Library\, 50 Oak Street\, Mountain Brook\, AL\, 35213
GEO:33.5012941;-86.7565774
X-APPLE-STRUCTURED-LOCATION;VALUE=URI;X-ADDRESS=Emmet O’ Neal Library 50 Oak Street Mountain Brook AL 35213;X-APPLE-RADIUS=500;X-TITLE=50 Oak Street:geo:-86.7565774,33.5012941
END:VEVENT
BEGIN:VEVENT
DTSTART;TZID=America/Chicago:20190713T090000
DTEND;TZID=America/Chicago:20190713T163000
DTSTAMP:20260421T201613
CREATED:20190624T131124Z
LAST-MODIFIED:20190624T131124Z
UID:30758-1563008400-1563035400@birminghammommy.com
SUMMARY:Super Shark Saturday at CHOM!
DESCRIPTION:Super Shark Saturday at CHOM! \nSaturday\, July 13\, 2019 \n9-4:30 pm \nWhy don’t sharks sink? \nMake a swimming shark! \nShark Games! \nAll activities included with admission! \n 
URL:https://birminghammommy.com/event/super-shark-saturday-at-chom-2/
LOCATION:Children’s Hands-On Museum\, 2213 University Blvd.\, Tuscaloosa\, AL\, 35401\, United States
ATTACH;FMTTYPE=image/jpeg:https://birminghammommy.com/wp-content/uploads/2019/06/Super-Shark-Saturday-7-13.jpg
END:VEVENT
BEGIN:VEVENT
DTSTART;TZID=America/Chicago:20190713T103000
DTEND;TZID=America/Chicago:20190713T111000
DTSTAMP:20260421T201613
CREATED:20190720T181605Z
LAST-MODIFIED:20190720T181605Z
UID:30846-1563013800-1563016200@birminghammommy.com
SUMMARY:Family Storytime with Mr. Mac at Emmet O'Neal Library
DESCRIPTION:storytime for the whole family
URL:https://birminghammommy.com/event/family-storytime-with-mr-mac-at-emmet-oneal-library-3/
LOCATION:Emmet O’ Neal Library\, 50 Oak Street\, Mountain Brook\, AL\, 35213
GEO:33.5012941;-86.7565774
X-APPLE-STRUCTURED-LOCATION;VALUE=URI;X-ADDRESS=Emmet O’ Neal Library 50 Oak Street Mountain Brook AL 35213;X-APPLE-RADIUS=500;X-TITLE=50 Oak Street:geo:-86.7565774,33.5012941
END:VEVENT
BEGIN:VEVENT
DTSTART;TZID=America/Chicago:20190713T153000
DTEND;TZID=America/Chicago:20190713T160000
DTSTAMP:20260421T201613
CREATED:20190430T175814Z
LAST-MODIFIED:20190430T175814Z
UID:29567-1563031800-1563033600@birminghammommy.com
SUMMARY:Stuffed Animal Sleepover Drop Off Storytime at Homewood Library
DESCRIPTION:2019 (All Ages) Drop off your second favorite stuffed animal for a special stuffed animal only sleepover at the library!
URL:https://birminghammommy.com/event/stuffed-animal-sleepover-drop-off-storytime-at-homewood-library/
LOCATION:Homewood Public Library\, Select a Country:
GEO:-12.0470469;-77.032263
END:VEVENT
BEGIN:VEVENT
DTSTART;TZID=America/Chicago:20190714T153000
DTEND;TZID=America/Chicago:20190714T160000
DTSTAMP:20260421T201613
CREATED:20190430T175814Z
LAST-MODIFIED:20190430T175814Z
UID:29569-1563118200-1563120000@birminghammommy.com
SUMMARY:Stuffed Animal Sleepover Pick Up Program
DESCRIPTION:2019 (All Ages) Pick up your second favorite stuffed animal and find out what they did at their stuffed animal sleepover!
URL:https://birminghammommy.com/event/stuffed-animal-sleepover-pick-up-program/
LOCATION:Homewood Public Library\, Select a Country:
GEO:-12.0470469;-77.032263
END:VEVENT
BEGIN:VEVENT
DTSTART;TZID=America/Chicago:20190715T103000
DTEND;TZID=America/Chicago:20190715T110000
DTSTAMP:20260421T201613
CREATED:20190430T175814Z
LAST-MODIFIED:20190430T175814Z
UID:29571-1563186600-1563188400@birminghammommy.com
SUMMARY:Story Bunch with Ms. Mary at Homewood Library
DESCRIPTION:2019 (Preschool) Join Ms. Mary for stories\, songs and lots of fun!
URL:https://birminghammommy.com/event/story-bunch-with-ms-mary-at-homewood-library-5/
LOCATION:Homewood Public Library\, Select a Country:
GEO:-12.0470469;-77.032263
END:VEVENT
BEGIN:VEVENT
DTSTART;TZID=America/Chicago:20190715T103000
DTEND;TZID=America/Chicago:20190715T110000
DTSTAMP:20260421T201613
CREATED:20190720T181605Z
LAST-MODIFIED:20190720T181605Z
UID:30848-1563186600-1563188400@birminghammommy.com
SUMMARY:Toddler Tales at Emmet O'Neal Library
DESCRIPTION:24 to 36 months with caregiver
URL:https://birminghammommy.com/event/toddler-tales-at-emmet-oneal-library-7/
LOCATION:Emmet O’ Neal Library\, 50 Oak Street\, Mountain Brook\, AL\, 35213
GEO:33.5012941;-86.7565774
X-APPLE-STRUCTURED-LOCATION;VALUE=URI;X-ADDRESS=Emmet O’ Neal Library 50 Oak Street Mountain Brook AL 35213;X-APPLE-RADIUS=500;X-TITLE=50 Oak Street:geo:-86.7565774,33.5012941
END:VEVENT
BEGIN:VEVENT
DTSTART;TZID=America/Chicago:20190715T103000
DTEND;TZID=America/Chicago:20190715T110000
DTSTAMP:20260421T201613
CREATED:20190720T181605Z
LAST-MODIFIED:20190720T181605Z
UID:30850-1563186600-1563188400@birminghammommy.com
SUMMARY:Toddler Tales at Emmet O'Neal Library
DESCRIPTION:24 to 36 months with caregiver
URL:https://birminghammommy.com/event/toddler-tales-at-emmet-oneal-library-8/
LOCATION:Emmet O’ Neal Library\, 50 Oak Street\, Mountain Brook\, AL\, 35213
GEO:33.5012941;-86.7565774
X-APPLE-STRUCTURED-LOCATION;VALUE=URI;X-ADDRESS=Emmet O’ Neal Library 50 Oak Street Mountain Brook AL 35213;X-APPLE-RADIUS=500;X-TITLE=50 Oak Street:geo:-86.7565774,33.5012941
END:VEVENT
BEGIN:VEVENT
DTSTART;TZID=America/Chicago:20190715T110000
DTEND;TZID=America/Chicago:20190715T120000
DTSTAMP:20260421T201613
CREATED:20190604T124855Z
LAST-MODIFIED:20190604T124855Z
UID:30219-1563188400-1563192000@birminghammommy.com
SUMMARY:Gene Cordova - Ventriloquist at North Shelby Library
DESCRIPTION:Comedy with puppets and ventriloquism! Sponsored by Lindsey Allison.\n\nAll ages welcome. No registration required.
URL:https://birminghammommy.com/event/gene-cordova-ventriloquist-at-north-shelby-library/
LOCATION:North Shelby Library\, 5521 Cahaba Valley Road\, Birmingham\, 35242\, United States
GEO:33.3646429;-86.71655
X-APPLE-STRUCTURED-LOCATION;VALUE=URI;X-ADDRESS=North Shelby Library 5521 Cahaba Valley Road Birmingham 35242 United States;X-APPLE-RADIUS=500;X-TITLE=5521 Cahaba Valley Road:geo:-86.71655,33.3646429
END:VEVENT
BEGIN:VEVENT
DTSTART;TZID=America/Chicago:20190715T140000
DTEND;TZID=America/Chicago:20190715T150000
DTSTAMP:20260421T201613
CREATED:20190604T124855Z
LAST-MODIFIED:20190604T124855Z
UID:30221-1563199200-1563202800@birminghammommy.com
SUMMARY:Mt Laurel Gene Cordova Ventriloquist
DESCRIPTION:Everyone will laugh and learn as Gene uses his unique talents that include ventriloquism\, puppetry\, comedy magic\, storytelling\, balloon antics and LOTS of audience participation. All ages welcome. Registration required.
URL:https://birminghammommy.com/event/mt-laurel-gene-cordova-ventriloquist-2/
LOCATION:North Shelby Library\, 5521 Cahaba Valley Road\, Birmingham\, 35242\, United States
GEO:33.3646429;-86.71655
X-APPLE-STRUCTURED-LOCATION;VALUE=URI;X-ADDRESS=North Shelby Library 5521 Cahaba Valley Road Birmingham 35242 United States;X-APPLE-RADIUS=500;X-TITLE=5521 Cahaba Valley Road:geo:-86.71655,33.3646429
END:VEVENT
BEGIN:VEVENT
DTSTART;TZID=America/Chicago:20190715T140000
DTEND;TZID=America/Chicago:20190715T153000
DTSTAMP:20260421T201613
CREATED:20190720T181605Z
LAST-MODIFIED:20190720T181605Z
UID:30852-1563199200-1563204600@birminghammommy.com
SUMMARY:Reading Camp at Emmet O'Neal Library
DESCRIPTION:Session 2: July 15-18
URL:https://birminghammommy.com/event/reading-camp-at-emmet-oneal-library/
LOCATION:Emmet O’ Neal Library\, 50 Oak Street\, Mountain Brook\, AL\, 35213
GEO:33.5012941;-86.7565774
X-APPLE-STRUCTURED-LOCATION;VALUE=URI;X-ADDRESS=Emmet O’ Neal Library 50 Oak Street Mountain Brook AL 35213;X-APPLE-RADIUS=500;X-TITLE=50 Oak Street:geo:-86.7565774,33.5012941
END:VEVENT
BEGIN:VEVENT
DTSTART;TZID=America/Chicago:20190715T160000
DTEND;TZID=America/Chicago:20190715T164500
DTSTAMP:20260421T201613
CREATED:20190430T175814Z
LAST-MODIFIED:20190430T175814Z
UID:29573-1563206400-1563209100@birminghammommy.com
SUMMARY:City Passport: Sloss Furnaces
DESCRIPTION:2019 (K-12 Grade) Join us on Monday afternoons as we learn about amazing organizations around our city through presentations\, crafts and books.
URL:https://birminghammommy.com/event/city-passport-sloss-furnaces/
LOCATION:Homewood Public Library\, Select a Country:
GEO:-12.0470469;-77.032263
END:VEVENT
BEGIN:VEVENT
DTSTART;TZID=America/Chicago:20190715T180000
DTEND;TZID=America/Chicago:20190715T190000
DTSTAMP:20260421T201613
CREATED:20190604T124856Z
LAST-MODIFIED:20190604T124856Z
UID:30223-1563213600-1563217200@birminghammommy.com
SUMMARY:Gene Cordova - Ventriloquist at North Shelby Library
DESCRIPTION:Comedy with puppets and ventriloquism! Sponsored by Lindsey Allison.\n\nAll ages welcome. No registration required.
URL:https://birminghammommy.com/event/gene-cordova-ventriloquist-at-north-shelby-library-2/
LOCATION:North Shelby Library\, 5521 Cahaba Valley Road\, Birmingham\, 35242\, United States
GEO:33.3646429;-86.71655
X-APPLE-STRUCTURED-LOCATION;VALUE=URI;X-ADDRESS=North Shelby Library 5521 Cahaba Valley Road Birmingham 35242 United States;X-APPLE-RADIUS=500;X-TITLE=5521 Cahaba Valley Road:geo:-86.71655,33.3646429
END:VEVENT
BEGIN:VEVENT
DTSTART;TZID=America/Chicago:20190716T100000
DTEND;TZID=America/Chicago:20190718T140000
DTSTAMP:20260421T201613
CREATED:20190503T170121Z
LAST-MODIFIED:20190503T170121Z
UID:29675-1563271200-1563458400@birminghammommy.com
SUMMARY:Ascension Episcopal Kindergarten Zoo Camp
DESCRIPTION:Join us for It’s a Zoo Out There Animal Camp at Ascsension Episcopal Kindergarten.\nJuly 16 – July 17 – July 18\n10 a.m. – 2 p.m.\n$120 per child\, for rising 3K through 1st grade\nGrab your binoculars and set out on safari as we encounter animals in the jungle\, ocean\, forest and zoo! We’ll make snacks for pets and kids alike\, animal-themed crafts\, do creature-tastic movement and activities during each 4-hour day. Additional sessions offered June 18-20 and August 13-15.
URL:https://birminghammommy.com/event/ascension-episcopal-kindergarten-zoo-camp/
LOCATION:Ascension Episcopal Kindergarten\, 1912 Canyon Rd.\, Vestavia Hills\, 35216\, United States
ATTACH;FMTTYPE=image/png:https://birminghammommy.com/wp-content/uploads/2019/05/Zoo-Camp-Image.png
ORGANIZER;CN="Ascension Episcopal Kindergarten":MAILTO:laura.a.maddox@me.com
END:VEVENT
BEGIN:VEVENT
DTSTART;TZID=America/Chicago:20190716T103000
DTEND;TZID=America/Chicago:20190716T111500
DTSTAMP:20260421T201613
CREATED:20190430T175814Z
LAST-MODIFIED:20190430T175814Z
UID:29575-1563273000-1563275700@birminghammommy.com
SUMMARY:Ms. Kit's Bubble School at Homewood Library
DESCRIPTION:2019 (All Ages) Join Ms. Kit for a magically fun bubble show!
URL:https://birminghammommy.com/event/ms-kits-bubble-school-at-homewood-library/
LOCATION:Homewood Public Library\, Select a Country:
GEO:-12.0470469;-77.032263
END:VEVENT
BEGIN:VEVENT
DTSTART;TZID=America/Chicago:20190716T103000
DTEND;TZID=America/Chicago:20190716T113000
DTSTAMP:20260421T201613
CREATED:20190604T124856Z
LAST-MODIFIED:20190604T124856Z
UID:30225-1563273000-1563276600@birminghammommy.com
SUMMARY:Preschool Kitchen Science at North Shelby Library
DESCRIPTION:STEAM-y (Science Technology Engineering Art and Math) science experiments for preschoolers. \nAges 3-5. Registration required. Space is limited.
URL:https://birminghammommy.com/event/preschool-kitchen-science-at-north-shelby-library/
LOCATION:North Shelby Library\, 5521 Cahaba Valley Road\, Birmingham\, 35242\, United States
GEO:33.3646429;-86.71655
X-APPLE-STRUCTURED-LOCATION;VALUE=URI;X-ADDRESS=North Shelby Library 5521 Cahaba Valley Road Birmingham 35242 United States;X-APPLE-RADIUS=500;X-TITLE=5521 Cahaba Valley Road:geo:-86.71655,33.3646429
END:VEVENT
BEGIN:VEVENT
DTSTART;TZID=America/Chicago:20190716T153000
DTEND;TZID=America/Chicago:20190716T161500
DTSTAMP:20260421T201613
CREATED:20190720T181605Z
LAST-MODIFIED:20190720T181605Z
UID:30854-1563291000-1563293700@birminghammommy.com
SUMMARY:LOL: Go at Emmet O'Neal Library
DESCRIPTION:Learn Magic w/ Arthur Atsma for Kindergarten – 2nd grade
URL:https://birminghammommy.com/event/lol-go-at-emmet-oneal-library-4/
LOCATION:Emmet O’ Neal Library\, 50 Oak Street\, Mountain Brook\, AL\, 35213
GEO:33.5012941;-86.7565774
X-APPLE-STRUCTURED-LOCATION;VALUE=URI;X-ADDRESS=Emmet O’ Neal Library 50 Oak Street Mountain Brook AL 35213;X-APPLE-RADIUS=500;X-TITLE=50 Oak Street:geo:-86.7565774,33.5012941
END:VEVENT
BEGIN:VEVENT
DTSTART;TZID=America/Chicago:20190716T180000
DTEND;TZID=America/Chicago:20190716T190000
DTSTAMP:20260421T201613
CREATED:20190720T181605Z
LAST-MODIFIED:20190720T181605Z
UID:30856-1563300000-1563303600@birminghammommy.com
SUMMARY:Breakout Book Club: King & Kayla & the Missing Dog Treats
DESCRIPTION:emerging readers and their adults
URL:https://birminghammommy.com/event/breakout-book-club-king-kayla-the-missing-dog-treats/
LOCATION:Emmet O’ Neal Library\, 50 Oak Street\, Mountain Brook\, AL\, 35213
GEO:33.5012941;-86.7565774
X-APPLE-STRUCTURED-LOCATION;VALUE=URI;X-ADDRESS=Emmet O’ Neal Library 50 Oak Street Mountain Brook AL 35213;X-APPLE-RADIUS=500;X-TITLE=50 Oak Street:geo:-86.7565774,33.5012941
END:VEVENT
BEGIN:VEVENT
DTSTART;TZID=America/Chicago:20190717T093000
DTEND;TZID=America/Chicago:20190717T100000
DTSTAMP:20260421T201613
CREATED:20190720T181605Z
LAST-MODIFIED:20190720T181605Z
UID:30858-1563355800-1563357600@birminghammommy.com
SUMMARY:Mother Goose at Emmet O'Neal Library
DESCRIPTION:12 to 24 months with caregiver
URL:https://birminghammommy.com/event/mother-goose-at-emmet-oneal-library-6/
LOCATION:Emmet O’ Neal Library\, 50 Oak Street\, Mountain Brook\, AL\, 35213
GEO:33.5012941;-86.7565774
X-APPLE-STRUCTURED-LOCATION;VALUE=URI;X-ADDRESS=Emmet O’ Neal Library 50 Oak Street Mountain Brook AL 35213;X-APPLE-RADIUS=500;X-TITLE=50 Oak Street:geo:-86.7565774,33.5012941
END:VEVENT
BEGIN:VEVENT
DTSTART;TZID=America/Chicago:20190717T100000
DTEND;TZID=America/Chicago:20190717T160000
DTSTAMP:20260421T201613
CREATED:20190624T131124Z
LAST-MODIFIED:20190624T131124Z
UID:30764-1563357600-1563379200@birminghammommy.com
SUMMARY:LEGO Day at CHOM!
DESCRIPTION:LEGO Day at CHOM! \nWednesday\, July 17\, 2019 \n10 am – 4 pm \nAges 5 & older! \nLEGO Play \nLEGO Challenges \nEarthquake Table Test \nAges 4 & under:  DUPLO Play \nAll activities included with admission! \n 
URL:https://birminghammommy.com/event/lego-day-at-chom/
LOCATION:Children’s Hands-On Museum\, 2213 University Blvd.\, Tuscaloosa\, AL\, 35401\, United States
ATTACH;FMTTYPE=image/jpeg:https://birminghammommy.com/wp-content/uploads/2019/06/LEGO-Day-7-17.jpg
END:VEVENT
END:VCALENDAR