BEGIN:VCALENDAR
VERSION:2.0
PRODID:-//Birmingham Mommy - ECPv6.3.5//NONSGML v1.0//EN
CALSCALE:GREGORIAN
METHOD:PUBLISH
X-WR-CALNAME:Birmingham Mommy
X-ORIGINAL-URL:https://birminghammommy.com
X-WR-CALDESC:Events for Birmingham Mommy
REFRESH-INTERVAL;VALUE=DURATION:PT1H
X-Robots-Tag:noindex
X-PUBLISHED-TTL:PT1H
BEGIN:VTIMEZONE
TZID:America/Chicago
BEGIN:DAYLIGHT
TZOFFSETFROM:-0600
TZOFFSETTO:-0500
TZNAME:CDT
DTSTART:20190310T080000
END:DAYLIGHT
BEGIN:STANDARD
TZOFFSETFROM:-0500
TZOFFSETTO:-0600
TZNAME:CST
DTSTART:20191103T070000
END:STANDARD
END:VTIMEZONE
BEGIN:VEVENT
DTSTART;TZID=America/Chicago:20190707T163000
DTEND;TZID=America/Chicago:20190707T183000
DTSTAMP:20260421T155135
CREATED:20190423T131820Z
LAST-MODIFIED:20190423T131820Z
UID:29352-1562517000-1562524200@birminghammommy.com
SUMMARY:1818 Farms Bloom Stroll and Bouquet Workshop
DESCRIPTION:Spend a late afternoon touring the beautiful gardens at 1818 Farms. Natasha will identify her favorite varieties of heirloom flowers and herbs that are grown in her cutting gardens. Workshop participants will learn planting\, growing and seed saving tips for creating their own beautiful garden. Natasha will also demonstrate the best methods for cutting flowers when gathering them for arrangements. Following the garden tour\, participants will gather at the 1818 Farms pavilion where the hands on portion of the workshop will begin. Each participant will be provided with a gorgeous selection of fresh cut flowers and herbs gathered that morning at the farm. Natasha will discuss the basic steps to follow in order to create a stunning floral arrangement for any occasion.
URL:https://birminghammommy.com/event/1818-farms-bloom-stroll-and-bouquet-workshop-5/
LOCATION:1818 Farms\, 24889 Lauderdale Street\, Mooresville\, Alabama\, 35649\, Select a Country:
ATTACH;FMTTYPE=image/jpeg:https://birminghammommy.com/wp-content/uploads/2019/04/bloom-stroll-2-2.jpg
END:VEVENT
BEGIN:VEVENT
DTSTART;TZID=America/Chicago:20190708T093000
DTEND;TZID=America/Chicago:20190708T100000
DTSTAMP:20260421T155135
CREATED:20190627T154302Z
LAST-MODIFIED:20190627T154302Z
UID:30809-1562578200-1562580000@birminghammommy.com
SUMMARY:Toddler Tales at Emmet O'Neal Library
DESCRIPTION:24 to 36 months with caregiver
URL:https://birminghammommy.com/event/toddler-tales-at-emmet-oneal-library-5/
LOCATION:Emmet O’ Neal Library\, 50 Oak Street\, Mountain Brook\, AL\, 35213
GEO:33.5012941;-86.7565774
X-APPLE-STRUCTURED-LOCATION;VALUE=URI;X-ADDRESS=Emmet O’ Neal Library 50 Oak Street Mountain Brook AL 35213;X-APPLE-RADIUS=500;X-TITLE=50 Oak Street:geo:-86.7565774,33.5012941
END:VEVENT
BEGIN:VEVENT
DTSTART;TZID=America/Chicago:20190708T103000
DTEND;TZID=America/Chicago:20190708T110000
DTSTAMP:20260421T155135
CREATED:20190417T010939Z
LAST-MODIFIED:20190417T013643Z
UID:29261-1562581800-1562583600@birminghammommy.com
SUMMARY:Story Bunch With Ms. Christina at Homewood Library
DESCRIPTION:2019 (Preschool) Join Ms. Cristina for stories\, songs and lots of fun!
URL:https://birminghammommy.com/event/story-bunch-with-ms-christina-at-homewood-library-2/
LOCATION:Homewood Public Library\, 1721 Oxmoor Road\, Homewood\, AL\, 35209\, United States
GEO:33.4750533;-86.795404
X-APPLE-STRUCTURED-LOCATION;VALUE=URI;X-ADDRESS=Homewood Public Library 1721 Oxmoor Road Homewood AL 35209 United States;X-APPLE-RADIUS=500;X-TITLE=1721 Oxmoor Road:geo:-86.795404,33.4750533
END:VEVENT
BEGIN:VEVENT
DTSTART;TZID=America/Chicago:20190708T103000
DTEND;TZID=America/Chicago:20190708T110000
DTSTAMP:20260421T155135
CREATED:20190627T154302Z
LAST-MODIFIED:20190627T154302Z
UID:30811-1562581800-1562583600@birminghammommy.com
SUMMARY:Toddler Tales at Emmet O'Neal Library
DESCRIPTION:24 to 36 months with caregiver
URL:https://birminghammommy.com/event/toddler-tales-at-emmet-oneal-library-6/
LOCATION:Emmet O’ Neal Library\, 50 Oak Street\, Mountain Brook\, AL\, 35213
GEO:33.5012941;-86.7565774
X-APPLE-STRUCTURED-LOCATION;VALUE=URI;X-ADDRESS=Emmet O’ Neal Library 50 Oak Street Mountain Brook AL 35213;X-APPLE-RADIUS=500;X-TITLE=50 Oak Street:geo:-86.7565774,33.5012941
END:VEVENT
BEGIN:VEVENT
DTSTART;TZID=America/Chicago:20190708T110000
DTEND;TZID=America/Chicago:20190708T120000
DTSTAMP:20260421T155135
CREATED:20190604T124827Z
LAST-MODIFIED:20190604T124827Z
UID:30193-1562583600-1562587200@birminghammommy.com
SUMMARY:Mr. Bond's Science Guys at North Shelby Library
DESCRIPTION:This show is all about the universe and how we explore it! Dozens of interactive experiments about life in space\, rocket propulsion\, centrifugal force\, planets and orbits. Learn about the solar system with everyone’s favorite\, the Hoberman sphere!
URL:https://birminghammommy.com/event/mr-bonds-science-guys-at-north-shelby-library/
LOCATION:North Shelby Library\, 5521 Cahaba Valley Road\, Birmingham\, 35242\, United States
GEO:33.3646429;-86.71655
X-APPLE-STRUCTURED-LOCATION;VALUE=URI;X-ADDRESS=North Shelby Library 5521 Cahaba Valley Road Birmingham 35242 United States;X-APPLE-RADIUS=500;X-TITLE=5521 Cahaba Valley Road:geo:-86.71655,33.3646429
END:VEVENT
BEGIN:VEVENT
DTSTART;TZID=America/Chicago:20190708T140000
DTEND;TZID=America/Chicago:20190708T150000
DTSTAMP:20260421T155135
CREATED:20190604T124827Z
LAST-MODIFIED:20190604T124827Z
UID:30195-1562594400-1562598000@birminghammommy.com
SUMMARY:Mt Laurel Mr. Bond's Science Guys
DESCRIPTION:Come join us for some science fun with Mr. Bond’s Science Guys. This year’s program features interactive experiments about life in space\, rocket propulsion\, centrifugal force\, planets and orbits. Learn about the solar system with everyone’s favorite\, the Hoberman Sphere! Program will be held at the Double Oak Community Church Café. All ages welcome. No registration required.
URL:https://birminghammommy.com/event/mt-laurel-mr-bonds-science-guys/
LOCATION:North Shelby Library\, 5521 Cahaba Valley Road\, Birmingham\, 35242\, United States
GEO:33.3646429;-86.71655
X-APPLE-STRUCTURED-LOCATION;VALUE=URI;X-ADDRESS=North Shelby Library 5521 Cahaba Valley Road Birmingham 35242 United States;X-APPLE-RADIUS=500;X-TITLE=5521 Cahaba Valley Road:geo:-86.71655,33.3646429
END:VEVENT
BEGIN:VEVENT
DTSTART;TZID=America/Chicago:20190708T150000
DTEND;TZID=America/Chicago:20190708T163000
DTSTAMP:20260421T155135
CREATED:20190627T154302Z
LAST-MODIFIED:20190627T154302Z
UID:30813-1562598000-1562603400@birminghammommy.com
SUMMARY:Makercamp at Emmet O'Neal Library
DESCRIPTION:Session 2: July 8 & 10
URL:https://birminghammommy.com/event/makercamp-at-emmet-oneal-library/
LOCATION:Emmet O’ Neal Library\, 50 Oak Street\, Mountain Brook\, AL\, 35213
GEO:33.5012941;-86.7565774
X-APPLE-STRUCTURED-LOCATION;VALUE=URI;X-ADDRESS=Emmet O’ Neal Library 50 Oak Street Mountain Brook AL 35213;X-APPLE-RADIUS=500;X-TITLE=50 Oak Street:geo:-86.7565774,33.5012941
END:VEVENT
BEGIN:VEVENT
DTSTART;TZID=America/Chicago:20190708T160000
DTEND;TZID=America/Chicago:20190708T164500
DTSTAMP:20260421T155135
CREATED:20190427T171727Z
LAST-MODIFIED:20190427T171727Z
UID:29547-1562601600-1562604300@birminghammommy.com
SUMMARY:City Passport: Birmingham Botanical Gardens
DESCRIPTION:2019 (K-12 Grade) Join us on Monday afternoons as we learn about amazing organizations around our city through presentations\, crafts and books.
URL:https://birminghammommy.com/event/city-passport-birmingham-botanical-gardens/
LOCATION:Homewood Public Library\, 1721 Oxmoor Road\, Homewood\, AL\, 35209\, United States
GEO:33.4750533;-86.795404
X-APPLE-STRUCTURED-LOCATION;VALUE=URI;X-ADDRESS=Homewood Public Library 1721 Oxmoor Road Homewood AL 35209 United States;X-APPLE-RADIUS=500;X-TITLE=1721 Oxmoor Road:geo:-86.795404,33.4750533
END:VEVENT
BEGIN:VEVENT
DTSTART;TZID=America/Chicago:20190708T173000
DTEND;TZID=America/Chicago:20190708T190000
DTSTAMP:20260421T155135
CREATED:20190427T171727Z
LAST-MODIFIED:20190427T171727Z
UID:29549-1562607000-1562612400@birminghammommy.com
SUMMARY:Knight School Chess Tournament
DESCRIPTION:2019 (K-12 Grade) Join us for a monthly chess tournament where you will learn strategy and have fun in equal measure!
URL:https://birminghammommy.com/event/knight-school-chess-tournament/
LOCATION:Homewood Public Library\, Select a Country:
GEO:-12.0470469;-77.032263
END:VEVENT
BEGIN:VEVENT
DTSTART;TZID=America/Chicago:20190708T180000
DTEND;TZID=America/Chicago:20190708T190000
DTSTAMP:20260421T155135
CREATED:20190604T124827Z
LAST-MODIFIED:20190604T124827Z
UID:30197-1562608800-1562612400@birminghammommy.com
SUMMARY:Mr. Bond's Science Guys at North Shelby Library
DESCRIPTION:This show is all about the universe and how we explore it! Dozens of interactive experiments about life in space\, rocket propulsion\, centrifugal force\, planets and orbits. Learn about the solar system with everyone’s favorite\, the Hoberman sphere!
URL:https://birminghammommy.com/event/mr-bonds-science-guys-at-north-shelby-library-2/
LOCATION:North Shelby Library\, 5521 Cahaba Valley Road\, Birmingham\, 35242\, United States
GEO:33.3646429;-86.71655
X-APPLE-STRUCTURED-LOCATION;VALUE=URI;X-ADDRESS=North Shelby Library 5521 Cahaba Valley Road Birmingham 35242 United States;X-APPLE-RADIUS=500;X-TITLE=5521 Cahaba Valley Road:geo:-86.71655,33.3646429
END:VEVENT
BEGIN:VEVENT
DTSTART;TZID=America/Chicago:20190708T190500
DTEND;TZID=America/Chicago:20190708T220500
DTSTAMP:20260421T155135
CREATED:20190608T133056Z
LAST-MODIFIED:20190608T133056Z
UID:30580-1562612700-1562623500@birminghammommy.com
SUMMARY:Birmingham Barons at Regions Field
DESCRIPTION:V. Pensacola Blue Wahoos \n\n\n\n\n\n\n\n\n\n\n\n\n\n\n\n\n\n\n\n\n\n\nGame Highlight: Movin’ Mondays  \n\n\n\n\n\n\nGet Movin’ Mondays aim to support healthy living in the Magic City with pregame activities including yoga and runs\, healthy food options\, encouraging activity with laps around the concourse to view the game from every great angle available at Regions Field\, and good old-fashioned sunshine for vitamin D. | Presented By Aaron’s \n\n\n\n\n\n\n\n\n\n\n\n\n\n\n\n\n\n\n\n\n\n\n\nGeneral Admission seats remain the same price as in recent years with adult tickets available for $7.00. Children (12-years and younger)\, seniors (60 years and older) and members of the military receive $1.00 discounts on the listed prices for all reserved and general admission seats. General Admission seating is located in the right field bleachers and the berm seating areas.
URL:https://birminghammommy.com/event/birmingham-barons-at-regions-field-49/
LOCATION:Regions Field\, 1401 1st Avenue S\, Birmingham\, 35233
GEO:33.5075002;-86.8105789
X-APPLE-STRUCTURED-LOCATION;VALUE=URI;X-ADDRESS=Regions Field 1401 1st Avenue S Birmingham 35233;X-APPLE-RADIUS=500;X-TITLE=1401 1st Avenue S:geo:-86.8105789,33.5075002
END:VEVENT
BEGIN:VEVENT
DTSTART;TZID=America/Chicago:20190709T100000
DTEND;TZID=America/Chicago:20190709T110000
DTSTAMP:20260421T155135
CREATED:20190613T134100Z
LAST-MODIFIED:20190613T134100Z
UID:30691-1562666400-1562670000@birminghammommy.com
SUMMARY:The Little Red Hen
DESCRIPTION:You may have heard the story before\, the Little Red Hen asks for help making her bread but no one will come to her aid. That’s not the whole story though\, no sirree. There’s much more to it! Come see the true story of Miz Hen\, Useless the dog\, Priss the Cat\, and Clyde the up-to-no-good Coyote for this musical about how a little teamwork can go a long way.
URL:https://birminghammommy.com/event/the-little-red-hen/2019-07-09/
LOCATION:Birmingham Children’s Theatre\, 2130 Richard Arrington Jr Blvd N\, Birmingham\, 35203\, United States
ATTACH;FMTTYPE=image/jpeg:https://birminghammommy.com/wp-content/uploads/2019/06/Unknown-1.jpeg
ORGANIZER;CN="Birmingham Children's Theatre":MAILTO:info@bct123.org
END:VEVENT
BEGIN:VEVENT
DTSTART;TZID=America/Chicago:20190709T103000
DTEND;TZID=America/Chicago:20190709T111500
DTSTAMP:20260421T155135
CREATED:20190427T171727Z
LAST-MODIFIED:20190427T171727Z
UID:29551-1562668200-1562670900@birminghammommy.com
SUMMARY:Alabama Bicentennial: BE-AT Your Best
DESCRIPTION:2019 (All Ages) BE-AT your best with Mark Seymour and his musical exploration of Alabama!
URL:https://birminghammommy.com/event/alabama-bicentennial-be-at-your-best/
LOCATION:Homewood Public Library\, Select a Country:
GEO:-12.0470469;-77.032263
END:VEVENT
BEGIN:VEVENT
DTSTART;TZID=America/Chicago:20190709T140000
DTEND;TZID=America/Chicago:20190709T153000
DTSTAMP:20260421T155135
CREATED:20190604T124827Z
LAST-MODIFIED:20190604T124827Z
UID:30199-1562680800-1562686200@birminghammommy.com
SUMMARY:Craft Day at North Shelby Library
DESCRIPTION:Stop by anytime between 2:00 – 3:30 to work on a craft! \nAll ages. Registration required. Registration begins 1 week prior to craft date.
URL:https://birminghammommy.com/event/craft-day-at-north-shelby-library-2/
LOCATION:North Shelby Library\, 5521 Cahaba Valley Road\, Birmingham\, 35242\, United States
GEO:33.3646429;-86.71655
X-APPLE-STRUCTURED-LOCATION;VALUE=URI;X-ADDRESS=North Shelby Library 5521 Cahaba Valley Road Birmingham 35242 United States;X-APPLE-RADIUS=500;X-TITLE=5521 Cahaba Valley Road:geo:-86.71655,33.3646429
END:VEVENT
BEGIN:VEVENT
DTSTART;TZID=America/Chicago:20190709T153000
DTEND;TZID=America/Chicago:20190709T161500
DTSTAMP:20260421T155135
CREATED:20190417T010939Z
LAST-MODIFIED:20190417T013827Z
UID:29269-1562686200-1562688900@birminghammommy.com
SUMMARY:Sewing Circle at Homewood Library
DESCRIPTION:2019 (K-5 Grade) Learn basic sewing skills and complete simple projects in this fun sewing club for kids. Registration is required.
URL:https://birminghammommy.com/event/sewing-circle-at-homewood-library-3/
LOCATION:Homewood Public Library\, Select a Country:
GEO:-12.0470469;-77.032263
END:VEVENT
BEGIN:VEVENT
DTSTART;TZID=America/Chicago:20190709T153000
DTEND;TZID=America/Chicago:20190709T163000
DTSTAMP:20260421T155135
CREATED:20190627T154302Z
LAST-MODIFIED:20190627T154302Z
UID:30815-1562686200-1562689800@birminghammommy.com
SUMMARY:LOL: Go at Emmet O'Neal Library
DESCRIPTION:Game On for Kindergarten – 2nd graders
URL:https://birminghammommy.com/event/lol-go-at-emmet-oneal-library-3/
LOCATION:Emmet O’ Neal Library\, 50 Oak Street\, Mountain Brook\, AL\, 35213
GEO:33.5012941;-86.7565774
X-APPLE-STRUCTURED-LOCATION;VALUE=URI;X-ADDRESS=Emmet O’ Neal Library 50 Oak Street Mountain Brook AL 35213;X-APPLE-RADIUS=500;X-TITLE=50 Oak Street:geo:-86.7565774,33.5012941
END:VEVENT
BEGIN:VEVENT
DTSTART;TZID=America/Chicago:20190709T160000
DTEND;TZID=America/Chicago:20190709T170000
DTSTAMP:20260421T155135
CREATED:20190604T124827Z
LAST-MODIFIED:20190604T124827Z
UID:30201-1562688000-1562691600@birminghammommy.com
SUMMARY:Garden Gates at North Shelby Library
DESCRIPTION:An hour of hands-on STEM fun with a nature focus. \nDesigned for Ages 5 and up. Registration is required.
URL:https://birminghammommy.com/event/garden-gates-at-north-shelby-library-2/
LOCATION:North Shelby Library\, 5521 Cahaba Valley Road\, Birmingham\, 35242\, United States
GEO:33.3646429;-86.71655
X-APPLE-STRUCTURED-LOCATION;VALUE=URI;X-ADDRESS=North Shelby Library 5521 Cahaba Valley Road Birmingham 35242 United States;X-APPLE-RADIUS=500;X-TITLE=5521 Cahaba Valley Road:geo:-86.71655,33.3646429
END:VEVENT
BEGIN:VEVENT
DTSTART;TZID=America/Chicago:20190709T190500
DTEND;TZID=America/Chicago:20190709T220500
DTSTAMP:20260421T155135
CREATED:20190608T133304Z
LAST-MODIFIED:20190608T133304Z
UID:30582-1562699100-1562709900@birminghammommy.com
SUMMARY:Birmingham Barons at Regions Field
DESCRIPTION:V. Pensacola Blue Wahoos \n\n\n\n\n\n\n\n\n\n\n\n\n\n\n\n\n\n\n\n\n\n\nPromotion: T-Shirt Tuesday  \n\n\n\n\n\n\nThe first 1\,000 adults in attendance will recieve a free Barons inspired t-shirt. | Presented By Paycor \nGame Highlights (2): Dollar Hot Dogs  \n\n\n\n\n\n\nBring the entire family out for Dollar Hot Dog night! | Presented By Flowers Bakery & Kayem Franks \n\n\n\n\n\n\n\n\n Game Highlight:  UAB Night \n\n\n\n\n\n\n\n\n\n\n\n\n\n\n\n\n\n\n\n\n\n\n\n\n\n\n\n\n\nGeneral Admission seats remain the same price as in recent years with adult tickets available for $7.00. Children (12-years and younger)\, seniors (60 years and older) and members of the military receive $1.00 discounts on the listed prices for all reserved and general admission seats. General Admission seating is located in the right field bleachers and the berm seating areas.
URL:https://birminghammommy.com/event/birmingham-barons-at-regions-field-50/
LOCATION:Regions Field\, 1401 1st Avenue S\, Birmingham\, 35233
GEO:33.5075002;-86.8105789
X-APPLE-STRUCTURED-LOCATION;VALUE=URI;X-ADDRESS=Regions Field 1401 1st Avenue S Birmingham 35233;X-APPLE-RADIUS=500;X-TITLE=1401 1st Avenue S:geo:-86.8105789,33.5075002
END:VEVENT
BEGIN:VEVENT
DTSTART;TZID=America/Chicago:20190710T093000
DTEND;TZID=America/Chicago:20190710T100000
DTSTAMP:20260421T155135
CREATED:20190720T181605Z
LAST-MODIFIED:20190720T181605Z
UID:30823-1562751000-1562752800@birminghammommy.com
SUMMARY:Mother Goose at Emmet O'Neal Library
DESCRIPTION:12 to 24 months with caregiver
URL:https://birminghammommy.com/event/mother-goose-at-emmet-oneal-library-4/
LOCATION:Emmet O’ Neal Library\, 50 Oak Street\, Mountain Brook\, AL\, 35213
GEO:33.5012941;-86.7565774
X-APPLE-STRUCTURED-LOCATION;VALUE=URI;X-ADDRESS=Emmet O’ Neal Library 50 Oak Street Mountain Brook AL 35213;X-APPLE-RADIUS=500;X-TITLE=50 Oak Street:geo:-86.7565774,33.5012941
END:VEVENT
BEGIN:VEVENT
DTSTART;TZID=America/Chicago:20190710T103000
DTEND;TZID=America/Chicago:20190710T110000
DTSTAMP:20260421T155135
CREATED:20190430T175814Z
LAST-MODIFIED:20190430T175814Z
UID:29555-1562754600-1562756400@birminghammommy.com
SUMMARY:Storytime with Ms. Laura at Homewood Library
DESCRIPTION:2019 (Preschool) Join Ms. Laura for stories\, songs and lots of fun!
URL:https://birminghammommy.com/event/storytime-with-ms-laura-at-homewood-library/
LOCATION:Homewood Public Library\, Select a Country:
GEO:-12.0470469;-77.032263
END:VEVENT
BEGIN:VEVENT
DTSTART;TZID=America/Chicago:20190710T103000
DTEND;TZID=America/Chicago:20190710T110000
DTSTAMP:20260421T155135
CREATED:20190720T181605Z
LAST-MODIFIED:20190720T181605Z
UID:30829-1562754600-1562756400@birminghammommy.com
SUMMARY:Mother Goose at Emmet O'Neal Library
DESCRIPTION:12 to 24 months with caregiver
URL:https://birminghammommy.com/event/mother-goose-at-emmet-oneal-library-5/
LOCATION:Emmet O’ Neal Library\, 50 Oak Street\, Mountain Brook\, AL\, 35213
GEO:33.5012941;-86.7565774
X-APPLE-STRUCTURED-LOCATION;VALUE=URI;X-ADDRESS=Emmet O’ Neal Library 50 Oak Street Mountain Brook AL 35213;X-APPLE-RADIUS=500;X-TITLE=50 Oak Street:geo:-86.7565774,33.5012941
END:VEVENT
BEGIN:VEVENT
DTSTART;TZID=America/Chicago:20190710T104500
DTEND;TZID=America/Chicago:20190710T113000
DTSTAMP:20260421T155135
CREATED:20190608T190217Z
LAST-MODIFIED:20190608T190217Z
UID:30395-1562755500-1562758200@birminghammommy.com
SUMMARY:Family Storytime with Mr. Mac at North Shelby Library
DESCRIPTION:Stories\, puppets\, and lots of music for every member of the family. All Ages. No Registration.
URL:https://birminghammommy.com/event/family-storytime-with-mr-mac-at-north-shelby-library-2/
LOCATION:North Shelby Library\, 5521 Cahaba Valley Road\, Birmingham\, 35242\, United States
GEO:33.3646429;-86.71655
X-APPLE-STRUCTURED-LOCATION;VALUE=URI;X-ADDRESS=North Shelby Library 5521 Cahaba Valley Road Birmingham 35242 United States;X-APPLE-RADIUS=500;X-TITLE=5521 Cahaba Valley Road:geo:-86.71655,33.3646429
END:VEVENT
BEGIN:VEVENT
DTSTART;TZID=America/Chicago:20190710T120000
DTEND;TZID=America/Chicago:20190710T140000
DTSTAMP:20260421T155135
CREATED:20190604T124827Z
LAST-MODIFIED:20190604T124827Z
UID:30205-1562760000-1562767200@birminghammommy.com
SUMMARY:Mt Laurel Craft at North Shelby Library
DESCRIPTION:Drop in from 12-2 pm to create a different fun item. All ages with adult assistance. Registration is not required. Supplies limited.
URL:https://birminghammommy.com/event/mt-laurel-craft-at-north-shelby-library/
LOCATION:North Shelby Library\, 5521 Cahaba Valley Road\, Birmingham\, 35242\, United States
GEO:33.3646429;-86.71655
X-APPLE-STRUCTURED-LOCATION;VALUE=URI;X-ADDRESS=North Shelby Library 5521 Cahaba Valley Road Birmingham 35242 United States;X-APPLE-RADIUS=500;X-TITLE=5521 Cahaba Valley Road:geo:-86.71655,33.3646429
END:VEVENT
BEGIN:VEVENT
DTSTART;TZID=America/Chicago:20190710T133000
DTEND;TZID=America/Chicago:20190710T140000
DTSTAMP:20260421T155135
CREATED:20190720T181605Z
LAST-MODIFIED:20190720T181605Z
UID:30831-1562765400-1562767200@birminghammommy.com
SUMMARY:Movers & Makers at Emmet O'Neal Library
DESCRIPTION:preschoolers aged 3-5
URL:https://birminghammommy.com/event/movers-makers-at-emmet-oneal-library-2/
LOCATION:Emmet O’ Neal Library\, 50 Oak Street\, Mountain Brook\, AL\, 35213
GEO:33.5012941;-86.7565774
X-APPLE-STRUCTURED-LOCATION;VALUE=URI;X-ADDRESS=Emmet O’ Neal Library 50 Oak Street Mountain Brook AL 35213;X-APPLE-RADIUS=500;X-TITLE=50 Oak Street:geo:-86.7565774,33.5012941
END:VEVENT
BEGIN:VEVENT
DTSTART;TZID=America/Chicago:20190710T140000
DTEND;TZID=America/Chicago:20190710T150000
DTSTAMP:20260421T155135
CREATED:20190604T124827Z
LAST-MODIFIED:20190604T124827Z
UID:30207-1562767200-1562770800@birminghammommy.com
SUMMARY:Tween-Alien Optical 3-D Hands
DESCRIPTION:Registration begins 6/26/2019 at 8:00 AM
URL:https://birminghammommy.com/event/tween-alien-optical-3-d-hands/
LOCATION:North Shelby Library\, 5521 Cahaba Valley Road\, Birmingham\, 35242\, United States
GEO:33.3646429;-86.71655
X-APPLE-STRUCTURED-LOCATION;VALUE=URI;X-ADDRESS=North Shelby Library 5521 Cahaba Valley Road Birmingham 35242 United States;X-APPLE-RADIUS=500;X-TITLE=5521 Cahaba Valley Road:geo:-86.71655,33.3646429
END:VEVENT
BEGIN:VEVENT
DTSTART;TZID=America/Chicago:20190710T153000
DTEND;TZID=America/Chicago:20190710T161500
DTSTAMP:20260421T155135
CREATED:20190430T175814Z
LAST-MODIFIED:20190430T175814Z
UID:29557-1562772600-1562775300@birminghammommy.com
SUMMARY:Code-a-Story at Homewood Library
DESCRIPTION:(K-2 Grade) Learn coding basics through stories\, game and activities! Laptops will be provided. Registration is required.
URL:https://birminghammommy.com/event/code-a-story-at-homewood-library-4/
LOCATION:Homewood Public Library\, Select a Country:
GEO:-12.0470469;-77.032263
END:VEVENT
BEGIN:VEVENT
DTSTART;TZID=America/Chicago:20190711T093000
DTEND;TZID=America/Chicago:20190711T095000
DTSTAMP:20260421T155135
CREATED:20190720T181605Z
LAST-MODIFIED:20190720T181605Z
UID:30834-1562837400-1562838600@birminghammommy.com
SUMMARY:Patty Cake at Emmet O'Neal Library
DESCRIPTION:0 to 12 months with caregiver
URL:https://birminghammommy.com/event/patty-cake-at-emmet-oneal-library/
LOCATION:Emmet O’ Neal Library\, 50 Oak Street\, Mountain Brook\, AL\, 35213
GEO:33.5012941;-86.7565774
X-APPLE-STRUCTURED-LOCATION;VALUE=URI;X-ADDRESS=Emmet O’ Neal Library 50 Oak Street Mountain Brook AL 35213;X-APPLE-RADIUS=500;X-TITLE=50 Oak Street:geo:-86.7565774,33.5012941
END:VEVENT
BEGIN:VEVENT
DTSTART;TZID=America/Chicago:20190711T103000
DTEND;TZID=America/Chicago:20190711T105000
DTSTAMP:20260421T155135
CREATED:20190720T181605Z
LAST-MODIFIED:20190720T181605Z
UID:30836-1562841000-1562842200@birminghammommy.com
SUMMARY:Patty Cake at Emmet O'Neal Library
DESCRIPTION:0 to 12 months with caregiver
URL:https://birminghammommy.com/event/patty-cake-at-emmet-oneal-library-2/
LOCATION:Emmet O’ Neal Library\, 50 Oak Street\, Mountain Brook\, AL\, 35213
GEO:33.5012941;-86.7565774
X-APPLE-STRUCTURED-LOCATION;VALUE=URI;X-ADDRESS=Emmet O’ Neal Library 50 Oak Street Mountain Brook AL 35213;X-APPLE-RADIUS=500;X-TITLE=50 Oak Street:geo:-86.7565774,33.5012941
END:VEVENT
BEGIN:VEVENT
DTSTART;TZID=America/Chicago:20190711T103000
DTEND;TZID=America/Chicago:20190711T110000
DTSTAMP:20260421T155135
CREATED:20190604T124827Z
LAST-MODIFIED:20190604T124827Z
UID:30209-1562841000-1562842800@birminghammommy.com
SUMMARY:Toddler Tales at North Shelby Library
DESCRIPTION:Stories\, songs\, and fingerplays make up a lively 30 minute program designed especially for toddlers. Registration will begin one week prior to each storytime. Ages 19-36 months. Registration required and opens 1 week before program.
URL:https://birminghammommy.com/event/toddler-tales-at-north-shelby-library-5/
LOCATION:North Shelby Library\, 5521 Cahaba Valley Road\, Birmingham\, 35242\, United States
GEO:33.3646429;-86.71655
X-APPLE-STRUCTURED-LOCATION;VALUE=URI;X-ADDRESS=North Shelby Library 5521 Cahaba Valley Road Birmingham 35242 United States;X-APPLE-RADIUS=500;X-TITLE=5521 Cahaba Valley Road:geo:-86.71655,33.3646429
END:VEVENT
BEGIN:VEVENT
DTSTART;TZID=America/Chicago:20190711T110000
DTEND;TZID=America/Chicago:20190711T120000
DTSTAMP:20260421T155135
CREATED:20190430T175814Z
LAST-MODIFIED:20190430T175814Z
UID:29559-1562842800-1562846400@birminghammommy.com
SUMMARY:Storytime at Magic City Sweet Ice
DESCRIPTION:2019 (All Ages) Join us at Magic City Sweet Ice for a special summer storytime and a discount on a sweet treat!
URL:https://birminghammommy.com/event/storytime-at-magic-city-sweet-ice-2/
LOCATION:Magic City Sweet Ice\, 715 Oak Grove Rd\, Homewood\, 35209
END:VEVENT
END:VCALENDAR