BEGIN:VCALENDAR
VERSION:2.0
PRODID:-//Birmingham Mommy - ECPv6.3.5//NONSGML v1.0//EN
CALSCALE:GREGORIAN
METHOD:PUBLISH
X-WR-CALNAME:Birmingham Mommy
X-ORIGINAL-URL:https://birminghammommy.com
X-WR-CALDESC:Events for Birmingham Mommy
REFRESH-INTERVAL;VALUE=DURATION:PT1H
X-Robots-Tag:noindex
X-PUBLISHED-TTL:PT1H
BEGIN:VTIMEZONE
TZID:America/Chicago
BEGIN:DAYLIGHT
TZOFFSETFROM:-0600
TZOFFSETTO:-0500
TZNAME:CDT
DTSTART:20200308T080000
END:DAYLIGHT
BEGIN:STANDARD
TZOFFSETFROM:-0500
TZOFFSETTO:-0600
TZNAME:CST
DTSTART:20201101T070000
END:STANDARD
END:VTIMEZONE
BEGIN:VEVENT
DTSTART;TZID=America/Chicago:20200114T153000
DTEND;TZID=America/Chicago:20200114T161500
DTSTAMP:20260421T090103
CREATED:20191230T152520Z
LAST-MODIFIED:20191230T152520Z
UID:33163-1579015800-1579018500@birminghammommy.com
SUMMARY:Tween Bad Art
DESCRIPTION:(4-7 Grade) Why create good art when you can make bad art? \n\n\n\n\n\n\nJoin us for an afternoon of absolutely terrible art making. All supplies provided.
URL:https://birminghammommy.com/event/tween-bad-art/
LOCATION:Homewood Public Library\, 1721 Oxmoor Road\, Homewood\, AL\, 35209\, United States
GEO:33.4750533;-86.795404
X-APPLE-STRUCTURED-LOCATION;VALUE=URI;X-ADDRESS=Homewood Public Library 1721 Oxmoor Road Homewood AL 35209 United States;X-APPLE-RADIUS=500;X-TITLE=1721 Oxmoor Road:geo:-86.795404,33.4750533
END:VEVENT
BEGIN:VEVENT
DTSTART;TZID=America/Chicago:20200114T103000
DTEND;TZID=America/Chicago:20200114T111500
DTSTAMP:20260421T090103
CREATED:20191230T012730Z
LAST-MODIFIED:20191230T012730Z
UID:33101-1578997800-1579000500@birminghammommy.com
SUMMARY:Puppet Tales
DESCRIPTION:A new storytime filled with puppet fun! Watch stories and songs come alive through puppets and make a small puppet to take! Registration will begin two weeks prior to program date. \nDesigned for ages 2-5. Registration required.
URL:https://birminghammommy.com/event/puppet-tales-7/
LOCATION:North Shelby Library\, 5521 Cahaba Valley Road\, Birmingham\, AL\, 35242
GEO:33.3646429;-86.7165499
X-APPLE-STRUCTURED-LOCATION;VALUE=URI;X-ADDRESS=North Shelby Library 5521 Cahaba Valley Road Birmingham AL 35242;X-APPLE-RADIUS=500;X-TITLE=5521 Cahaba Valley Road:geo:-86.7165499,33.3646429
END:VEVENT
BEGIN:VEVENT
DTSTART;TZID=America/Chicago:20200114T103000
DTEND;TZID=America/Chicago:20200114T110000
DTSTAMP:20260421T090103
CREATED:20191108T155802Z
LAST-MODIFIED:20191108T155802Z
UID:32511-1578997800-1578999600@birminghammommy.com
SUMMARY:Happy 200th Birthday Alabama at Homewood Library
DESCRIPTION:2019 (All Ages) December 14\, 1819 is Alabama’s birthday\, and we are celebrating with special guests\, special giveaways and cake!
URL:https://birminghammommy.com/event/happy-200th-birthday-alabama-at-homewood-library/
LOCATION:Homewood Public Library\, 1721 Oxmoor Road\, Homewood\, AL\, 35209\, United States
GEO:33.4750533;-86.795404
X-APPLE-STRUCTURED-LOCATION;VALUE=URI;X-ADDRESS=Homewood Public Library 1721 Oxmoor Road Homewood AL 35209 United States;X-APPLE-RADIUS=500;X-TITLE=1721 Oxmoor Road:geo:-86.795404,33.4750533
END:VEVENT
BEGIN:VEVENT
DTSTART;TZID=America/Chicago:20200113T103000
DTEND;TZID=America/Chicago:20200113T110000
DTSTAMP:20260421T090103
CREATED:20191230T152359Z
LAST-MODIFIED:20191230T152359Z
UID:33161-1578911400-1578913200@birminghammommy.com
SUMMARY:Storypalooza
DESCRIPTION:(Preschool) Join Ms. Cristina for an interactive and playful storytime to start off the week!
URL:https://birminghammommy.com/event/storypalooza-9/
LOCATION:Homewood Public Library\, 1721 Oxmoor Road\, Homewood\, AL\, 35209\, United States
GEO:33.4750533;-86.795404
X-APPLE-STRUCTURED-LOCATION;VALUE=URI;X-ADDRESS=Homewood Public Library 1721 Oxmoor Road Homewood AL 35209 United States;X-APPLE-RADIUS=500;X-TITLE=1721 Oxmoor Road:geo:-86.795404,33.4750533
END:VEVENT
BEGIN:VEVENT
DTSTART;TZID=America/Chicago:20200113T100000
DTEND;TZID=America/Chicago:20200113T104500
DTSTAMP:20260421T090103
CREATED:20191230T152222Z
LAST-MODIFIED:20191230T152222Z
UID:33159-1578909600-1578912300@birminghammommy.com
SUMMARY:Homeschool STEAM Club
DESCRIPTION:(K-5 Grade) This lesson will be all about snow! Students will learn what happens when the temperature drops and there is moisture in the air. \n\n\n\n\n\n\nChildren will make their own “snow”. Register Online.
URL:https://birminghammommy.com/event/homeschool-steam-club-5/
LOCATION:Homewood Public Library\, 1721 Oxmoor Road\, Homewood\, AL\, 35209\, United States
GEO:33.4750533;-86.795404
X-APPLE-STRUCTURED-LOCATION;VALUE=URI;X-ADDRESS=Homewood Public Library 1721 Oxmoor Road Homewood AL 35209 United States;X-APPLE-RADIUS=500;X-TITLE=1721 Oxmoor Road:geo:-86.795404,33.4750533
END:VEVENT
BEGIN:VEVENT
DTSTART;TZID=America/Chicago:20200111T190000
DTEND;TZID=America/Chicago:20200111T220000
DTSTAMP:20260421T090103
CREATED:20191229T144946Z
LAST-MODIFIED:20191229T144946Z
UID:33047-1578769200-1578780000@birminghammommy.com
SUMMARY:Birmingham Bulls Hockey
DESCRIPTION:V. Roanoke \nAs You Walk Through the Door\, Your Hearts Starts Pumping! The irresistible lure of HOCKEY and the buzz of a packed house causes your ADRENALIN to surge. The music is PUMPING\, the lights fade and the smoke swirls – and that’s just the beginning. Monster hits\, UNBELIEVABLE GOALS and in-your-face hockey keeps you on the edge of your seat. The action is NON-STOP! With heart pounding music\, contests\, and the prospect of catching a fantastic FREE SOUVENIR\, what are you waiting for? Build your team’s SPIRIT by sharing in ours. It’s an EXPERIENCE to remember.
URL:https://birminghammommy.com/event/birmingham-bulls-hockey-32/
LOCATION:Pelham Civic Center and Ice Arena\, 500 Amphitheater Drive\, Pelham\, 35124\, United States
END:VEVENT
BEGIN:VEVENT
DTSTART;TZID=America/Chicago:20200111T103000
DTEND;TZID=America/Chicago:20200111T110000
DTSTAMP:20260421T090103
CREATED:20191230T151943Z
LAST-MODIFIED:20191230T151943Z
UID:33157-1578738600-1578740400@birminghammommy.com
SUMMARY:Baby and Me Storytime
DESCRIPTION:(Birth-12 Months) Join Ms. Mary for an educational and engaging storytime filled with songs\, fingerplays\, board books\, and stories.
URL:https://birminghammommy.com/event/baby-and-me-storytime-11/
LOCATION:Homewood Public Library\, 1721 Oxmoor Road\, Homewood\, AL\, 35209\, United States
GEO:33.4750533;-86.795404
X-APPLE-STRUCTURED-LOCATION;VALUE=URI;X-ADDRESS=Homewood Public Library 1721 Oxmoor Road Homewood AL 35209 United States;X-APPLE-RADIUS=500;X-TITLE=1721 Oxmoor Road:geo:-86.795404,33.4750533
END:VEVENT
BEGIN:VEVENT
DTSTART;TZID=America/Chicago:20200111T100000
DTEND;TZID=America/Chicago:20200111T140000
DTSTAMP:20260421T090103
CREATED:20191230T012602Z
LAST-MODIFIED:20191230T012602Z
UID:33099-1578736800-1578751200@birminghammommy.com
SUMMARY:Mt Laurel Crafty Saturday
DESCRIPTION:Drop in to make a craft at the library. All ages with parent help. Registration is not required but supplies are limited.
URL:https://birminghammommy.com/event/mt-laurel-crafty-saturday-9/
LOCATION:Mt Laurel Library\, 111 Olmsted St\, Birmingham\, AL\, 35242
GEO:33.4096347;-86.6292618
X-APPLE-STRUCTURED-LOCATION;VALUE=URI;X-ADDRESS=Mt Laurel Library 111 Olmsted St Birmingham AL 35242;X-APPLE-RADIUS=500;X-TITLE=111 Olmsted St:geo:-86.6292618,33.4096347
END:VEVENT
BEGIN:VEVENT
DTSTART;TZID=America/Chicago:20200111T090000
DTEND;TZID=America/Chicago:20200111T163000
DTSTAMP:20260421T090103
CREATED:20200110T201429Z
LAST-MODIFIED:20200110T201429Z
UID:33195-1578733200-1578760200@birminghammommy.com
SUMMARY:Treble at the Museum!
DESCRIPTION:Treble at the Museum! \nSaturday\, January 11\, 2020   9 – 4:30 pm \nTry out a variety of instruments! \nJam with our CHOM musicians! Assemble a musical craft! \n 
URL:https://birminghammommy.com/event/treble-at-the-museum-2/
LOCATION:Children’s Hands-On Museum\, 2213 University Blvd.\, Tuscaloosa\, AL\, 35401\, United States
ATTACH;FMTTYPE=image/jpeg:https://birminghammommy.com/wp-content/uploads/2020/01/Treble-at-the-Museum-1-11-20-RG.jpg
END:VEVENT
BEGIN:VEVENT
DTSTART;TZID=America/Chicago:20200110T153000
DTEND;TZID=America/Chicago:20200110T163000
DTSTAMP:20260421T090103
CREATED:20191227T015341Z
LAST-MODIFIED:20191227T015341Z
UID:33005-1578670200-1578673800@birminghammommy.com
SUMMARY:LEGO Club
DESCRIPTION:We’ll bring the blocks\, you bring the creativity! Build whatever you can imagine in our Children’s area. No registration required.
URL:https://birminghammommy.com/event/lego-club-9/
LOCATION:Parnell Memorial Library\, 277 Park Drive\, Montevallo\, 35115\, United States
ATTACH;FMTTYPE=image/jpeg:https://birminghammommy.com/wp-content/uploads/2019/12/LEGO.jpg
ORGANIZER;CN="Parnell Memorial Library":MAILTO:skitchens@shelbycounty-al.org
END:VEVENT
BEGIN:VEVENT
DTSTART;TZID=America/Chicago:20200110T103000
DTEND;TZID=America/Chicago:20200110T110000
DTSTAMP:20260421T090103
CREATED:20191230T151835Z
LAST-MODIFIED:20191230T151835Z
UID:33153-1578652200-1578654000@birminghammommy.com
SUMMARY:Leaps and Bounds
DESCRIPTION:(Ages 2-4) Join us for a fun and energetic movement class. Register online.
URL:https://birminghammommy.com/event/leaps-and-bounds-13/2020-01-10/
LOCATION:Homewood Public Library\, 1721 Oxmoor Road\, Homewood\, AL\, 35209\, United States
GEO:33.4750533;-86.795404
X-APPLE-STRUCTURED-LOCATION;VALUE=URI;X-ADDRESS=Homewood Public Library 1721 Oxmoor Road Homewood AL 35209 United States;X-APPLE-RADIUS=500;X-TITLE=1721 Oxmoor Road:geo:-86.795404,33.4750533
END:VEVENT
BEGIN:VEVENT
DTSTART;TZID=America/Chicago:20200110T100000
DTEND;TZID=America/Chicago:20200110T103000
DTSTAMP:20260421T090103
CREATED:20191230T151712Z
LAST-MODIFIED:20191230T151712Z
UID:33149-1578650400-1578652200@birminghammommy.com
SUMMARY:Leaps and Bounds
DESCRIPTION:(Ages 2-4) Join us for a fun and energetic movement class. Register online.
URL:https://birminghammommy.com/event/leaps-and-bounds-12/2020-01-10/
LOCATION:AL
END:VEVENT
BEGIN:VEVENT
DTSTART;TZID=America/Chicago:20200109T164500
DTEND;TZID=America/Chicago:20200109T174500
DTSTAMP:20260421T090103
CREATED:20191230T151458Z
LAST-MODIFIED:20191230T151458Z
UID:33147-1578588300-1578591900@birminghammommy.com
SUMMARY:Kid Coderz
DESCRIPTION:(2-3 Grade) This introductory coding class introduces coding basics. A laptop is not required\, but participants are encouraged to bring their own. Register online.
URL:https://birminghammommy.com/event/kid-coderz-8/
LOCATION:Homewood Public Library\, 1721 Oxmoor Road\, Homewood\, AL\, 35209\, United States
GEO:33.4750533;-86.795404
X-APPLE-STRUCTURED-LOCATION;VALUE=URI;X-ADDRESS=Homewood Public Library 1721 Oxmoor Road Homewood AL 35209 United States;X-APPLE-RADIUS=500;X-TITLE=1721 Oxmoor Road:geo:-86.795404,33.4750533
END:VEVENT
BEGIN:VEVENT
DTSTART;TZID=America/Chicago:20200109T153000
DTEND;TZID=America/Chicago:20200109T163000
DTSTAMP:20260421T090103
CREATED:20191230T151329Z
LAST-MODIFIED:20191230T151329Z
UID:33145-1578583800-1578587400@birminghammommy.com
SUMMARY:Kid Coderz
DESCRIPTION:This introductory coding class introduces coding basics. A laptop is not required\, but participants are encouraged to bring their own. Register online.
URL:https://birminghammommy.com/event/kid-coderz-7/
LOCATION:Homewood Public Library\, 1721 Oxmoor Road\, Homewood\, AL\, 35209\, United States
GEO:33.4750533;-86.795404
X-APPLE-STRUCTURED-LOCATION;VALUE=URI;X-ADDRESS=Homewood Public Library 1721 Oxmoor Road Homewood AL 35209 United States;X-APPLE-RADIUS=500;X-TITLE=1721 Oxmoor Road:geo:-86.795404,33.4750533
END:VEVENT
BEGIN:VEVENT
DTSTART;TZID=America/Chicago:20200109T093000
DTEND;TZID=America/Chicago:20200109T110000
DTSTAMP:20260421T090103
CREATED:20191230T020824Z
LAST-MODIFIED:20191230T020824Z
UID:33139-1578562200-1578567600@birminghammommy.com
SUMMARY:Preschool Playtime
DESCRIPTION:Join us for a morning of hands-on fun and imaginative play!
URL:https://birminghammommy.com/event/preschool-playtime-17/2020-01-09/
LOCATION:Homewood Public Library\, 1721 Oxmoor Road\, Homewood\, AL\, 35209\, United States
GEO:33.4750533;-86.795404
X-APPLE-STRUCTURED-LOCATION;VALUE=URI;X-ADDRESS=Homewood Public Library 1721 Oxmoor Road Homewood AL 35209 United States;X-APPLE-RADIUS=500;X-TITLE=1721 Oxmoor Road:geo:-86.795404,33.4750533
END:VEVENT
BEGIN:VEVENT
DTSTART;TZID=America/Chicago:20200108T193000
DTEND;TZID=America/Chicago:20200108T213000
DTSTAMP:20260421T090103
CREATED:20191208T221918Z
LAST-MODIFIED:20191208T221918Z
UID:32940-1578511800-1578519000@birminghammommy.com
SUMMARY:Birmingham Bulls Hockey
DESCRIPTION:V. Knoxville Ice Bears \nAs You Walk Through the Door\, Your Hearts Starts Pumping! The irresistible lure of HOCKEY and the buzz of a packed house causes your ADRENALIN to surge. The music is PUMPING\, the lights fade and the smoke swirls – and that’s just the beginning. Monster hits\, UNBELIEVABLE GOALS and in-your-face hockey keeps you on the edge of your seat. The action is NON-STOP! With heart pounding music\, contests\, and the prospect of catching a fantastic FREE SOUVENIR\, what are you waiting for? Build your team’s SPIRIT by sharing in ours. It’s an EXPERIENCE to remember.
URL:https://birminghammommy.com/event/birmingham-bulls-hockey-31/
LOCATION:Pelham Civic Center and Ice Arena\, 500 Amphitheater Drive\, Pelham\, 35124\, United States
END:VEVENT
BEGIN:VEVENT
DTSTART;TZID=America/Chicago:20200108T153000
DTEND;TZID=America/Chicago:20200108T161500
DTSTAMP:20260421T090103
CREATED:20191230T020514Z
LAST-MODIFIED:20191230T020514Z
UID:33137-1578497400-1578500100@birminghammommy.com
SUMMARY:Kids Create: DIY Funky Fun Sunglasses
DESCRIPTION:Kids will create their own fun\, funky glasses!
URL:https://birminghammommy.com/event/kids-create-diy-funky-fun-sunglasses/
LOCATION:Homewood Public Library\, 1721 Oxmoor Road\, Homewood\, AL\, 35209\, United States
GEO:33.4750533;-86.795404
X-APPLE-STRUCTURED-LOCATION;VALUE=URI;X-ADDRESS=Homewood Public Library 1721 Oxmoor Road Homewood AL 35209 United States;X-APPLE-RADIUS=500;X-TITLE=1721 Oxmoor Road:geo:-86.795404,33.4750533
END:VEVENT
BEGIN:VEVENT
DTSTART;TZID=America/Chicago:20200108T104500
DTEND;TZID=America/Chicago:20200108T113000
DTSTAMP:20260421T090103
CREATED:20191230T012406Z
LAST-MODIFIED:20191230T012406Z
UID:33094-1578480300-1578483000@birminghammommy.com
SUMMARY:Family Storytime with Mr Mac
DESCRIPTION:Stories\, puppets\, and lots of music for every member of the family. \nAll ages. No registration.
URL:https://birminghammommy.com/event/family-storytime-with-mr-mac-26/2020-01-08/
LOCATION:North Shelby Library\, 5521 Cahaba Valley Road\, Birmingham\, AL\, 35242
GEO:33.3646429;-86.7165499
X-APPLE-STRUCTURED-LOCATION;VALUE=URI;X-ADDRESS=North Shelby Library 5521 Cahaba Valley Road Birmingham AL 35242;X-APPLE-RADIUS=500;X-TITLE=5521 Cahaba Valley Road:geo:-86.7165499,33.3646429
END:VEVENT
BEGIN:VEVENT
DTSTART;TZID=America/Chicago:20200108T103000
DTEND;TZID=America/Chicago:20200108T110000
DTSTAMP:20260421T090103
CREATED:20191230T020250Z
LAST-MODIFIED:20191230T020250Z
UID:33135-1578479400-1578481200@birminghammommy.com
SUMMARY:Storytime at Your Biblioteca
DESCRIPTION:Join us for a special bilingual storytime in English and Spanish!
URL:https://birminghammommy.com/event/storytime-at-your-biblioteca-8/
LOCATION:Homewood Public Library\, 1721 Oxmoor Road\, Homewood\, AL\, 35209\, United States
GEO:33.4750533;-86.795404
X-APPLE-STRUCTURED-LOCATION;VALUE=URI;X-ADDRESS=Homewood Public Library 1721 Oxmoor Road Homewood AL 35209 United States;X-APPLE-RADIUS=500;X-TITLE=1721 Oxmoor Road:geo:-86.795404,33.4750533
END:VEVENT
BEGIN:VEVENT
DTSTART;TZID=America/Chicago:20200108T100000
DTEND;TZID=America/Chicago:20200108T110000
DTSTAMP:20260421T090103
CREATED:20191227T015341Z
LAST-MODIFIED:20191227T015341Z
UID:33000-1578477600-1578481200@birminghammommy.com
SUMMARY:Family Play Group
DESCRIPTION:Drop by for a fun time and a chance to play with friends and all our toddler toys. Open to children from birth-5 years accompanied by caregivers.
URL:https://birminghammommy.com/event/family-play-group-6/2020-01-08/
LOCATION:Parnell Memorial Library\, 277 Park Drive\, Montevallo\, 35115\, United States
ATTACH;FMTTYPE=image/jpeg:https://birminghammommy.com/wp-content/uploads/2019/12/Family-play-group.jpg
ORGANIZER;CN="Parnell Memorial Library":MAILTO:skitchens@shelbycounty-al.org
END:VEVENT
BEGIN:VEVENT
DTSTART;TZID=America/Chicago:20200108T091500
DTEND;TZID=America/Chicago:20200108T220000
DTSTAMP:20260421T090103
CREATED:20191220T022749Z
LAST-MODIFIED:20191220T022749Z
UID:32986-1578474900-1578520800@birminghammommy.com
SUMMARY:Storytime with Mr. Mac
DESCRIPTION:Stories and songs for kids and their caregivers\, featuring Mr. Mac! Free\, no registration required.
URL:https://birminghammommy.com/event/storytime-with-mr-mac-3/2020-01-08/
LOCATION:Parnell Memorial Library\, 277 Park Drive\, Montevallo\, 35115\, United States
CATEGORIES:StoryTime
ATTACH;FMTTYPE=image/jpeg:https://birminghammommy.com/wp-content/uploads/2019/12/Mr.-Mac.jpg
ORGANIZER;CN="Parnell Memorial Library":MAILTO:skitchens@shelbycounty-al.org
END:VEVENT
BEGIN:VEVENT
DTSTART;TZID=America/Chicago:20200107T103000
DTEND;TZID=America/Chicago:20200107T113000
DTSTAMP:20260421T090103
CREATED:20191230T012215Z
LAST-MODIFIED:20191230T012215Z
UID:33092-1578393000-1578396600@birminghammommy.com
SUMMARY:Preschool Playtime
DESCRIPTION:Caregivers\, stop by anytime between 10:30 am – 11:30 am and play at different learning/activity stations with your preschoolers. Ages 3-5. Caregiver supervision required. No registration.
URL:https://birminghammommy.com/event/preschool-playtime-16/
LOCATION:North Shelby Library\, 5521 Cahaba Valley Road\, Birmingham\, AL\, 35242
GEO:33.3646429;-86.7165499
X-APPLE-STRUCTURED-LOCATION;VALUE=URI;X-ADDRESS=North Shelby Library 5521 Cahaba Valley Road Birmingham AL 35242;X-APPLE-RADIUS=500;X-TITLE=5521 Cahaba Valley Road:geo:-86.7165499,33.3646429
END:VEVENT
BEGIN:VEVENT
DTSTART;TZID=America/Chicago:20200107T103000
DTEND;TZID=America/Chicago:20200107T110000
DTSTAMP:20260421T090103
CREATED:20191230T015826Z
LAST-MODIFIED:20191230T015826Z
UID:33129-1578393000-1578394800@birminghammommy.com
SUMMARY:Wee Ones Storytime
DESCRIPTION:Join Ms. Mary for a fun and energetic storytime for ages three and under. Small snack provided.
URL:https://birminghammommy.com/event/wee-ones-storytime-14/2020-01-07/
LOCATION:Homewood Public Library\, 1721 Oxmoor Road\, Homewood\, AL\, 35209\, United States
GEO:33.4750533;-86.795404
X-APPLE-STRUCTURED-LOCATION;VALUE=URI;X-ADDRESS=Homewood Public Library 1721 Oxmoor Road Homewood AL 35209 United States;X-APPLE-RADIUS=500;X-TITLE=1721 Oxmoor Road:geo:-86.795404,33.4750533
END:VEVENT
BEGIN:VEVENT
DTSTART;TZID=America/Chicago:20200107T093000
DTEND;TZID=America/Chicago:20200107T100000
DTSTAMP:20260421T090103
CREATED:20191230T015709Z
LAST-MODIFIED:20191230T015709Z
UID:33123-1578389400-1578391200@birminghammommy.com
SUMMARY:Wee Ones Storytime
DESCRIPTION:Join Ms. Mary for a fun and energetic storytime for ages three and under. Small snack provided.
URL:https://birminghammommy.com/event/wee-ones-storytime-13/2020-01-07/
LOCATION:Homewood Public Library\, 1721 Oxmoor Road\, Homewood\, AL\, 35209\, United States
GEO:33.4750533;-86.795404
X-APPLE-STRUCTURED-LOCATION;VALUE=URI;X-ADDRESS=Homewood Public Library 1721 Oxmoor Road Homewood AL 35209 United States;X-APPLE-RADIUS=500;X-TITLE=1721 Oxmoor Road:geo:-86.795404,33.4750533
END:VEVENT
BEGIN:VEVENT
DTSTART;TZID=America/Chicago:20200106T103000
DTEND;TZID=America/Chicago:20200106T111500
DTSTAMP:20260421T090103
CREATED:20191230T011940Z
LAST-MODIFIED:20191230T011940Z
UID:33088-1578306600-1578309300@birminghammommy.com
SUMMARY:Toddler Tales
DESCRIPTION:Stories\, songs\, and fingerplays make up a lively 30 minute program designed especially for toddlers. Registration will begin one week prior to each storytime. \n\n \nAges 19-36 months. Registration required and opens 1 week before program.
URL:https://birminghammommy.com/event/toddler-tales-24/2020-01-06/
LOCATION:North Shelby Library\, 5521 Cahaba Valley Road\, Birmingham\, AL\, 35242
GEO:33.3646429;-86.7165499
X-APPLE-STRUCTURED-LOCATION;VALUE=URI;X-ADDRESS=North Shelby Library 5521 Cahaba Valley Road Birmingham AL 35242;X-APPLE-RADIUS=500;X-TITLE=5521 Cahaba Valley Road:geo:-86.7165499,33.3646429
END:VEVENT
BEGIN:VEVENT
DTSTART;TZID=America/Chicago:20200106T103000
DTEND;TZID=America/Chicago:20200106T110000
DTSTAMP:20260421T090103
CREATED:20191230T015349Z
LAST-MODIFIED:20191230T015349Z
UID:33121-1578306600-1578308400@birminghammommy.com
SUMMARY:Storypalooza
DESCRIPTION:Join Ms. Cristina for an interactive and playful storytime to start off the week!
URL:https://birminghammommy.com/event/storypalooza-8/
LOCATION:Homewood Public Library\, 1721 Oxmoor Road\, Homewood\, AL\, 35209\, United States
GEO:33.4750533;-86.795404
X-APPLE-STRUCTURED-LOCATION;VALUE=URI;X-ADDRESS=Homewood Public Library 1721 Oxmoor Road Homewood AL 35209 United States;X-APPLE-RADIUS=500;X-TITLE=1721 Oxmoor Road:geo:-86.795404,33.4750533
END:VEVENT
BEGIN:VEVENT
DTSTART;TZID=America/Chicago:20200105T150000
DTEND;TZID=America/Chicago:20200105T154500
DTSTAMP:20260421T090103
CREATED:20191230T015215Z
LAST-MODIFIED:20191230T015215Z
UID:33119-1578236400-1578239100@birminghammommy.com
SUMMARY:Graphic Novel Club
DESCRIPTION:(2-5 Grade) Come and talk about the graphic novels you are reading\, make a cool craft and eat delicious snacks.
URL:https://birminghammommy.com/event/graphic-novel-club-3/
LOCATION:Homewood Public Library\, 1721 Oxmoor Road\, Homewood\, AL\, 35209\, United States
GEO:33.4750533;-86.795404
X-APPLE-STRUCTURED-LOCATION;VALUE=URI;X-ADDRESS=Homewood Public Library 1721 Oxmoor Road Homewood AL 35209 United States;X-APPLE-RADIUS=500;X-TITLE=1721 Oxmoor Road:geo:-86.795404,33.4750533
END:VEVENT
BEGIN:VEVENT
DTSTART;TZID=America/Chicago:20200105T140000
DTEND;TZID=America/Chicago:20200105T160000
DTSTAMP:20260421T090103
CREATED:20191229T144233Z
LAST-MODIFIED:20191229T144233Z
UID:33045-1578232800-1578240000@birminghammommy.com
SUMMARY:Monster Jam Triple Threat Series
DESCRIPTION:Featuring 8 skilled Monster Jam® athletes\, Birmingham fans will witness a fierce battle for the championship with each Triple Threat Series competitor tearing up the dirt in customized high-powered vehicles: Monster Jam Speedsters\, Monster Jam ATVs and of course\, the iconic Monster Jam trucks. These Monster Jam athletes will go head-to-head for points in Freestyle\, 2 Wheel Skills Challenge and several Racing competitions\, testing their agility\, speed and versatility. Newly added as a special fan bonus during Freestyle\, a Monster Jam driver will attempt Birmingham’s FIRST-EVER indoor arena-based Monster Jam truck back flip! Plus\, fans in every city can become part of the action by voting for the winner in the 2-Wheel Skills Challenge and Freestyle competitions via real-time\, in-arena fan voting on their smartphones.
URL:https://birminghammommy.com/event/monster-jam-triple-threat-series-8/
LOCATION:BJCC Legacy Arena\, 2100 Richard Arrington Jr Blvd\, Birmingham\, AL\, 35203
GEO:33.5249488;-86.8082265
X-APPLE-STRUCTURED-LOCATION;VALUE=URI;X-ADDRESS=BJCC Legacy Arena 2100 Richard Arrington Jr Blvd Birmingham AL 35203;X-APPLE-RADIUS=500;X-TITLE=2100 Richard Arrington Jr Blvd:geo:-86.8082265,33.5249488
END:VEVENT
BEGIN:VEVENT
DTSTART;TZID=America/Chicago:20200104T190000
DTEND;TZID=America/Chicago:20200104T210000
DTSTAMP:20260421T090103
CREATED:20191229T144115Z
LAST-MODIFIED:20191229T144115Z
UID:33043-1578164400-1578171600@birminghammommy.com
SUMMARY:Monster Jam Triple Threat Series
DESCRIPTION:Featuring 8 skilled Monster Jam® athletes\, Birmingham fans will witness a fierce battle for the championship with each Triple Threat Series competitor tearing up the dirt in customized high-powered vehicles: Monster Jam Speedsters\, Monster Jam ATVs and of course\, the iconic Monster Jam trucks. These Monster Jam athletes will go head-to-head for points in Freestyle\, 2 Wheel Skills Challenge and several Racing competitions\, testing their agility\, speed and versatility. Newly added as a special fan bonus during Freestyle\, a Monster Jam driver will attempt Birmingham’s FIRST-EVER indoor arena-based Monster Jam truck back flip! Plus\, fans in every city can become part of the action by voting for the winner in the 2-Wheel Skills Challenge and Freestyle competitions via real-time\, in-arena fan voting on their smartphones.
URL:https://birminghammommy.com/event/monster-jam-triple-threat-series-7/
LOCATION:BJCC Legacy Arena\, 2100 Richard Arrington Jr Blvd\, Birmingham\, AL\, 35203
GEO:33.5249488;-86.8082265
X-APPLE-STRUCTURED-LOCATION;VALUE=URI;X-ADDRESS=BJCC Legacy Arena 2100 Richard Arrington Jr Blvd Birmingham AL 35203;X-APPLE-RADIUS=500;X-TITLE=2100 Richard Arrington Jr Blvd:geo:-86.8082265,33.5249488
END:VEVENT
BEGIN:VEVENT
DTSTART;TZID=America/Chicago:20200104T130000
DTEND;TZID=America/Chicago:20200104T150000
DTSTAMP:20260421T090103
CREATED:20191229T144006Z
LAST-MODIFIED:20191229T144006Z
UID:33041-1578142800-1578150000@birminghammommy.com
SUMMARY:Monster Jam Triple Threat Series
DESCRIPTION:Featuring 8 skilled Monster Jam® athletes\, Birmingham fans will witness a fierce battle for the championship with each Triple Threat Series competitor tearing up the dirt in customized high-powered vehicles: Monster Jam Speedsters\, Monster Jam ATVs and of course\, the iconic Monster Jam trucks. These Monster Jam athletes will go head-to-head for points in Freestyle\, 2 Wheel Skills Challenge and several Racing competitions\, testing their agility\, speed and versatility. Newly added as a special fan bonus during Freestyle\, a Monster Jam driver will attempt Birmingham’s FIRST-EVER indoor arena-based Monster Jam truck back flip! Plus\, fans in every city can become part of the action by voting for the winner in the 2-Wheel Skills Challenge and Freestyle competitions via real-time\, in-arena fan voting on their smartphones.
URL:https://birminghammommy.com/event/monster-jam-triple-threat-series-6/
LOCATION:BJCC Legacy Arena\, 2100 Richard Arrington Jr Blvd\, Birmingham\, AL\, 35203
GEO:33.5249488;-86.8082265
X-APPLE-STRUCTURED-LOCATION;VALUE=URI;X-ADDRESS=BJCC Legacy Arena 2100 Richard Arrington Jr Blvd Birmingham AL 35203;X-APPLE-RADIUS=500;X-TITLE=2100 Richard Arrington Jr Blvd:geo:-86.8082265,33.5249488
END:VEVENT
END:VCALENDAR