BEGIN:VCALENDAR
VERSION:2.0
PRODID:-//Birmingham Mommy - ECPv6.3.5//NONSGML v1.0//EN
CALSCALE:GREGORIAN
METHOD:PUBLISH
X-WR-CALNAME:Birmingham Mommy
X-ORIGINAL-URL:https://birminghammommy.com
X-WR-CALDESC:Events for Birmingham Mommy
REFRESH-INTERVAL;VALUE=DURATION:PT1H
X-Robots-Tag:noindex
X-PUBLISHED-TTL:PT1H
BEGIN:VTIMEZONE
TZID:America/Chicago
BEGIN:DAYLIGHT
TZOFFSETFROM:-0600
TZOFFSETTO:-0500
TZNAME:CDT
DTSTART:20200308T080000
END:DAYLIGHT
BEGIN:STANDARD
TZOFFSETFROM:-0500
TZOFFSETTO:-0600
TZNAME:CST
DTSTART:20201101T070000
END:STANDARD
END:VTIMEZONE
BEGIN:VEVENT
DTSTART;TZID=America/Chicago:20200127T100000
DTEND;TZID=America/Chicago:20200127T104500
DTSTAMP:20260421T120309
CREATED:20191230T154930Z
LAST-MODIFIED:20191230T154930Z
UID:33184-1580119200-1580121900@birminghammommy.com
SUMMARY:Homeschool STEAM Club
DESCRIPTION:(K-5 Grade) Fizz\, Boom\, Bang! Time for Superhero Science. Experiments will be presented for super strength\, flight\, and the benefits of chemistry knowledge.
URL:https://birminghammommy.com/event/homeschool-steam-club-6/
LOCATION:Homewood Public Library\, 1721 Oxmoor Road\, Homewood\, AL\, 35209\, United States
GEO:33.4750533;-86.795404
X-APPLE-STRUCTURED-LOCATION;VALUE=URI;X-ADDRESS=Homewood Public Library 1721 Oxmoor Road Homewood AL 35209 United States;X-APPLE-RADIUS=500;X-TITLE=1721 Oxmoor Road:geo:-86.795404,33.4750533
END:VEVENT
BEGIN:VEVENT
DTSTART;TZID=America/Chicago:20200125T190000
DTEND;TZID=America/Chicago:20200125T220000
DTSTAMP:20260421T120309
CREATED:20191229T145330Z
LAST-MODIFIED:20191229T145330Z
UID:33051-1579978800-1579989600@birminghammommy.com
SUMMARY:Birmingham Bulls Hockey
DESCRIPTION:V. Hunstville \nAs You Walk Through the Door\, Your Hearts Starts Pumping! The irresistible lure of HOCKEY and the buzz of a packed house causes your ADRENALIN to surge. The music is PUMPING\, the lights fade and the smoke swirls – and that’s just the beginning. Monster hits\, UNBELIEVABLE GOALS and in-your-face hockey keeps you on the edge of your seat. The action is NON-STOP! With heart pounding music\, contests\, and the prospect of catching a fantastic FREE SOUVENIR\, what are you waiting for? Build your team’s SPIRIT by sharing in ours. It’s an EXPERIENCE to remember.
URL:https://birminghammommy.com/event/birmingham-bulls-hockey-34/
LOCATION:Pelham Civic Center and Ice Arena\, 500 Amphitheater Drive\, Pelham\, 35124\, United States
END:VEVENT
BEGIN:VEVENT
DTSTART;TZID=America/Chicago:20200125T110000
DTEND;TZID=America/Chicago:20200125T130000
DTSTAMP:20260421T120309
CREATED:20191230T014405Z
LAST-MODIFIED:20191230T014405Z
UID:33113-1579950000-1579957200@birminghammommy.com
SUMMARY:Mt Laurel LEGO Club
DESCRIPTION:The library provides the Legos\, the kids provide the imagination and creativity. Families are welcome to drop in anytime between 11 and 1 to build spectacular creations which will be displayed in the library.
URL:https://birminghammommy.com/event/mt-laurel-lego-club-16/
LOCATION:Mt Laurel Library\, 111 Olmsted St\, Birmingham\, AL\, 35242
GEO:33.4096347;-86.6292618
X-APPLE-STRUCTURED-LOCATION;VALUE=URI;X-ADDRESS=Mt Laurel Library 111 Olmsted St Birmingham AL 35242;X-APPLE-RADIUS=500;X-TITLE=111 Olmsted St:geo:-86.6292618,33.4096347
END:VEVENT
BEGIN:VEVENT
DTSTART;TZID=America/Chicago:20200125T090000
DTEND;TZID=America/Chicago:20200125T163000
DTSTAMP:20260421T120309
CREATED:20200110T201429Z
LAST-MODIFIED:20200110T201429Z
UID:33199-1579942800-1579969800@birminghammommy.com
SUMMARY:Chinese New Year at CHOM!
DESCRIPTION:Chinese New Year at CHOM! \nSaturday\, January 24\, 2020   9 – 4:30 pm \nRing in the “Year of the Rat” with CHOM\, \nAs we celebrate the Lunar New Year! \nMake a paper drum! \nDesign a Chinese Fan! \nCreate a tangerine rat! \nAll activities included with admission! \n 
URL:https://birminghammommy.com/event/chinese-new-year-at-chom-2/
LOCATION:Children’s Hands-On Museum\, 2213 University Blvd.\, Tuscaloosa\, AL\, 35401\, United States
ATTACH;FMTTYPE=image/jpeg:https://birminghammommy.com/wp-content/uploads/2020/01/Chinese-New-Year-1-25-20-RG.jpg
END:VEVENT
BEGIN:VEVENT
DTSTART;TZID=America/Chicago:20200124T153000
DTEND;TZID=America/Chicago:20200124T163000
DTSTAMP:20260421T120309
CREATED:20191227T015341Z
LAST-MODIFIED:20191227T015341Z
UID:33015-1579879800-1579883400@birminghammommy.com
SUMMARY:Playdoh club
DESCRIPTION:You bring the creativity\, we’ll bring the playdough! Free\, no registration required.
URL:https://birminghammommy.com/event/playdoh-club/
LOCATION:Parnell Memorial Library\, 277 Park Drive\, Montevallo\, 35115\, United States
ATTACH;FMTTYPE=image/jpeg:https://birminghammommy.com/wp-content/uploads/2019/12/Playdoh.jpg
ORGANIZER;CN="Parnell Memorial Library":MAILTO:skitchens@shelbycounty-al.org
END:VEVENT
BEGIN:VEVENT
DTSTART;TZID=America/Chicago:20200123T160000
DTEND;TZID=America/Chicago:20200123T163000
DTSTAMP:20260421T120309
CREATED:20191230T014222Z
LAST-MODIFIED:20191230T014222Z
UID:33111-1579795200-1579797000@birminghammommy.com
SUMMARY:Mt Laurel Squirrel Craft
DESCRIPTION:Don’t be scared to come by the library for a nutty squirrel story\, craft and snack. All ages.
URL:https://birminghammommy.com/event/mt-laurel-squirrel-craft/
LOCATION:Mt Laurel Library\, 111 Olmsted St\, Birmingham\, AL\, 35242
GEO:33.4096347;-86.6292618
X-APPLE-STRUCTURED-LOCATION;VALUE=URI;X-ADDRESS=Mt Laurel Library 111 Olmsted St Birmingham AL 35242;X-APPLE-RADIUS=500;X-TITLE=111 Olmsted St:geo:-86.6292618,33.4096347
END:VEVENT
BEGIN:VEVENT
DTSTART;TZID=America/Chicago:20200122T153000
DTEND;TZID=America/Chicago:20200122T161500
DTSTAMP:20260421T120309
CREATED:20191230T154428Z
LAST-MODIFIED:20191230T154428Z
UID:33182-1579707000-1579709700@birminghammommy.com
SUMMARY:Kids Create: Slime Lab
DESCRIPTION:(K-5 Grade) Join us for an afternoon of ooze and goo in our Slime Lab!
URL:https://birminghammommy.com/event/kids-create-slime-lab-3/
LOCATION:Homewood Public Library\, 1721 Oxmoor Road\, Homewood\, AL\, 35209\, United States
GEO:33.4750533;-86.795404
X-APPLE-STRUCTURED-LOCATION;VALUE=URI;X-ADDRESS=Homewood Public Library 1721 Oxmoor Road Homewood AL 35209 United States;X-APPLE-RADIUS=500;X-TITLE=1721 Oxmoor Road:geo:-86.795404,33.4750533
END:VEVENT
BEGIN:VEVENT
DTSTART;TZID=America/Chicago:20200121T153000
DTEND;TZID=America/Chicago:20200121T170000
DTSTAMP:20260421T120309
CREATED:20191230T154102Z
LAST-MODIFIED:20191230T154102Z
UID:33180-1579620600-1579626000@birminghammommy.com
SUMMARY:DisneyNature Penguins
DESCRIPTION:Just in time for World Penguin Day \n\n\n\n\n\n\nDisneynature’s all-new feature film Penguins is a coming-of-age story about an Adélie penguin named Steve who joins millions of fellow males in the icy Antarctic spring on a quest to build a suitable nest\, find a life partner and start a family.
URL:https://birminghammommy.com/event/disneynature-penguins/
LOCATION:Homewood Public Library\, 1721 Oxmoor Road\, Homewood\, AL\, 35209\, United States
GEO:33.4750533;-86.795404
X-APPLE-STRUCTURED-LOCATION;VALUE=URI;X-ADDRESS=Homewood Public Library 1721 Oxmoor Road Homewood AL 35209 United States;X-APPLE-RADIUS=500;X-TITLE=1721 Oxmoor Road:geo:-86.795404,33.4750533
END:VEVENT
BEGIN:VEVENT
DTSTART;TZID=America/Chicago:20200121T151500
DTEND;TZID=America/Chicago:20200121T160000
DTSTAMP:20260421T120309
CREATED:20191227T015341Z
LAST-MODIFIED:20191227T015341Z
UID:33013-1579619700-1579622400@birminghammommy.com
SUMMARY:Kid's Craft
DESCRIPTION:Join us for a hands-on craft\, perfect for kids in elementary school. Call the library to register.
URL:https://birminghammommy.com/event/kids-craft-2/
LOCATION:Parnell Memorial Library\, 277 Park Drive\, Montevallo\, 35115\, United States
ATTACH;FMTTYPE=image/jpeg:https://birminghammommy.com/wp-content/uploads/2019/12/Crafts.jpg
ORGANIZER;CN="Parnell Memorial Library":MAILTO:skitchens@shelbycounty-al.org
END:VEVENT
BEGIN:VEVENT
DTSTART;TZID=America/Chicago:20200121T103000
DTEND;TZID=America/Chicago:20200121T113000
DTSTAMP:20260421T120309
CREATED:20191230T014023Z
LAST-MODIFIED:20191230T014023Z
UID:33109-1579602600-1579606200@birminghammommy.com
SUMMARY:Preschool Kitchen Science: Snowy Science
DESCRIPTION:Let it snow with some snowy science with Ms. Jan! Preschool Ages 3-5.  Registration required.
URL:https://birminghammommy.com/event/preschool-kitchen-science-snowy-science/
LOCATION:North Shelby Library\, 5521 Cahaba Valley Road\, Birmingham\, AL\, 35242
GEO:33.3646429;-86.7165499
X-APPLE-STRUCTURED-LOCATION;VALUE=URI;X-ADDRESS=North Shelby Library 5521 Cahaba Valley Road Birmingham AL 35242;X-APPLE-RADIUS=500;X-TITLE=5521 Cahaba Valley Road:geo:-86.7165499,33.3646429
END:VEVENT
BEGIN:VEVENT
DTSTART;TZID=America/Chicago:20200121T103000
DTEND;TZID=America/Chicago:20200121T113000
DTSTAMP:20260421T120309
CREATED:20191230T013643Z
LAST-MODIFIED:20191230T013643Z
UID:33107-1579602600-1579606200@birminghammommy.com
SUMMARY:Mt Laurel Puppet Tales
DESCRIPTION:A storytime filled with puppet fun! Watch stories and songs come alive through puppets and make a small puppet to take. Suited for ages 2-5. Registration required.
URL:https://birminghammommy.com/event/mt-laurel-puppet-tales-8/
LOCATION:Mt Laurel Library\, 111 Olmsted St\, Birmingham\, AL\, 35242
GEO:33.4096347;-86.6292618
X-APPLE-STRUCTURED-LOCATION;VALUE=URI;X-ADDRESS=Mt Laurel Library 111 Olmsted St Birmingham AL 35242;X-APPLE-RADIUS=500;X-TITLE=111 Olmsted St:geo:-86.6292618,33.4096347
END:VEVENT
BEGIN:VEVENT
DTSTART;TZID=America/Chicago:20200121T100000
DTEND;TZID=America/Chicago:20200121T110000
DTSTAMP:20260421T120309
CREATED:20191227T015341Z
LAST-MODIFIED:20191227T015341Z
UID:33017-1579600800-1579604400@birminghammommy.com
SUMMARY:Free Tinkergarten Trial Classes
DESCRIPTION:Join us as we paint the winter sky during this free\, fun\, family Tinkergarten event! \nTinkergarten is a research-based program designed to help kids develop and get ready for school and life through outdoor\, play-based learning activities. To the kids\, it’s a chance to connect with nature\, wonder and solve problems\, move their bodies\, make friends and have fun. For adults\, it’s a chance to connect with like-minded parents and learn creative and effective ways to play and learn with our kids. \nIt’s all based on best practices and the science of early learning\, and it’s happening in all but one state in the country. And now it’s in Birmingham!
URL:https://birminghammommy.com/event/free-tinkergarten-trial-classes/
LOCATION:McCallum Park\, 3332 Rosemary Lane\, Vestavia Hills\, AL\, 35216\, United States
ATTACH;FMTTYPE=image/jpeg:https://birminghammommy.com/wp-content/uploads/2019/12/A2825F1A-6BFF-439A-920E-804814C295A6.jpeg
ORGANIZER;CN="Tinkergarten":MAILTO:Emilygardnerpeterson@gmail.com
END:VEVENT
BEGIN:VEVENT
DTSTART;TZID=America/Chicago:20200120T130000
DTEND;TZID=America/Chicago:20200120T160000
DTSTAMP:20260421T120309
CREATED:20191229T145131Z
LAST-MODIFIED:20191229T145131Z
UID:33049-1579525200-1579536000@birminghammommy.com
SUMMARY:Birmingham Bulls Hockey
DESCRIPTION:V. Knoxville \nAs You Walk Through the Door\, Your Hearts Starts Pumping! The irresistible lure of HOCKEY and the buzz of a packed house causes your ADRENALIN to surge. The music is PUMPING\, the lights fade and the smoke swirls – and that’s just the beginning. Monster hits\, UNBELIEVABLE GOALS and in-your-face hockey keeps you on the edge of your seat. The action is NON-STOP! With heart pounding music\, contests\, and the prospect of catching a fantastic FREE SOUVENIR\, what are you waiting for? Build your team’s SPIRIT by sharing in ours. It’s an EXPERIENCE to remember.
URL:https://birminghammommy.com/event/birmingham-bulls-hockey-33/
LOCATION:Pelham Civic Center and Ice Arena\, 500 Amphitheater Drive\, Pelham\, 35124\, United States
END:VEVENT
BEGIN:VEVENT
DTSTART;TZID=America/Chicago:20200118T140000
DTEND;TZID=America/Chicago:20200118T150000
DTSTAMP:20260421T120309
CREATED:20191230T013321Z
LAST-MODIFIED:20191230T013321Z
UID:33105-1579356000-1579359600@birminghammommy.com
SUMMARY:Harry Potter Family Trivia
DESCRIPTION:Register your family team (minimum of 2 people and maximum of 5 people) and test your knowledge about the Harry Potter book series! Feel free to come in costume or wear your House colors! Refreshments will be provided. All ages family event. Teams must be formed and registered prior to the event. Register at the Children’s Librarian desk or call 205-439-5504
URL:https://birminghammommy.com/event/harry-potter-family-trivia/
LOCATION:North Shelby Library\, 5521 Cahaba Valley Road\, Birmingham\, AL\, 35242
GEO:33.3646429;-86.7165499
X-APPLE-STRUCTURED-LOCATION;VALUE=URI;X-ADDRESS=North Shelby Library 5521 Cahaba Valley Road Birmingham AL 35242;X-APPLE-RADIUS=500;X-TITLE=5521 Cahaba Valley Road:geo:-86.7165499,33.3646429
END:VEVENT
BEGIN:VEVENT
DTSTART;TZID=America/Chicago:20200118T103000
DTEND;TZID=America/Chicago:20200118T111500
DTSTAMP:20260421T120309
CREATED:20191230T153550Z
LAST-MODIFIED:20191230T153550Z
UID:33178-1579343400-1579346100@birminghammommy.com
SUMMARY:Winnie the Pooh Party
DESCRIPTION:(All Ages) Celebrate one of our beloved book characters with some bear-y fun games\, buzzing crafts\, and sweet snacks!
URL:https://birminghammommy.com/event/winnie-the-pooh-party/
LOCATION:Homewood Public Library\, 1721 Oxmoor Road\, Homewood\, AL\, 35209\, United States
GEO:33.4750533;-86.795404
X-APPLE-STRUCTURED-LOCATION;VALUE=URI;X-ADDRESS=Homewood Public Library 1721 Oxmoor Road Homewood AL 35209 United States;X-APPLE-RADIUS=500;X-TITLE=1721 Oxmoor Road:geo:-86.795404,33.4750533
END:VEVENT
BEGIN:VEVENT
DTSTART;TZID=America/Chicago:20200118T100000
DTEND;TZID=America/Chicago:20200118T160000
DTSTAMP:20260421T120309
CREATED:20191208T222413Z
LAST-MODIFIED:20191208T222413Z
UID:32942-1579341600-1579363200@birminghammommy.com
SUMMARY:BrickFair Alabama
DESCRIPTION:Attention LEGO fans – BrickFair is coming to Birmingham\, Alabama! \nBrickFair is the ultimate experience for LEGO fans! A family friendly and fun event – at BrickFair you’ll find tons of amazing custom creations made from millions of LEGO bricks\, hands-on games and activities\, vendors selling all sorts of unique LEGO related items\, and much much more! \nCome out to BrickFair for a day of fun\, leave inspired and excited to build the future. \n⏰ Hours & 🎟️ Tickets\n⠀\nSaturday January 18th & Sunday January 19th \nAll Day Saturday from 10am – 5pm = $13/person\nAfternoon Saturday from 1pm – 5pm = $8.50/person* \nAll Day Sunday from 10am – 4pm = $12/person\nAfternoon Sunday from 1pm – 4pm = $8.25/person* \n*We are trying something new this year. For those who are unable to attend until late in the day\, we are offering half day tickets! This way you can still enjoy the fun for a little less! \n**HALF DAY TICKETS CAN ONLY PURCHASED THROUGH WEBSITE. You will be unable to purchase them at the door. \n*** TICKETS WILL BE $14 AT THE DOOR DAY OF EVENT ***
URL:https://birminghammommy.com/event/brickfair-alabama/2020-01-18/
LOCATION:BJCC Exhibition Halls\, 2100 Richard Arrington Jr Blvd North\, Birmingham\, AL\, 35203
GEO:33.5249488;-86.8082265
X-APPLE-STRUCTURED-LOCATION;VALUE=URI;X-ADDRESS=BJCC Exhibition Halls 2100 Richard Arrington Jr Blvd North Birmingham AL 35203;X-APPLE-RADIUS=500;X-TITLE=2100 Richard Arrington Jr Blvd North:geo:-86.8082265,33.5249488
END:VEVENT
BEGIN:VEVENT
DTSTART;TZID=America/Chicago:20200118T100000
DTEND;TZID=America/Chicago:20200118T110000
DTSTAMP:20260421T120309
CREATED:20191227T015341Z
LAST-MODIFIED:20191227T015341Z
UID:33011-1579341600-1579345200@birminghammommy.com
SUMMARY:Family Play Group
DESCRIPTION:Drop by for a fun time and a chance to play with friends and all our toddler toys. Open to children from birth-5 years accompanied by caregivers.
URL:https://birminghammommy.com/event/family-play-group-5/
LOCATION:Parnell Memorial Library\, 277 Park Drive\, Montevallo\, 35115\, United States
ATTACH;FMTTYPE=image/jpeg:https://birminghammommy.com/wp-content/uploads/2019/12/Family-Storytime-1.jpg
ORGANIZER;CN="Parnell Memorial Library":MAILTO:skitchens@shelbycounty-al.org
END:VEVENT
BEGIN:VEVENT
DTSTART;TZID=America/Chicago:20200118T091500
DTEND;TZID=America/Chicago:20200118T100000
DTSTAMP:20260421T120309
CREATED:20191227T015341Z
LAST-MODIFIED:20191227T015341Z
UID:33009-1579338900-1579341600@birminghammommy.com
SUMMARY:Family Storytime
DESCRIPTION:Join us for Family Storytime with Ms. Jennifer! Perfect for babies\, toddlers\, and preschool kids. No registration required.
URL:https://birminghammommy.com/event/family-storytime-5/
LOCATION:Parnell Memorial Library\, 277 Park Drive\, Montevallo\, 35115\, United States
CATEGORIES:StoryTime
ATTACH;FMTTYPE=image/jpeg:https://birminghammommy.com/wp-content/uploads/2019/12/Family-Storytime.jpg
ORGANIZER;CN="Parnell Memorial Library":MAILTO:skitchens@shelbycounty-al.org
END:VEVENT
BEGIN:VEVENT
DTSTART;TZID=America/Chicago:20200118T090000
DTEND;TZID=America/Chicago:20200118T163000
DTSTAMP:20260421T120309
CREATED:20200110T201429Z
LAST-MODIFIED:20200110T201429Z
UID:33197-1579338000-1579365000@birminghammommy.com
SUMMARY:Color Me Crazy at CHOM!
DESCRIPTION:Color Me Crazy at CHOM! \nSaturday\, January 18\, 2020   9 – 4:30 pm \nPut on your smocks and grab your paint brushes\, \nIt’s time to become an artist! Explore various art mediums through \nProjects\, crafts\, and challenges throughout the museum!
URL:https://birminghammommy.com/event/color-me-crazy-at-chom-4/
LOCATION:Children’s Hands-On Museum\, 2213 University Blvd.\, Tuscaloosa\, AL\, 35401\, United States
ATTACH;FMTTYPE=image/jpeg:https://birminghammommy.com/wp-content/uploads/2020/01/Color-Me-Crazy-1-18-20-RG.jpg
END:VEVENT
BEGIN:VEVENT
DTSTART;TZID=America/Chicago:20200117T103000
DTEND;TZID=America/Chicago:20200117T110000
DTSTAMP:20260421T120309
CREATED:20191230T153430Z
LAST-MODIFIED:20191230T153430Z
UID:33176-1579257000-1579258800@birminghammommy.com
SUMMARY:Sensory Storytime
DESCRIPTION:(Preschool) Join Ms. Laura for books\, songs\, and activities that stimulate the senses and promote learning in a sensory-inclusive atmosphere. Register online. \n\n\n\n\n\n\nThis week’s theme is about Hats. Here are the stories we will be sharing: \nHooray for Hat by Brian Won \nCaps for Sale by Esphyr Slobodkina
URL:https://birminghammommy.com/event/sensory-storytime-17/
LOCATION:Homewood Public Library\, 1721 Oxmoor Road\, Homewood\, AL\, 35209\, United States
GEO:33.4750533;-86.795404
X-APPLE-STRUCTURED-LOCATION;VALUE=URI;X-ADDRESS=Homewood Public Library 1721 Oxmoor Road Homewood AL 35209 United States;X-APPLE-RADIUS=500;X-TITLE=1721 Oxmoor Road:geo:-86.795404,33.4750533
END:VEVENT
BEGIN:VEVENT
DTSTART;TZID=America/Chicago:20200117T093000
DTEND;TZID=America/Chicago:20200117T100000
DTSTAMP:20260421T120309
CREATED:20191230T153313Z
LAST-MODIFIED:20191230T153313Z
UID:33174-1579253400-1579255200@birminghammommy.com
SUMMARY:Sensory Storytime
DESCRIPTION:(Preschool) Join Ms. Laura for books\, songs\, and activities that stimulate the senses and promote learning in a sensory-inclusive atmosphere. Register online. \n\n\n\n\n\n\nThis week’s theme is about Hats. Here are the stories we will be sharing: \nHooray for Hat by Brian Won \nCaps for Sale by Esphyr Slobodkina
URL:https://birminghammommy.com/event/sensory-storytime-16/
LOCATION:Homewood Public Library\, 1721 Oxmoor Road\, Homewood\, AL\, 35209\, United States
GEO:33.4750533;-86.795404
X-APPLE-STRUCTURED-LOCATION;VALUE=URI;X-ADDRESS=Homewood Public Library 1721 Oxmoor Road Homewood AL 35209 United States;X-APPLE-RADIUS=500;X-TITLE=1721 Oxmoor Road:geo:-86.795404,33.4750533
END:VEVENT
BEGIN:VEVENT
DTSTART;TZID=America/Chicago:20200116T153000
DTEND;TZID=America/Chicago:20200116T161500
DTSTAMP:20260421T120309
CREATED:20191230T153203Z
LAST-MODIFIED:20191230T153203Z
UID:33172-1579188600-1579191300@birminghammommy.com
SUMMARY:Harry Potter Coding Club
DESCRIPTION:(3-5 Grade) Learn coding basics while practicing your spell work! Wands (and laptops) will be provided. Register online.
URL:https://birminghammommy.com/event/harry-potter-coding-club-4/
LOCATION:Homewood Public Library\, 1721 Oxmoor Road\, Homewood\, AL\, 35209\, United States
GEO:33.4750533;-86.795404
X-APPLE-STRUCTURED-LOCATION;VALUE=URI;X-ADDRESS=Homewood Public Library 1721 Oxmoor Road Homewood AL 35209 United States;X-APPLE-RADIUS=500;X-TITLE=1721 Oxmoor Road:geo:-86.795404,33.4750533
END:VEVENT
BEGIN:VEVENT
DTSTART;TZID=America/Chicago:20200115T153000
DTEND;TZID=America/Chicago:20200115T161500
DTSTAMP:20260421T120309
CREATED:20191230T153018Z
LAST-MODIFIED:20191230T153018Z
UID:33170-1579102200-1579104900@birminghammommy.com
SUMMARY:Kids Create: LEGO Challenge
DESCRIPTION:(K-5 Grade) Put your LEGO skills to the test with each new challenge.
URL:https://birminghammommy.com/event/kids-create-lego-challenge-4/
LOCATION:Homewood Public Library\, 1721 Oxmoor Road\, Homewood\, AL\, 35209\, United States
GEO:33.4750533;-86.795404
X-APPLE-STRUCTURED-LOCATION;VALUE=URI;X-ADDRESS=Homewood Public Library 1721 Oxmoor Road Homewood AL 35209 United States;X-APPLE-RADIUS=500;X-TITLE=1721 Oxmoor Road:geo:-86.795404,33.4750533
END:VEVENT
BEGIN:VEVENT
DTSTART;TZID=America/Chicago:20200115T130000
DTEND;TZID=America/Chicago:20200115T140000
DTSTAMP:20260421T120309
CREATED:20191230T013102Z
LAST-MODIFIED:20191230T013102Z
UID:33103-1579093200-1579096800@birminghammommy.com
SUMMARY:k-5th Homeschool Hangout
DESCRIPTION:Learn about electrical safety through this 45-minute program with Alabama Power! \nContact Vanessa at NSChildrensLibrarian@shelbycounty-al.org or 439-5504 for more information. Registration opens 3 weeks before start date. Grades K-5th. Registration required. Space is Limited
URL:https://birminghammommy.com/event/k-5th-homeschool-hangout/
LOCATION:North Shelby Library\, 5521 Cahaba Valley Road\, Birmingham\, AL\, 35242
GEO:33.3646429;-86.7165499
X-APPLE-STRUCTURED-LOCATION;VALUE=URI;X-ADDRESS=North Shelby Library 5521 Cahaba Valley Road Birmingham AL 35242;X-APPLE-RADIUS=500;X-TITLE=5521 Cahaba Valley Road:geo:-86.7165499,33.3646429
END:VEVENT
BEGIN:VEVENT
DTSTART;TZID=America/Chicago:20200115T103000
DTEND;TZID=America/Chicago:20200115T110000
DTSTAMP:20260421T120309
CREATED:20191230T152650Z
LAST-MODIFIED:20191230T152650Z
UID:33165-1579084200-1579086000@birminghammommy.com
SUMMARY:Storytime at Your Biblioteca
DESCRIPTION:(Preschool) Join us for a special bilingual storytime in English and Spanish!
URL:https://birminghammommy.com/event/storytime-at-your-biblioteca-9/2020-01-15/
LOCATION:Homewood Public Library\, 1721 Oxmoor Road\, Homewood\, AL\, 35209\, United States
GEO:33.4750533;-86.795404
X-APPLE-STRUCTURED-LOCATION;VALUE=URI;X-ADDRESS=Homewood Public Library 1721 Oxmoor Road Homewood AL 35209 United States;X-APPLE-RADIUS=500;X-TITLE=1721 Oxmoor Road:geo:-86.795404,33.4750533
END:VEVENT
BEGIN:VEVENT
DTSTART;TZID=America/Chicago:20200114T180000
DTEND;TZID=America/Chicago:20200114T193000
DTSTAMP:20260421T120309
CREATED:20200110T201428Z
LAST-MODIFIED:20200110T201428Z
UID:33203-1579024800-1579030200@birminghammommy.com
SUMMARY:Family Game Night at Pelham Library
DESCRIPTION:Family Game Night returns! Offers card games and board games. Participants are also welcome to bring their own favorite games from home. Meets in Roberts Room.
URL:https://birminghammommy.com/event/family-game-night-at-pelham-library-7/
LOCATION:Pelham Public Library\, 2000 Pelham Park Boulevard\, Pelham\, AL\, 35124\, United States
ATTACH;FMTTYPE=image/jpeg:https://birminghammommy.com/wp-content/uploads/2020/01/instagram-family-game-night-post.jpg
END:VEVENT
BEGIN:VEVENT
DTSTART;TZID=America/Chicago:20200114T153000
DTEND;TZID=America/Chicago:20200114T173000
DTSTAMP:20260421T120309
CREATED:20191227T015341Z
LAST-MODIFIED:20191227T015341Z
UID:33007-1579015800-1579023000@birminghammommy.com
SUMMARY:After School Movie
DESCRIPTION:Join us for a FREE showing of a new release family-friendly movie! Call the library for title.
URL:https://birminghammommy.com/event/after-school-movie/
LOCATION:Parnell Memorial Library\, 277 Park Drive\, Montevallo\, 35115\, United States
ATTACH;FMTTYPE=image/jpeg:https://birminghammommy.com/wp-content/uploads/2019/12/After-School-Movie.jpg
ORGANIZER;CN="Parnell Memorial Library":MAILTO:skitchens@shelbycounty-al.org
END:VEVENT
BEGIN:VEVENT
DTSTART;TZID=America/Chicago:20200114T153000
DTEND;TZID=America/Chicago:20200114T161500
DTSTAMP:20260421T120309
CREATED:20191230T152520Z
LAST-MODIFIED:20191230T152520Z
UID:33163-1579015800-1579018500@birminghammommy.com
SUMMARY:Tween Bad Art
DESCRIPTION:(4-7 Grade) Why create good art when you can make bad art? \n\n\n\n\n\n\nJoin us for an afternoon of absolutely terrible art making. All supplies provided.
URL:https://birminghammommy.com/event/tween-bad-art/
LOCATION:Homewood Public Library\, 1721 Oxmoor Road\, Homewood\, AL\, 35209\, United States
GEO:33.4750533;-86.795404
X-APPLE-STRUCTURED-LOCATION;VALUE=URI;X-ADDRESS=Homewood Public Library 1721 Oxmoor Road Homewood AL 35209 United States;X-APPLE-RADIUS=500;X-TITLE=1721 Oxmoor Road:geo:-86.795404,33.4750533
END:VEVENT
BEGIN:VEVENT
DTSTART;TZID=America/Chicago:20200114T103000
DTEND;TZID=America/Chicago:20200114T111500
DTSTAMP:20260421T120309
CREATED:20191230T012730Z
LAST-MODIFIED:20191230T012730Z
UID:33101-1578997800-1579000500@birminghammommy.com
SUMMARY:Puppet Tales
DESCRIPTION:A new storytime filled with puppet fun! Watch stories and songs come alive through puppets and make a small puppet to take! Registration will begin two weeks prior to program date. \nDesigned for ages 2-5. Registration required.
URL:https://birminghammommy.com/event/puppet-tales-7/
LOCATION:North Shelby Library\, 5521 Cahaba Valley Road\, Birmingham\, AL\, 35242
GEO:33.3646429;-86.7165499
X-APPLE-STRUCTURED-LOCATION;VALUE=URI;X-ADDRESS=North Shelby Library 5521 Cahaba Valley Road Birmingham AL 35242;X-APPLE-RADIUS=500;X-TITLE=5521 Cahaba Valley Road:geo:-86.7165499,33.3646429
END:VEVENT
BEGIN:VEVENT
DTSTART;TZID=America/Chicago:20200114T103000
DTEND;TZID=America/Chicago:20200114T110000
DTSTAMP:20260421T120309
CREATED:20191108T155802Z
LAST-MODIFIED:20191108T155802Z
UID:32511-1578997800-1578999600@birminghammommy.com
SUMMARY:Happy 200th Birthday Alabama at Homewood Library
DESCRIPTION:2019 (All Ages) December 14\, 1819 is Alabama’s birthday\, and we are celebrating with special guests\, special giveaways and cake!
URL:https://birminghammommy.com/event/happy-200th-birthday-alabama-at-homewood-library/
LOCATION:Homewood Public Library\, 1721 Oxmoor Road\, Homewood\, AL\, 35209\, United States
GEO:33.4750533;-86.795404
X-APPLE-STRUCTURED-LOCATION;VALUE=URI;X-ADDRESS=Homewood Public Library 1721 Oxmoor Road Homewood AL 35209 United States;X-APPLE-RADIUS=500;X-TITLE=1721 Oxmoor Road:geo:-86.795404,33.4750533
END:VEVENT
END:VCALENDAR