BEGIN:VCALENDAR
VERSION:2.0
PRODID:-//Birmingham Mommy - ECPv6.3.5//NONSGML v1.0//EN
CALSCALE:GREGORIAN
METHOD:PUBLISH
X-WR-CALNAME:Birmingham Mommy
X-ORIGINAL-URL:https://birminghammommy.com
X-WR-CALDESC:Events for Birmingham Mommy
REFRESH-INTERVAL;VALUE=DURATION:PT1H
X-Robots-Tag:noindex
X-PUBLISHED-TTL:PT1H
BEGIN:VTIMEZONE
TZID:America/Chicago
BEGIN:DAYLIGHT
TZOFFSETFROM:-0600
TZOFFSETTO:-0500
TZNAME:CDT
DTSTART:20200308T080000
END:DAYLIGHT
BEGIN:STANDARD
TZOFFSETFROM:-0500
TZOFFSETTO:-0600
TZNAME:CST
DTSTART:20201101T070000
END:STANDARD
END:VTIMEZONE
BEGIN:VEVENT
DTSTART;TZID=America/Chicago:20200207T160000
DTEND;TZID=America/Chicago:20200207T173000
DTSTAMP:20260421T090110
CREATED:20200206T133231Z
LAST-MODIFIED:20200206T133231Z
UID:33637-1581091200-1581096600@birminghammommy.com
SUMMARY:Open Gaming at Vestavia Hills Library in the Forest
DESCRIPTION:Enjoy awesome board games and the latest consoles with fellow teens. Snacks served. For Teens Grade 6-12
URL:https://birminghammommy.com/event/open-gaming-at-vestavia-hills-library-in-the-forest/
LOCATION:Vestavia Hills Library in the Forest\, 1221 Montgomery Hwy\, Vestavia Hills Library\, AL\, 35216
GEO:33.4311673;-86.7875936
X-APPLE-STRUCTURED-LOCATION;VALUE=URI;X-ADDRESS=Vestavia Hills Library in the Forest 1221 Montgomery Hwy Vestavia Hills Library AL 35216;X-APPLE-RADIUS=500;X-TITLE=1221 Montgomery Hwy:geo:-86.7875936,33.4311673
END:VEVENT
BEGIN:VEVENT
DTSTART;TZID=America/Chicago:20200207T100000
DTEND;TZID=America/Chicago:20200207T120000
DTSTAMP:20260421T090110
CREATED:20200206T133118Z
LAST-MODIFIED:20200206T133118Z
UID:33635-1581069600-1581076800@birminghammommy.com
SUMMARY:First Friday Fiber Arts
DESCRIPTION:Like to knit\, crochet\, cross-stitch\, embroider or smock? Bring your projects and join us! All skill levels are welcome. Ages 18+.
URL:https://birminghammommy.com/event/first-friday-fiber-arts/
LOCATION:Vestavia Hills Library in the Forest\, 1221 Montgomery Hwy\, Vestavia Hills Library\, AL\, 35216
GEO:33.4311673;-86.7875936
X-APPLE-STRUCTURED-LOCATION;VALUE=URI;X-ADDRESS=Vestavia Hills Library in the Forest 1221 Montgomery Hwy Vestavia Hills Library AL 35216;X-APPLE-RADIUS=500;X-TITLE=1221 Montgomery Hwy:geo:-86.7875936,33.4311673
END:VEVENT
BEGIN:VEVENT
DTSTART;TZID=America/Chicago:20200207T100000
DTEND;TZID=America/Chicago:20200207T103000
DTSTAMP:20260421T090110
CREATED:20200206T115512Z
LAST-MODIFIED:20200206T124243Z
UID:33593-1581069600-1581071400@birminghammommy.com
SUMMARY:Mt Laurel Toddler Time
DESCRIPTION:Stories\, songs\, fingerplays\, and more make up a lively 30 minute program designed especially for short attention spans and their caregiver. Registration begins two weeks prior to each storytime. Ages 36 months and younger. Registration required.
URL:https://birminghammommy.com/event/mt-laurel-toddler-time-2/2020-02-07/
LOCATION:Mt Laurel Library\, 111 Olmsted St\, Birmingham\, AL\, 35242
GEO:33.4096347;-86.6292618
X-APPLE-STRUCTURED-LOCATION;VALUE=URI;X-ADDRESS=Mt Laurel Library 111 Olmsted St Birmingham AL 35242;X-APPLE-RADIUS=500;X-TITLE=111 Olmsted St:geo:-86.6292618,33.4096347
END:VEVENT
BEGIN:VEVENT
DTSTART;TZID=America/Chicago:20200206T183000
DTEND;TZID=America/Chicago:20200206T191500
DTSTAMP:20260421T090110
CREATED:20200206T115400Z
LAST-MODIFIED:20200206T115400Z
UID:33591-1581013800-1581016500@birminghammommy.com
SUMMARY:Pajama Storytime at North Shelby Library
DESCRIPTION:Come in your PJs\, have some cookies\, and hear some wonderful bedtime tales.\n \nSuited for ages 3 and up. No Registration Required.
URL:https://birminghammommy.com/event/pajama-storytime-at-north-shelby-library-7/
LOCATION:North Shelby Library\, 5521 Cahaba Valley Road\, Birmingham\, AL\, 35242
GEO:33.3646429;-86.7165499
X-APPLE-STRUCTURED-LOCATION;VALUE=URI;X-ADDRESS=North Shelby Library 5521 Cahaba Valley Road Birmingham AL 35242;X-APPLE-RADIUS=500;X-TITLE=5521 Cahaba Valley Road:geo:-86.7165499,33.3646429
END:VEVENT
BEGIN:VEVENT
DTSTART;TZID=America/Chicago:20200206T154500
DTEND;TZID=America/Chicago:20200206T164500
DTSTAMP:20260421T090110
CREATED:20200114T161410Z
LAST-MODIFIED:20200114T161410Z
UID:33241-1581003900-1581007500@birminghammommy.com
SUMMARY:Code Club
DESCRIPTION:Learn to code at the library! Bring your laptop or call to reserve one of ours. No experience necessary. For grades 6 – 12.
URL:https://birminghammommy.com/event/code-club/2020-02-06/
LOCATION:Parnell Memorial Library\, 277 Park Drive\, Montevallo\, 35115\, United States
ATTACH;FMTTYPE=image/jpeg:https://birminghammommy.com/wp-content/uploads/2020/01/code-club.jpg
END:VEVENT
BEGIN:VEVENT
DTSTART;TZID=America/Chicago:20200206T153000
DTEND;TZID=America/Chicago:20200206T193000
DTSTAMP:20260421T090110
CREATED:20200206T132820Z
LAST-MODIFIED:20200206T132820Z
UID:33633-1581003000-1581017400@birminghammommy.com
SUMMARY:Open Maker Lab
DESCRIPTION:Whether you need to do some 3D printing\, vinyl cutting\, or just work on an art project\, the Makerspace will be open so you can MAKE it.
URL:https://birminghammommy.com/event/open-maker-lab/
LOCATION:Vestavia Hills Library in the Forest\, 1221 Montgomery Hwy\, Vestavia Hills Library\, AL\, 35216
GEO:33.4311673;-86.7875936
X-APPLE-STRUCTURED-LOCATION;VALUE=URI;X-ADDRESS=Vestavia Hills Library in the Forest 1221 Montgomery Hwy Vestavia Hills Library AL 35216;X-APPLE-RADIUS=500;X-TITLE=1221 Montgomery Hwy:geo:-86.7875936,33.4311673
END:VEVENT
BEGIN:VEVENT
DTSTART;TZID=America/Chicago:20200206T103000
DTEND;TZID=America/Chicago:20200206T110000
DTSTAMP:20260421T090110
CREATED:20200206T115302Z
LAST-MODIFIED:20200206T115302Z
UID:33589-1580985000-1580986800@birminghammommy.com
SUMMARY:Baby Tales at North Shelby Library
DESCRIPTION:A special story program just for babies (birth to 18 months) and a caregiver. Stories\, fingerplays\, and music provide interaction for the babies and time for caregivers to talk and share with each other. \n \nFor ages birth to 18 months and a caregiver only. No registration required.
URL:https://birminghammommy.com/event/baby-tales-at-north-shelby-library-5/
LOCATION:North Shelby Library\, 5521 Cahaba Valley Road\, Birmingham\, AL\, 35242
GEO:33.3646429;-86.7165499
X-APPLE-STRUCTURED-LOCATION;VALUE=URI;X-ADDRESS=North Shelby Library 5521 Cahaba Valley Road Birmingham AL 35242;X-APPLE-RADIUS=500;X-TITLE=5521 Cahaba Valley Road:geo:-86.7165499,33.3646429
END:VEVENT
BEGIN:VEVENT
DTSTART;TZID=America/Chicago:20200206T100000
DTEND;TZID=America/Chicago:20200206T103000
DTSTAMP:20260421T090110
CREATED:20200206T132725Z
LAST-MODIFIED:20200206T132725Z
UID:33631-1580983200-1580985000@birminghammommy.com
SUMMARY:Book Babies at Vestavia Hills Library in the Forest
DESCRIPTION:Ms. Lisa introduces babies birth to 18 months to the joys of storytime with special lap-sit programs.
URL:https://birminghammommy.com/event/book-babies-at-vestavia-hills-library-in-the-forest/
LOCATION:Vestavia Hills Library in the Forest\, 1221 Montgomery Hwy\, Vestavia Hills Library\, AL\, 35216
GEO:33.4311673;-86.7875936
X-APPLE-STRUCTURED-LOCATION;VALUE=URI;X-ADDRESS=Vestavia Hills Library in the Forest 1221 Montgomery Hwy Vestavia Hills Library AL 35216;X-APPLE-RADIUS=500;X-TITLE=1221 Montgomery Hwy:geo:-86.7875936,33.4311673
END:VEVENT
BEGIN:VEVENT
DTSTART;TZID=America/Chicago:20200206T093000
DTEND;TZID=America/Chicago:20200206T120000
DTSTAMP:20260421T090110
CREATED:20200206T132628Z
LAST-MODIFIED:20200206T132628Z
UID:33629-1580981400-1580990400@birminghammommy.com
SUMMARY:LIFT at Vestavia Hills Library in the Forest
DESCRIPTION:Join fellow preschoolers and their caregivers for social play with tents\, tunnels and more.
URL:https://birminghammommy.com/event/lift-at-vestavia-hills-library-in-the-forest/
LOCATION:Vestavia Hills Library in the Forest\, 1221 Montgomery Hwy\, Vestavia Hills Library\, AL\, 35216
GEO:33.4311673;-86.7875936
X-APPLE-STRUCTURED-LOCATION;VALUE=URI;X-ADDRESS=Vestavia Hills Library in the Forest 1221 Montgomery Hwy Vestavia Hills Library AL 35216;X-APPLE-RADIUS=500;X-TITLE=1221 Montgomery Hwy:geo:-86.7875936,33.4311673
END:VEVENT
BEGIN:VEVENT
DTSTART;TZID=America/Chicago:20200205T100000
DTEND;TZID=America/Chicago:20200205T110000
DTSTAMP:20260421T090110
CREATED:20200114T161410Z
LAST-MODIFIED:20200114T161410Z
UID:33236-1580896800-1580900400@birminghammommy.com
SUMMARY:Family Play Group
DESCRIPTION:Drop by for a fun time and a chance to play with friends and all our toddler toys. Open to children from birth-5 years accompanied by caregivers.
URL:https://birminghammommy.com/event/family-play-group-7/2020-02-05/
LOCATION:Parnell Memorial Library\, 277 Park Drive\, Montevallo\, 35115\, United States
ATTACH;FMTTYPE=image/jpeg:https://birminghammommy.com/wp-content/uploads/2020/01/Family-play-group.jpg
END:VEVENT
BEGIN:VEVENT
DTSTART;TZID=America/Chicago:20200205T091500
DTEND;TZID=America/Chicago:20200205T100000
DTSTAMP:20260421T090110
CREATED:20200114T161411Z
LAST-MODIFIED:20200114T161411Z
UID:33231-1580894100-1580896800@birminghammommy.com
SUMMARY:Storytime with Mr. Mac
DESCRIPTION:Stories and songs for kids and their caregivers\, featuring Mr. Mac! Free\, no registration required.
URL:https://birminghammommy.com/event/storytime-with-mr-mac-4/2020-02-05/
LOCATION:Parnell Memorial Library\, 277 Park Drive\, Montevallo\, 35115\, United States
CATEGORIES:StoryTime
ATTACH;FMTTYPE=image/jpeg:https://birminghammommy.com/wp-content/uploads/2020/01/Mr.-Mac.jpg
END:VEVENT
BEGIN:VEVENT
DTSTART;TZID=America/Chicago:20200204T180000
DTEND;TZID=America/Chicago:20200204T200000
DTSTAMP:20260421T090110
CREATED:20200126T233418Z
LAST-MODIFIED:20200126T233418Z
UID:33545-1580839200-1580846400@birminghammommy.com
SUMMARY:Blippi Live
DESCRIPTION:Stevin John is the creator of Blippi and acts as the writer and creative force behind the Blippi character. Now that Blippi has evolved as a character he is excited that a dynamic stage performer has been cast as Blippi to entertain and thrill audiences across all of the tour
URL:https://birminghammommy.com/event/blippi-live/
LOCATION:BJCC Concert Hall\, 2100 Richard Arrington Jr. Blvd. North\, Birmingham\, AL\, 35203
GEO:33.5249488;-86.8082265
X-APPLE-STRUCTURED-LOCATION;VALUE=URI;X-ADDRESS=BJCC Concert Hall 2100 Richard Arrington Jr. Blvd. North Birmingham AL 35203;X-APPLE-RADIUS=500;X-TITLE=2100 Richard Arrington Jr. Blvd. North:geo:-86.8082265,33.5249488
END:VEVENT
BEGIN:VEVENT
DTSTART;TZID=America/Chicago:20200203T153000
DTEND;TZID=America/Chicago:20200203T163000
DTSTAMP:20260421T090110
CREATED:20200114T161411Z
LAST-MODIFIED:20200114T161411Z
UID:33229-1580743800-1580747400@birminghammommy.com
SUMMARY:Breakerspace
DESCRIPTION:Take apart old computers\, put something new together – no expertise required! We’ll provide the retired tech\, you bring the creativity. Grades 5 – 12.
URL:https://birminghammommy.com/event/breakerspace/
LOCATION:Parnell Memorial Library\, 277 Park Drive\, Montevallo\, 35115\, United States
ATTACH;FMTTYPE=image/jpeg:https://birminghammommy.com/wp-content/uploads/2020/01/breakerspace.jpg
END:VEVENT
BEGIN:VEVENT
DTSTART;TZID=America/Chicago:20200203T100000
DTEND;TZID=America/Chicago:20200203T170000
DTSTAMP:20260421T090110
CREATED:20200126T232407Z
LAST-MODIFIED:20200126T232407Z
UID:33538-1580724000-1580749200@birminghammommy.com
SUMMARY:Homeschool Day at McWane
DESCRIPTION:Is your child a home school student looking for a fun and educational way to spend the day? Plan a trip to McWane Science Center on Home School Day! There will be special programs\, live science demonstrations\, and a discounted ticket price: FREE for homeschool parents\, $7 for kids\, and $6 for accompanying adults.
URL:https://birminghammommy.com/event/homeschool-day-at-mcwane-2/
LOCATION:McWane Science Center\, 200 19th Street North\, Birmingham\, AL\, 35203
GEO:33.5149315;-86.8083142
X-APPLE-STRUCTURED-LOCATION;VALUE=URI;X-ADDRESS=McWane Science Center 200 19th Street North Birmingham AL 35203;X-APPLE-RADIUS=500;X-TITLE=200 19th Street North:geo:-86.8083142,33.5149315
END:VEVENT
BEGIN:VEVENT
DTSTART;TZID=America/Chicago:20200202T090000
DTEND;TZID=America/Chicago:20200202T140000
DTSTAMP:20260421T090110
CREATED:20200126T231934Z
LAST-MODIFIED:20200126T231934Z
UID:33534-1580634000-1580652000@birminghammommy.com
SUMMARY:Winter Wake Up Hibernation Celebration at the Birmingham Zoo
DESCRIPTION:The Birmingham Zoo will be celebrating Groundhog Day in a new way this year! Join the Zoo on Sunday\, February 2 from 9:00am until 2:00pm for Winter Wake-Up: A Hibernation Celebration. Guests will be treated to the first Wildlife Show of the year at the UAB Callahan Eye Hospital Wildlife Stage featuring some of your favorite Zoo Ambassador animals. \nDue to the Zoo’s resident groundhog Birmingham Bill going through hibernation\, one of the Zoo’s Ambassador owls will be predicting this year’s weather outcome. After the Wildlife Show\, guests will have the opportunity to interact with various animal education stations throughout the Zoo and listen to Keeper Chats about the different animals that hibernate. Come learn about Groundhog Day traditions from all over the world and find out if we’ll have six more weeks of winter! \nThe Zoo’s weather prediction will start at 10:00am and Keeper Chats will be held until 2:00pm. *Winter Wake-Up is a rain or shine event and festivities are included with the purchase of Zoo admission for the day. \nTIME \n9:00am – 2:00pm / Prediction at 10:00am \nSCHEDULE \n9am-10am: Activities \n10am-10:30am: Wildlife Show and Weather Prediction \n10:30am: Animal Photo Opportunity \n10:30am – 2:00pm: Education Stations & Keeper Chats throughout the Zoo 
URL:https://birminghammommy.com/event/winter-wake-up-hibernation-celebration-at-the-birmingham-zoo/
LOCATION:Birmingham Zoo\, 2630 Cahaba Road\, Birmingham \, AL\, 35223
GEO:33.4867334;-86.7789473
X-APPLE-STRUCTURED-LOCATION;VALUE=URI;X-ADDRESS=Birmingham Zoo 2630 Cahaba Road Birmingham  AL 35223;X-APPLE-RADIUS=500;X-TITLE=2630 Cahaba Road:geo:-86.7789473,33.4867334
END:VEVENT
BEGIN:VEVENT
DTSTART;TZID=America/Chicago:20200201T100000
DTEND;TZID=America/Chicago:20200201T130000
DTSTAMP:20260421T090110
CREATED:20200126T235117Z
LAST-MODIFIED:20200126T235117Z
UID:33495-1580551200-1580562000@birminghammommy.com
SUMMARY:Rapunzel & the Rabbit
DESCRIPTION:RAPUNZEL AND THE RABBIT\nWRITTEN BY JEAN PIERCE MUSIC BY JAY TUMMINELLO\nDIRECTED BY PATRICIA YATES\nStolen from her parents and locked away in a tower\, Rapunzel longingly watches the world pass by hour after hour. One day she befriends a rabbit so clever; he vows to find help to free her forever. Their hopes of a rescue may be closer than it seems\, as a brave prince seeks out the tower to find the girl of his dreams. Join us for this light-hearted tale of bravery and adventure! \nFEBRUARY 1ST\, 8TH* & 15TH\nSHOWS AT 10AM & 12PM\nRecommended for ages 2 – 7\nApproximate Time: 45 minutes \n*Saturday\, February 8th at 12:00pm is our Sensory Friendly performance.
URL:https://birminghammommy.com/event/rapunzel-the-rabbit/2020-02-01/
LOCATION:Birmingham Children’s Theatre\, 2130 Richard Arrington Jr Blvd N\, Birmingham\, AL\, 35203
ATTACH;FMTTYPE=image/jpeg:https://birminghammommy.com/wp-content/uploads/2020/01/Rapunzel-the-Rabbit-sm.jpg
ORGANIZER;CN="Birmingham Children's Theatre":MAILTO:info@bct123.org
GEO:33.525709;-86.8101544
X-APPLE-STRUCTURED-LOCATION;VALUE=URI;X-ADDRESS=Birmingham Children’s Theatre 2130 Richard Arrington Jr Blvd N Birmingham AL 35203;X-APPLE-RADIUS=500;X-TITLE=2130 Richard Arrington Jr Blvd N:geo:-86.8101544,33.525709
END:VEVENT
BEGIN:VEVENT
DTSTART;TZID=America/Chicago:20200129T153000
DTEND;TZID=America/Chicago:20200129T161500
DTSTAMP:20260421T090110
CREATED:20191230T155306Z
LAST-MODIFIED:20191230T155306Z
UID:33188-1580311800-1580314500@birminghammommy.com
SUMMARY:Kids Create: Sewing Circle
DESCRIPTION:(K-5 Grade) Make a cool sewing project with simple stitches!
URL:https://birminghammommy.com/event/kids-create-sewing-circle-3/
LOCATION:Homewood Public Library\, 1721 Oxmoor Road\, Homewood\, AL\, 35209\, United States
GEO:33.4750533;-86.795404
X-APPLE-STRUCTURED-LOCATION;VALUE=URI;X-ADDRESS=Homewood Public Library 1721 Oxmoor Road Homewood AL 35209 United States;X-APPLE-RADIUS=500;X-TITLE=1721 Oxmoor Road:geo:-86.795404,33.4750533
END:VEVENT
BEGIN:VEVENT
DTSTART;TZID=America/Chicago:20200128T154500
DTEND;TZID=America/Chicago:20200128T163000
DTSTAMP:20260421T090110
CREATED:20191230T155146Z
LAST-MODIFIED:20191230T155146Z
UID:33186-1580226300-1580229000@birminghammommy.com
SUMMARY:Tween Social Justice Book Club
DESCRIPTION:4-7 Grade) January’s book is Ghost by Jason Reynolds. In this series-starter\, Castle -Ghost- Cranshaw is an African American young man with a proclivity for getting into trouble\, fighting\, and running\, stemming from an incident with his now-imprisoned father. When Ghost impulsively races and bests the citywide track team’s fastest sprinter\, the coach sees potential in the seventh grader.
URL:https://birminghammommy.com/event/tween-social-justice-book-club/
LOCATION:Homewood Public Library\, 1721 Oxmoor Road\, Homewood\, AL\, 35209\, United States
GEO:33.4750533;-86.795404
X-APPLE-STRUCTURED-LOCATION;VALUE=URI;X-ADDRESS=Homewood Public Library 1721 Oxmoor Road Homewood AL 35209 United States;X-APPLE-RADIUS=500;X-TITLE=1721 Oxmoor Road:geo:-86.795404,33.4750533
END:VEVENT
BEGIN:VEVENT
DTSTART;TZID=America/Chicago:20200128T103000
DTEND;TZID=America/Chicago:20200128T111500
DTSTAMP:20260421T090110
CREATED:20191230T014737Z
LAST-MODIFIED:20191230T014737Z
UID:33117-1580207400-1580210100@birminghammommy.com
SUMMARY:Puppet Tales
DESCRIPTION:A new storytime filled with puppet fun! Watch stories and songs come alive through puppets and make a small puppet to take! Registration will begin two weeks prior to program date. \nDesigned for ages 2-5. Registration required.
URL:https://birminghammommy.com/event/puppet-tales-8/
LOCATION:North Shelby Library\, 5521 Cahaba Valley Road\, Birmingham\, AL\, 35242
GEO:33.3646429;-86.7165499
X-APPLE-STRUCTURED-LOCATION;VALUE=URI;X-ADDRESS=North Shelby Library 5521 Cahaba Valley Road Birmingham AL 35242;X-APPLE-RADIUS=500;X-TITLE=5521 Cahaba Valley Road:geo:-86.7165499,33.3646429
END:VEVENT
BEGIN:VEVENT
DTSTART;TZID=America/Chicago:20200127T160000
DTEND;TZID=America/Chicago:20200127T170000
DTSTAMP:20260421T090110
CREATED:20191230T014617Z
LAST-MODIFIED:20191230T014617Z
UID:33115-1580140800-1580144400@birminghammommy.com
SUMMARY:Garden Gates: Dream Gardens
DESCRIPTION:Plan your dream garden for Spring and Summer with Ms. Carol using colorful plant catalogs! Registration opens 2 weeks before start date. Designed for Ages 5+. Registration is required.
URL:https://birminghammommy.com/event/garden-gates-dream-gardens/
LOCATION:North Shelby Library\, 5521 Cahaba Valley Road\, Birmingham\, AL\, 35242
GEO:33.3646429;-86.7165499
X-APPLE-STRUCTURED-LOCATION;VALUE=URI;X-ADDRESS=North Shelby Library 5521 Cahaba Valley Road Birmingham AL 35242;X-APPLE-RADIUS=500;X-TITLE=5521 Cahaba Valley Road:geo:-86.7165499,33.3646429
END:VEVENT
BEGIN:VEVENT
DTSTART;TZID=America/Chicago:20200127T100000
DTEND;TZID=America/Chicago:20200127T104500
DTSTAMP:20260421T090110
CREATED:20191230T154930Z
LAST-MODIFIED:20191230T154930Z
UID:33184-1580119200-1580121900@birminghammommy.com
SUMMARY:Homeschool STEAM Club
DESCRIPTION:(K-5 Grade) Fizz\, Boom\, Bang! Time for Superhero Science. Experiments will be presented for super strength\, flight\, and the benefits of chemistry knowledge.
URL:https://birminghammommy.com/event/homeschool-steam-club-6/
LOCATION:Homewood Public Library\, 1721 Oxmoor Road\, Homewood\, AL\, 35209\, United States
GEO:33.4750533;-86.795404
X-APPLE-STRUCTURED-LOCATION;VALUE=URI;X-ADDRESS=Homewood Public Library 1721 Oxmoor Road Homewood AL 35209 United States;X-APPLE-RADIUS=500;X-TITLE=1721 Oxmoor Road:geo:-86.795404,33.4750533
END:VEVENT
BEGIN:VEVENT
DTSTART;TZID=America/Chicago:20200125T190000
DTEND;TZID=America/Chicago:20200125T220000
DTSTAMP:20260421T090110
CREATED:20191229T145330Z
LAST-MODIFIED:20191229T145330Z
UID:33051-1579978800-1579989600@birminghammommy.com
SUMMARY:Birmingham Bulls Hockey
DESCRIPTION:V. Hunstville \nAs You Walk Through the Door\, Your Hearts Starts Pumping! The irresistible lure of HOCKEY and the buzz of a packed house causes your ADRENALIN to surge. The music is PUMPING\, the lights fade and the smoke swirls – and that’s just the beginning. Monster hits\, UNBELIEVABLE GOALS and in-your-face hockey keeps you on the edge of your seat. The action is NON-STOP! With heart pounding music\, contests\, and the prospect of catching a fantastic FREE SOUVENIR\, what are you waiting for? Build your team’s SPIRIT by sharing in ours. It’s an EXPERIENCE to remember.
URL:https://birminghammommy.com/event/birmingham-bulls-hockey-34/
LOCATION:Pelham Civic Center and Ice Arena\, 500 Amphitheater Drive\, Pelham\, 35124\, United States
END:VEVENT
BEGIN:VEVENT
DTSTART;TZID=America/Chicago:20200125T110000
DTEND;TZID=America/Chicago:20200125T130000
DTSTAMP:20260421T090110
CREATED:20191230T014405Z
LAST-MODIFIED:20191230T014405Z
UID:33113-1579950000-1579957200@birminghammommy.com
SUMMARY:Mt Laurel LEGO Club
DESCRIPTION:The library provides the Legos\, the kids provide the imagination and creativity. Families are welcome to drop in anytime between 11 and 1 to build spectacular creations which will be displayed in the library.
URL:https://birminghammommy.com/event/mt-laurel-lego-club-16/
LOCATION:Mt Laurel Library\, 111 Olmsted St\, Birmingham\, AL\, 35242
GEO:33.4096347;-86.6292618
X-APPLE-STRUCTURED-LOCATION;VALUE=URI;X-ADDRESS=Mt Laurel Library 111 Olmsted St Birmingham AL 35242;X-APPLE-RADIUS=500;X-TITLE=111 Olmsted St:geo:-86.6292618,33.4096347
END:VEVENT
BEGIN:VEVENT
DTSTART;TZID=America/Chicago:20200125T090000
DTEND;TZID=America/Chicago:20200125T163000
DTSTAMP:20260421T090110
CREATED:20200110T201429Z
LAST-MODIFIED:20200110T201429Z
UID:33199-1579942800-1579969800@birminghammommy.com
SUMMARY:Chinese New Year at CHOM!
DESCRIPTION:Chinese New Year at CHOM! \nSaturday\, January 24\, 2020   9 – 4:30 pm \nRing in the “Year of the Rat” with CHOM\, \nAs we celebrate the Lunar New Year! \nMake a paper drum! \nDesign a Chinese Fan! \nCreate a tangerine rat! \nAll activities included with admission! \n 
URL:https://birminghammommy.com/event/chinese-new-year-at-chom-2/
LOCATION:Children’s Hands-On Museum\, 2213 University Blvd.\, Tuscaloosa\, AL\, 35401\, United States
ATTACH;FMTTYPE=image/jpeg:https://birminghammommy.com/wp-content/uploads/2020/01/Chinese-New-Year-1-25-20-RG.jpg
END:VEVENT
BEGIN:VEVENT
DTSTART;TZID=America/Chicago:20200124T153000
DTEND;TZID=America/Chicago:20200124T163000
DTSTAMP:20260421T090110
CREATED:20191227T015341Z
LAST-MODIFIED:20191227T015341Z
UID:33015-1579879800-1579883400@birminghammommy.com
SUMMARY:Playdoh club
DESCRIPTION:You bring the creativity\, we’ll bring the playdough! Free\, no registration required.
URL:https://birminghammommy.com/event/playdoh-club/
LOCATION:Parnell Memorial Library\, 277 Park Drive\, Montevallo\, 35115\, United States
ATTACH;FMTTYPE=image/jpeg:https://birminghammommy.com/wp-content/uploads/2019/12/Playdoh.jpg
ORGANIZER;CN="Parnell Memorial Library":MAILTO:skitchens@shelbycounty-al.org
END:VEVENT
BEGIN:VEVENT
DTSTART;TZID=America/Chicago:20200123T160000
DTEND;TZID=America/Chicago:20200123T163000
DTSTAMP:20260421T090110
CREATED:20191230T014222Z
LAST-MODIFIED:20191230T014222Z
UID:33111-1579795200-1579797000@birminghammommy.com
SUMMARY:Mt Laurel Squirrel Craft
DESCRIPTION:Don’t be scared to come by the library for a nutty squirrel story\, craft and snack. All ages.
URL:https://birminghammommy.com/event/mt-laurel-squirrel-craft/
LOCATION:Mt Laurel Library\, 111 Olmsted St\, Birmingham\, AL\, 35242
GEO:33.4096347;-86.6292618
X-APPLE-STRUCTURED-LOCATION;VALUE=URI;X-ADDRESS=Mt Laurel Library 111 Olmsted St Birmingham AL 35242;X-APPLE-RADIUS=500;X-TITLE=111 Olmsted St:geo:-86.6292618,33.4096347
END:VEVENT
BEGIN:VEVENT
DTSTART;TZID=America/Chicago:20200122T153000
DTEND;TZID=America/Chicago:20200122T161500
DTSTAMP:20260421T090110
CREATED:20191230T154428Z
LAST-MODIFIED:20191230T154428Z
UID:33182-1579707000-1579709700@birminghammommy.com
SUMMARY:Kids Create: Slime Lab
DESCRIPTION:(K-5 Grade) Join us for an afternoon of ooze and goo in our Slime Lab!
URL:https://birminghammommy.com/event/kids-create-slime-lab-3/
LOCATION:Homewood Public Library\, 1721 Oxmoor Road\, Homewood\, AL\, 35209\, United States
GEO:33.4750533;-86.795404
X-APPLE-STRUCTURED-LOCATION;VALUE=URI;X-ADDRESS=Homewood Public Library 1721 Oxmoor Road Homewood AL 35209 United States;X-APPLE-RADIUS=500;X-TITLE=1721 Oxmoor Road:geo:-86.795404,33.4750533
END:VEVENT
BEGIN:VEVENT
DTSTART;TZID=America/Chicago:20200121T153000
DTEND;TZID=America/Chicago:20200121T170000
DTSTAMP:20260421T090110
CREATED:20191230T154102Z
LAST-MODIFIED:20191230T154102Z
UID:33180-1579620600-1579626000@birminghammommy.com
SUMMARY:DisneyNature Penguins
DESCRIPTION:Just in time for World Penguin Day \n\n\n\n\n\n\nDisneynature’s all-new feature film Penguins is a coming-of-age story about an Adélie penguin named Steve who joins millions of fellow males in the icy Antarctic spring on a quest to build a suitable nest\, find a life partner and start a family.
URL:https://birminghammommy.com/event/disneynature-penguins/
LOCATION:Homewood Public Library\, 1721 Oxmoor Road\, Homewood\, AL\, 35209\, United States
GEO:33.4750533;-86.795404
X-APPLE-STRUCTURED-LOCATION;VALUE=URI;X-ADDRESS=Homewood Public Library 1721 Oxmoor Road Homewood AL 35209 United States;X-APPLE-RADIUS=500;X-TITLE=1721 Oxmoor Road:geo:-86.795404,33.4750533
END:VEVENT
BEGIN:VEVENT
DTSTART;TZID=America/Chicago:20200121T151500
DTEND;TZID=America/Chicago:20200121T160000
DTSTAMP:20260421T090110
CREATED:20191227T015341Z
LAST-MODIFIED:20191227T015341Z
UID:33013-1579619700-1579622400@birminghammommy.com
SUMMARY:Kid's Craft
DESCRIPTION:Join us for a hands-on craft\, perfect for kids in elementary school. Call the library to register.
URL:https://birminghammommy.com/event/kids-craft-2/
LOCATION:Parnell Memorial Library\, 277 Park Drive\, Montevallo\, 35115\, United States
ATTACH;FMTTYPE=image/jpeg:https://birminghammommy.com/wp-content/uploads/2019/12/Crafts.jpg
ORGANIZER;CN="Parnell Memorial Library":MAILTO:skitchens@shelbycounty-al.org
END:VEVENT
BEGIN:VEVENT
DTSTART;TZID=America/Chicago:20200121T103000
DTEND;TZID=America/Chicago:20200121T113000
DTSTAMP:20260421T090110
CREATED:20191230T014023Z
LAST-MODIFIED:20191230T014023Z
UID:33109-1579602600-1579606200@birminghammommy.com
SUMMARY:Preschool Kitchen Science: Snowy Science
DESCRIPTION:Let it snow with some snowy science with Ms. Jan! Preschool Ages 3-5.  Registration required.
URL:https://birminghammommy.com/event/preschool-kitchen-science-snowy-science/
LOCATION:North Shelby Library\, 5521 Cahaba Valley Road\, Birmingham\, AL\, 35242
GEO:33.3646429;-86.7165499
X-APPLE-STRUCTURED-LOCATION;VALUE=URI;X-ADDRESS=North Shelby Library 5521 Cahaba Valley Road Birmingham AL 35242;X-APPLE-RADIUS=500;X-TITLE=5521 Cahaba Valley Road:geo:-86.7165499,33.3646429
END:VEVENT
END:VCALENDAR