BEGIN:VCALENDAR
VERSION:2.0
PRODID:-//Birmingham Mommy - ECPv6.3.5//NONSGML v1.0//EN
CALSCALE:GREGORIAN
METHOD:PUBLISH
X-WR-CALNAME:Birmingham Mommy
X-ORIGINAL-URL:https://birminghammommy.com
X-WR-CALDESC:Events for Birmingham Mommy
REFRESH-INTERVAL;VALUE=DURATION:PT1H
X-Robots-Tag:noindex
X-PUBLISHED-TTL:PT1H
BEGIN:VTIMEZONE
TZID:America/Chicago
BEGIN:DAYLIGHT
TZOFFSETFROM:-0600
TZOFFSETTO:-0500
TZNAME:CDT
DTSTART:20200308T080000
END:DAYLIGHT
BEGIN:STANDARD
TZOFFSETFROM:-0500
TZOFFSETTO:-0600
TZNAME:CST
DTSTART:20201101T070000
END:STANDARD
END:VTIMEZONE
BEGIN:VEVENT
DTSTART;TZID=America/Chicago:20200218T160000
DTEND;TZID=America/Chicago:20200218T173000
DTSTAMP:20260420T205506
CREATED:20200206T135832Z
LAST-MODIFIED:20200206T135832Z
UID:33676-1582041600-1582047000@birminghammommy.com
SUMMARY:Pocket Size Pixel Art
DESCRIPTION:Create your favorite characters with Perler beads. Snacks served. For Teens Grade 6-12
URL:https://birminghammommy.com/event/pocket-size-pixel-art/
LOCATION:Vestavia Hills Library in the Forest\, 1221 Montgomery Hwy\, Vestavia Hills Library\, AL\, 35216
GEO:33.4311673;-86.7875936
X-APPLE-STRUCTURED-LOCATION;VALUE=URI;X-ADDRESS=Vestavia Hills Library in the Forest 1221 Montgomery Hwy Vestavia Hills Library AL 35216;X-APPLE-RADIUS=500;X-TITLE=1221 Montgomery Hwy:geo:-86.7875936,33.4311673
END:VEVENT
BEGIN:VEVENT
DTSTART;TZID=America/Chicago:20200218T103000
DTEND;TZID=America/Chicago:20200218T113000
DTSTAMP:20260420T205506
CREATED:20200206T123644Z
LAST-MODIFIED:20200206T123644Z
UID:33614-1582021800-1582025400@birminghammommy.com
SUMMARY:Preschool Kitchen Science: Dino Daze
DESCRIPTION:Have a rawrsome time learning about dinosaurs with Ms. Jan the Science Lady! Preschool Ages 3-5.  Registration required.
URL:https://birminghammommy.com/event/preschool-kitchen-science-dino-daze/
LOCATION:North Shelby Library\, 5521 Cahaba Valley Road\, Birmingham\, AL\, 35242
GEO:33.3646429;-86.7165499
X-APPLE-STRUCTURED-LOCATION;VALUE=URI;X-ADDRESS=North Shelby Library 5521 Cahaba Valley Road Birmingham AL 35242;X-APPLE-RADIUS=500;X-TITLE=5521 Cahaba Valley Road:geo:-86.7165499,33.3646429
END:VEVENT
BEGIN:VEVENT
DTSTART;TZID=America/Chicago:20200218T103000
DTEND;TZID=America/Chicago:20200218T113000
DTSTAMP:20260420T205506
CREATED:20200206T123508Z
LAST-MODIFIED:20200206T123508Z
UID:33612-1582021800-1582025400@birminghammommy.com
SUMMARY:Mt Laurel Puppet Tales
DESCRIPTION:A storytime filled with puppet fun! Watch stories and songs come alive through puppets and make a small puppet to take. Suited for ages 2-5. Registration required.
URL:https://birminghammommy.com/event/mt-laurel-puppet-tales-9/
LOCATION:Mt Laurel Library\, 111 Olmsted St\, Birmingham\, AL\, 35242
GEO:33.4096347;-86.6292618
X-APPLE-STRUCTURED-LOCATION;VALUE=URI;X-ADDRESS=Mt Laurel Library 111 Olmsted St Birmingham AL 35242;X-APPLE-RADIUS=500;X-TITLE=111 Olmsted St:geo:-86.6292618,33.4096347
END:VEVENT
BEGIN:VEVENT
DTSTART;TZID=America/Chicago:20200215T190000
DTEND;TZID=America/Chicago:20200215T220000
DTSTAMP:20260420T205506
CREATED:20191229T145942Z
LAST-MODIFIED:20191229T145942Z
UID:33057-1581793200-1581804000@birminghammommy.com
SUMMARY:Birmingham Bulls Hockey
DESCRIPTION:V. Huntsville \nAs You Walk Through the Door\, Your Hearts Starts Pumping! The irresistible lure of HOCKEY and the buzz of a packed house causes your ADRENALIN to surge. The music is PUMPING\, the lights fade and the smoke swirls – and that’s just the beginning. Monster hits\, UNBELIEVABLE GOALS and in-your-face hockey keeps you on the edge of your seat. The action is NON-STOP! With heart pounding music\, contests\, and the prospect of catching a fantastic FREE SOUVENIR\, what are you waiting for? Build your team’s SPIRIT by sharing in ours. It’s an EXPERIENCE to remember.
URL:https://birminghammommy.com/event/birmingham-bulls-hockey-37/
LOCATION:Pelham Civic Center and Ice Arena\, 500 Amphitheater Drive\, Pelham\, 35124\, United States
END:VEVENT
BEGIN:VEVENT
DTSTART;TZID=America/Chicago:20200215T143000
DTEND;TZID=America/Chicago:20200215T160000
DTSTAMP:20260420T205506
CREATED:20200126T235117Z
LAST-MODIFIED:20200126T235117Z
UID:33491-1581777000-1581782400@birminghammommy.com
SUMMARY:Bunnicula
DESCRIPTION:BUNNICULA\nBOOK BY JOHN KLEIN\nMUSIC BY CHRIS JEFFRIES\nBASED ON THE BOOK BY JAMES AND DEBORAH HOWE \nDIRECTED BY BRANDON BRUCE\nOn a dark and stormy night\, the Monroe family brings home a new pet…but Bunnicula is no ordinary rabbit. When the family’s produce starts losing its juice\, it’s up to Chester (the family cat) and Harold (the family dog) to find the cause of this fantastic phenomenon. With a dancing cat\, a howling dog\, and a peculiar bunny\, this clever musical adaptation of James & Deborah Howe’s classic novel is a mystery audiences of all ages will enjoy! \nFEBRUARY 15TH\, 16TH & 22ND @ 2:30PM\nRecommended for ages 8+\nApproximate Time: 75 minutes
URL:https://birminghammommy.com/event/bunnicula/2020-02-15/
LOCATION:Birmingham Children’s Theatre\, 2130 Richard Arrington Jr Blvd N\, Birmingham\, AL\, 35203
ATTACH;FMTTYPE=image/jpeg:https://birminghammommy.com/wp-content/uploads/2020/01/Bunnicula-sm.jpg
ORGANIZER;CN="Birmingham Children's Theatre":MAILTO:info@bct123.org
GEO:33.525709;-86.8101544
X-APPLE-STRUCTURED-LOCATION;VALUE=URI;X-ADDRESS=Birmingham Children’s Theatre 2130 Richard Arrington Jr Blvd N Birmingham AL 35203;X-APPLE-RADIUS=500;X-TITLE=2130 Richard Arrington Jr Blvd N:geo:-86.8101544,33.525709
END:VEVENT
BEGIN:VEVENT
DTSTART;TZID=America/Chicago:20200215T130000
DTEND;TZID=America/Chicago:20200215T140000
DTSTAMP:20260420T205506
CREATED:20200110T201428Z
LAST-MODIFIED:20200110T201428Z
UID:33201-1581771600-1581775200@birminghammommy.com
SUMMARY:Book Signing with Laynie Bynum
DESCRIPTION:Come meet local author Laynie Bynum as she signs copies of her debut YA romance novel\, Adeline’s Aria. Recommended for Grades 9 Up.
URL:https://birminghammommy.com/event/book-signing-with-laynie-bynum/
LOCATION:Pelham Public Library\, 2000 Pelham Park Boulevard\, Pelham\, AL\, 35124\, United States
ATTACH;FMTTYPE=image/jpeg:https://birminghammommy.com/wp-content/uploads/2020/01/Laynie-Bynum.jpg
END:VEVENT
BEGIN:VEVENT
DTSTART;TZID=America/Chicago:20200215T100000
DTEND;TZID=America/Chicago:20200215T170000
DTSTAMP:20260420T205506
CREATED:20200126T232822Z
LAST-MODIFIED:20200126T232822Z
UID:33543-1581760800-1581786000@birminghammommy.com
SUMMARY:Big Machines Day
DESCRIPTION:Get your motors running and join us at McWane Science Center for a truckload of fun. Spend a constructive day getting up close and personal with some big machines. Big Machines Day is brought to you by CraneWorks.
URL:https://birminghammommy.com/event/big-machines-day-4/
LOCATION:McWane Science Center\, 200 19th Street North\, Birmingham\, AL\, 35203
GEO:33.5149315;-86.8083142
X-APPLE-STRUCTURED-LOCATION;VALUE=URI;X-ADDRESS=McWane Science Center 200 19th Street North Birmingham AL 35203;X-APPLE-RADIUS=500;X-TITLE=200 19th Street North:geo:-86.8083142,33.5149315
END:VEVENT
BEGIN:VEVENT
DTSTART;TZID=America/Chicago:20200215T100000
DTEND;TZID=America/Chicago:20200215T140000
DTSTAMP:20260420T205506
CREATED:20200206T123339Z
LAST-MODIFIED:20200206T123339Z
UID:33610-1581760800-1581775200@birminghammommy.com
SUMMARY:Mt Laurel Crafty Saturday
DESCRIPTION:Drop in to make a craft at the library. All ages with parent help. Registration is not required but supplies are limited.
URL:https://birminghammommy.com/event/mt-laurel-crafty-saturday-10/
LOCATION:Mt Laurel Library\, 111 Olmsted St\, Birmingham\, AL\, 35242
GEO:33.4096347;-86.6292618
X-APPLE-STRUCTURED-LOCATION;VALUE=URI;X-ADDRESS=Mt Laurel Library 111 Olmsted St Birmingham AL 35242;X-APPLE-RADIUS=500;X-TITLE=111 Olmsted St:geo:-86.6292618,33.4096347
END:VEVENT
BEGIN:VEVENT
DTSTART;TZID=America/Chicago:20200215T100000
DTEND;TZID=America/Chicago:20200215T110000
DTSTAMP:20260420T205506
CREATED:20200126T235117Z
LAST-MODIFIED:20200126T235117Z
UID:33483-1581760800-1581764400@birminghammommy.com
SUMMARY:Family Play Group
DESCRIPTION:Drop by for a fun time and a chance to play with friends and all our toddler toys. Open to children from birth-5 years accompanied by caregivers.
URL:https://birminghammommy.com/event/family-play-group-8/
LOCATION:Parnell Memorial Library\, 277 Park Drive\, Montevallo\, 35115\, United States
ATTACH;FMTTYPE=image/jpeg:https://birminghammommy.com/wp-content/uploads/2020/01/Family-play-group-1.jpg
END:VEVENT
BEGIN:VEVENT
DTSTART;TZID=America/Chicago:20200215T091500
DTEND;TZID=America/Chicago:20200215T100000
DTSTAMP:20260420T205506
CREATED:20200126T235139Z
LAST-MODIFIED:20200126T235139Z
UID:33481-1581758100-1581760800@birminghammommy.com
SUMMARY:Family Storytime
DESCRIPTION:Join us for Family Storytime with Ms. Jennifer! Perfect for babies\, toddlers\, and preschool kids. No registration required.
URL:https://birminghammommy.com/event/family-storytime-6/
LOCATION:Parnell Memorial Library\, 277 Park Drive\, Montevallo\, 35115\, United States
CATEGORIES:StoryTime
ATTACH;FMTTYPE=image/jpeg:https://birminghammommy.com/wp-content/uploads/2020/01/Family-Storytime.jpg
END:VEVENT
BEGIN:VEVENT
DTSTART;TZID=America/Chicago:20200215T090000
DTEND;TZID=America/Chicago:20200215T163000
DTSTAMP:20260420T205506
CREATED:20200206T115115Z
LAST-MODIFIED:20200206T115115Z
UID:33566-1581757200-1581784200@birminghammommy.com
SUMMARY:Reach for the Stars at CHOM!
DESCRIPTION:Reach for the Stars at CHOM! \nSaturday\, February 15\, 2020   9-4:30 pm \nAsteroid Launch! Space Crafts! Planetarium Shows! \n 
URL:https://birminghammommy.com/event/reach-for-the-stars-at-chom-3/
LOCATION:Children’s Hands-On Museum\, 2213 University Blvd.\, Tuscaloosa\, AL\, 35401\, United States
ATTACH;FMTTYPE=image/jpeg:https://birminghammommy.com/wp-content/uploads/2020/01/Reach-for-the-Stars-2-15.jpg
END:VEVENT
BEGIN:VEVENT
DTSTART;TZID=America/Chicago:20200214T193000
DTEND;TZID=America/Chicago:20200214T223000
DTSTAMP:20260420T205506
CREATED:20191229T145834Z
LAST-MODIFIED:20191229T145834Z
UID:33055-1581708600-1581719400@birminghammommy.com
SUMMARY:Birmingham Bulls Hockey
DESCRIPTION:V. Huntsville \nAs You Walk Through the Door\, Your Hearts Starts Pumping! The irresistible lure of HOCKEY and the buzz of a packed house causes your ADRENALIN to surge. The music is PUMPING\, the lights fade and the smoke swirls – and that’s just the beginning. Monster hits\, UNBELIEVABLE GOALS and in-your-face hockey keeps you on the edge of your seat. The action is NON-STOP! With heart pounding music\, contests\, and the prospect of catching a fantastic FREE SOUVENIR\, what are you waiting for? Build your team’s SPIRIT by sharing in ours. It’s an EXPERIENCE to remember.
URL:https://birminghammommy.com/event/birmingham-bulls-hockey-36/
LOCATION:Pelham Civic Center and Ice Arena\, 500 Amphitheater Drive\, Pelham\, 35124\, United States
END:VEVENT
BEGIN:VEVENT
DTSTART;TZID=America/Chicago:20200214T160000
DTEND;TZID=America/Chicago:20200214T170000
DTSTAMP:20260420T205506
CREATED:20200206T123200Z
LAST-MODIFIED:20200206T123200Z
UID:33608-1581696000-1581699600@birminghammommy.com
SUMMARY:Kids Candy Tasting
DESCRIPTION:Have you ever tried black licorice? What about candy from another country? Drop in to taste a variety of candies and vote for your favorite. All ages with parent help. Registration is not required but supplies are limited.
URL:https://birminghammommy.com/event/kids-candy-tasting/
LOCATION:North Shelby Library\, 5521 Cahaba Valley Road\, Birmingham\, AL\, 35242
GEO:33.3646429;-86.7165499
X-APPLE-STRUCTURED-LOCATION;VALUE=URI;X-ADDRESS=North Shelby Library 5521 Cahaba Valley Road Birmingham AL 35242;X-APPLE-RADIUS=500;X-TITLE=5521 Cahaba Valley Road:geo:-86.7165499,33.3646429
END:VEVENT
BEGIN:VEVENT
DTSTART;TZID=America/Chicago:20200214T100000
DTEND;TZID=America/Chicago:20200214T170000
DTSTAMP:20260420T205506
CREATED:20200126T232654Z
LAST-MODIFIED:20200126T232654Z
UID:33540-1581674400-1581699600@birminghammommy.com
SUMMARY:Sweet Science
DESCRIPTION:Science never tasted so sweet! Join us for Valentine’s Day and the tastiest activities.
URL:https://birminghammommy.com/event/sweet-science/2020-02-14/
LOCATION:McWane Science Center\, 200 19th Street North\, Birmingham\, AL\, 35203
GEO:33.5149315;-86.8083142
X-APPLE-STRUCTURED-LOCATION;VALUE=URI;X-ADDRESS=McWane Science Center 200 19th Street North Birmingham AL 35203;X-APPLE-RADIUS=500;X-TITLE=200 19th Street North:geo:-86.8083142,33.5149315
END:VEVENT
BEGIN:VEVENT
DTSTART;TZID=America/Chicago:20200214T090000
DTEND;TZID=America/Chicago:20200214T180000
DTSTAMP:20260420T205506
CREATED:20200206T135723Z
LAST-MODIFIED:20200206T135723Z
UID:33674-1581670800-1581703200@birminghammommy.com
SUMMARY:Make Valentines at Vestavia Hills Library
DESCRIPTION:Stop by the Vestavia Library on February 14 and make a Valentine! All day! All Ages!
URL:https://birminghammommy.com/event/make-valentines-at-vestavia-hills-library/
LOCATION:Vestavia Hills Library in the Forest\, 1221 Montgomery Hwy\, Vestavia Hills Library\, AL\, 35216
GEO:33.4311673;-86.7875936
X-APPLE-STRUCTURED-LOCATION;VALUE=URI;X-ADDRESS=Vestavia Hills Library in the Forest 1221 Montgomery Hwy Vestavia Hills Library AL 35216;X-APPLE-RADIUS=500;X-TITLE=1221 Montgomery Hwy:geo:-86.7875936,33.4311673
END:VEVENT
BEGIN:VEVENT
DTSTART;TZID=America/Chicago:20200213T183000
DTEND;TZID=America/Chicago:20200213T191500
DTSTAMP:20260420T205506
CREATED:20200206T123021Z
LAST-MODIFIED:20200206T123021Z
UID:33606-1581618600-1581621300@birminghammommy.com
SUMMARY:Pajama Storytime at North Shelby
DESCRIPTION:Come in your PJs\, have some cookies\, and hear some wonderful bedtime tales.\n \nSuited for ages 3 and up. No Registration Required.
URL:https://birminghammommy.com/event/pajama-storytime-at-north-shelby-2/
LOCATION:North Shelby Library\, 5521 Cahaba Valley Road\, Birmingham\, AL\, 35242
GEO:33.3646429;-86.7165499
X-APPLE-STRUCTURED-LOCATION;VALUE=URI;X-ADDRESS=North Shelby Library 5521 Cahaba Valley Road Birmingham AL 35242;X-APPLE-RADIUS=500;X-TITLE=5521 Cahaba Valley Road:geo:-86.7165499,33.3646429
END:VEVENT
BEGIN:VEVENT
DTSTART;TZID=America/Chicago:20200213T100000
DTEND;TZID=America/Chicago:20200213T103000
DTSTAMP:20260420T205506
CREATED:20200206T135606Z
LAST-MODIFIED:20200206T135606Z
UID:33670-1581588000-1581589800@birminghammommy.com
SUMMARY:Book Babies at Vestavia Hills Library
DESCRIPTION:Ms. Lisa introduces babies birth to 18 months to the joys of storytime with special lap-sit programs.
URL:https://birminghammommy.com/event/book-babies-at-vestavia-hills-library-3/2020-02-13/
LOCATION:Vestavia Hills Library in the Forest\, 1221 Montgomery Hwy\, Vestavia Hills Library\, AL\, 35216
GEO:33.4311673;-86.7875936
X-APPLE-STRUCTURED-LOCATION;VALUE=URI;X-ADDRESS=Vestavia Hills Library in the Forest 1221 Montgomery Hwy Vestavia Hills Library AL 35216;X-APPLE-RADIUS=500;X-TITLE=1221 Montgomery Hwy:geo:-86.7875936,33.4311673
END:VEVENT
BEGIN:VEVENT
DTSTART;TZID=America/Chicago:20200213T093000
DTEND;TZID=America/Chicago:20200213T120000
DTSTAMP:20260420T205506
CREATED:20200206T135403Z
LAST-MODIFIED:20200206T135403Z
UID:33666-1581586200-1581595200@birminghammommy.com
SUMMARY:LIFT
DESCRIPTION:Join fellow preschoolers and their caregivers for social play with tents\, tunnels and more.
URL:https://birminghammommy.com/event/lift/2020-02-13/
LOCATION:Vestavia Hills Library in the Forest\, 1221 Montgomery Hwy\, Vestavia Hills Library\, AL\, 35216
GEO:33.4311673;-86.7875936
X-APPLE-STRUCTURED-LOCATION;VALUE=URI;X-ADDRESS=Vestavia Hills Library in the Forest 1221 Montgomery Hwy Vestavia Hills Library AL 35216;X-APPLE-RADIUS=500;X-TITLE=1221 Montgomery Hwy:geo:-86.7875936,33.4311673
END:VEVENT
BEGIN:VEVENT
DTSTART;TZID=America/Chicago:20200212T153000
DTEND;TZID=America/Chicago:20200212T163000
DTSTAMP:20260420T205506
CREATED:20200206T134931Z
LAST-MODIFIED:20200206T134931Z
UID:33662-1581521400-1581525000@birminghammommy.com
SUMMARY:12 Below Something Cool After School
DESCRIPTION:Join Ms. Holly on Wednesdays at 3:30 for a fun tween program at the Vestavia Library. Trivia\, Gaming\, Arts & Crafts\, Movies\, Holiday Fun & So MUCH More. It’s for 12 Bel°w or Ages 8-12! Snacks served. We can’t wait to see you there!
URL:https://birminghammommy.com/event/12-below-something-cool-after-school/2020-02-12/
LOCATION:Vestavia Hills Library in the Forest\, 1221 Montgomery Hwy\, Vestavia Hills Library\, AL\, 35216
GEO:33.4311673;-86.7875936
X-APPLE-STRUCTURED-LOCATION;VALUE=URI;X-ADDRESS=Vestavia Hills Library in the Forest 1221 Montgomery Hwy Vestavia Hills Library AL 35216;X-APPLE-RADIUS=500;X-TITLE=1221 Montgomery Hwy:geo:-86.7875936,33.4311673
END:VEVENT
BEGIN:VEVENT
DTSTART;TZID=America/Chicago:20200212T104500
DTEND;TZID=America/Chicago:20200212T113000
DTSTAMP:20260420T205506
CREATED:20200206T120025Z
LAST-MODIFIED:20200206T120025Z
UID:33602-1581504300-1581507000@birminghammommy.com
SUMMARY:Family Storytime with Mr Mac
DESCRIPTION:Stories\, puppets\, and lots of music for every member of the family. \nAll ages. No registration.
URL:https://birminghammommy.com/event/family-storytime-with-mr-mac-27/2020-02-12/
END:VEVENT
BEGIN:VEVENT
DTSTART;TZID=America/Chicago:20200212T103000
DTEND;TZID=America/Chicago:20200212T111500
DTSTAMP:20260420T205506
CREATED:20200206T134552Z
LAST-MODIFIED:20200206T134552Z
UID:33658-1581503400-1581506100@birminghammommy.com
SUMMARY:Story Friends
DESCRIPTION:See Ms. Lisa bring your favorite stories to life! Ages 5 and under.
URL:https://birminghammommy.com/event/story-friends-3/2020-02-12/
LOCATION:Vestavia Hills Library in the Forest\, 1221 Montgomery Hwy\, Vestavia Hills Library\, AL\, 35216
GEO:33.4311673;-86.7875936
X-APPLE-STRUCTURED-LOCATION;VALUE=URI;X-ADDRESS=Vestavia Hills Library in the Forest 1221 Montgomery Hwy Vestavia Hills Library AL 35216;X-APPLE-RADIUS=500;X-TITLE=1221 Montgomery Hwy:geo:-86.7875936,33.4311673
END:VEVENT
BEGIN:VEVENT
DTSTART;TZID=America/Chicago:20200211T193000
DTEND;TZID=America/Chicago:20200211T223000
DTSTAMP:20260420T205506
CREATED:20191229T145650Z
LAST-MODIFIED:20191229T145650Z
UID:33053-1581449400-1581460200@birminghammommy.com
SUMMARY:Birmingham Bulls Hockey
DESCRIPTION:V. Knoxville \nAs You Walk Through the Door\, Your Hearts Starts Pumping! The irresistible lure of HOCKEY and the buzz of a packed house causes your ADRENALIN to surge. The music is PUMPING\, the lights fade and the smoke swirls – and that’s just the beginning. Monster hits\, UNBELIEVABLE GOALS and in-your-face hockey keeps you on the edge of your seat. The action is NON-STOP! With heart pounding music\, contests\, and the prospect of catching a fantastic FREE SOUVENIR\, what are you waiting for? Build your team’s SPIRIT by sharing in ours. It’s an EXPERIENCE to remember.
URL:https://birminghammommy.com/event/birmingham-bulls-hockey-35/
LOCATION:Pelham Civic Center and Ice Arena\, 500 Amphitheater Drive\, Pelham\, 35124\, United States
END:VEVENT
BEGIN:VEVENT
DTSTART;TZID=America/Chicago:20200211T160000
DTEND;TZID=America/Chicago:20200211T173000
DTSTAMP:20260420T205506
CREATED:20200206T134345Z
LAST-MODIFIED:20200206T134345Z
UID:33656-1581436800-1581442200@birminghammommy.com
SUMMARY:Love is in the Air
DESCRIPTION:Let love fly! Join us as we construct candy catapults and see who can launch their hearts the farthest. Snacks served. For Teens Grade 6-12
URL:https://birminghammommy.com/event/love-is-in-the-air/
LOCATION:Vestavia Hills Library in the Forest\, 1221 Montgomery Hwy\, Vestavia Hills Library\, AL\, 35216
GEO:33.4311673;-86.7875936
X-APPLE-STRUCTURED-LOCATION;VALUE=URI;X-ADDRESS=Vestavia Hills Library in the Forest 1221 Montgomery Hwy Vestavia Hills Library AL 35216;X-APPLE-RADIUS=500;X-TITLE=1221 Montgomery Hwy:geo:-86.7875936,33.4311673
END:VEVENT
BEGIN:VEVENT
DTSTART;TZID=America/Chicago:20200211T153000
DTEND;TZID=America/Chicago:20200211T161500
DTSTAMP:20260420T205506
CREATED:20200206T134200Z
LAST-MODIFIED:20200206T134200Z
UID:33652-1581435000-1581437700@birminghammommy.com
SUMMARY:Pick up STEAM
DESCRIPTION:Join Ms. Nia and Ms. Holly for S.T.E.A.M. activities at the Vestavia Hills Library in the Forest. Grades K-5 through 2nd. Snacks served.
URL:https://birminghammommy.com/event/pick-up-steam/2020-02-11/
LOCATION:Vestavia Hills Library in the Forest\, 1221 Montgomery Hwy\, Vestavia Hills Library\, AL\, 35216
GEO:33.4311673;-86.7875936
X-APPLE-STRUCTURED-LOCATION;VALUE=URI;X-ADDRESS=Vestavia Hills Library in the Forest 1221 Montgomery Hwy Vestavia Hills Library AL 35216;X-APPLE-RADIUS=500;X-TITLE=1221 Montgomery Hwy:geo:-86.7875936,33.4311673
END:VEVENT
BEGIN:VEVENT
DTSTART;TZID=America/Chicago:20200211T103000
DTEND;TZID=America/Chicago:20200211T111500
DTSTAMP:20260420T205506
CREATED:20200206T115850Z
LAST-MODIFIED:20200206T115850Z
UID:33599-1581417000-1581419700@birminghammommy.com
SUMMARY:Puppet Tales
DESCRIPTION:A new storytime filled with puppet fun! Watch stories and songs come alive through puppets and make a small puppet to take! Registration will begin two weeks prior to program date. \nDesigned for ages 2-5. Registration required.
URL:https://birminghammommy.com/event/puppet-tales-9/2020-02-11/
LOCATION:North Shelby Library\, 5521 Cahaba Valley Road\, Birmingham\, AL\, 35242
GEO:33.3646429;-86.7165499
X-APPLE-STRUCTURED-LOCATION;VALUE=URI;X-ADDRESS=North Shelby Library 5521 Cahaba Valley Road Birmingham AL 35242;X-APPLE-RADIUS=500;X-TITLE=5521 Cahaba Valley Road:geo:-86.7165499,33.3646429
END:VEVENT
BEGIN:VEVENT
DTSTART;TZID=America/Chicago:20200210T151500
DTEND;TZID=America/Chicago:20200210T161500
DTSTAMP:20260420T205506
CREATED:20200114T161410Z
LAST-MODIFIED:20200114T161410Z
UID:33245-1581347700-1581351300@birminghammommy.com
SUMMARY:Kid's Craft
DESCRIPTION:Join us for a hands-on craft\, perfect for kids in elementary school. Call the library to register.
URL:https://birminghammommy.com/event/kids-craft-3/
LOCATION:Parnell Memorial Library\, 277 Park Drive\, Montevallo\, AL\, 35115\, United States
ATTACH;FMTTYPE=image/jpeg:https://birminghammommy.com/wp-content/uploads/2020/01/Crafts.jpg
END:VEVENT
BEGIN:VEVENT
DTSTART;TZID=America/Chicago:20200210T103000
DTEND;TZID=America/Chicago:20200210T111500
DTSTAMP:20260420T205506
CREATED:20200206T115643Z
LAST-MODIFIED:20200206T115643Z
UID:33596-1581330600-1581333300@birminghammommy.com
SUMMARY:Toddler Tales at North Shelby Library
DESCRIPTION:Stories\, songs\, and fingerplays make up a lively 30 minute program designed especially for toddlers. Registration will begin one week prior to each storytime. \n\n \nAges 19-36 months. Registration required and opens 1 week before program.
URL:https://birminghammommy.com/event/toddler-tales-at-north-shelby-library-10/2020-02-10/
LOCATION:North Shelby Library\, 5521 Cahaba Valley Road\, Birmingham\, AL\, 35242
GEO:33.3646429;-86.7165499
X-APPLE-STRUCTURED-LOCATION;VALUE=URI;X-ADDRESS=North Shelby Library 5521 Cahaba Valley Road Birmingham AL 35242;X-APPLE-RADIUS=500;X-TITLE=5521 Cahaba Valley Road:geo:-86.7165499,33.3646429
END:VEVENT
BEGIN:VEVENT
DTSTART;TZID=America/Chicago:20200210T100000
DTEND;TZID=America/Chicago:20200210T103000
DTSTAMP:20260420T205506
CREATED:20200206T133930Z
LAST-MODIFIED:20200206T133930Z
UID:33648-1581328800-1581330600@birminghammommy.com
SUMMARY:Toddler A Go Go
DESCRIPTION:Join Ms. Anjie for reading readiness action and fun! Ages 18-36 months.
URL:https://birminghammommy.com/event/toddler-a-go-go-2/2020-02-10/
LOCATION:Vestavia Hills Library in the Forest\, 1221 Montgomery Hwy\, Vestavia Hills Library\, AL\, 35216
GEO:33.4311673;-86.7875936
X-APPLE-STRUCTURED-LOCATION;VALUE=URI;X-ADDRESS=Vestavia Hills Library in the Forest 1221 Montgomery Hwy Vestavia Hills Library AL 35216;X-APPLE-RADIUS=500;X-TITLE=1221 Montgomery Hwy:geo:-86.7875936,33.4311673
END:VEVENT
BEGIN:VEVENT
DTSTART;TZID=America/Chicago:20200210T093000
DTEND;TZID=America/Chicago:20200210T100000
DTSTAMP:20260420T205506
CREATED:20200206T133817Z
LAST-MODIFIED:20200206T133817Z
UID:33643-1581327000-1581328800@birminghammommy.com
SUMMARY:Toddler A Go Go
DESCRIPTION:Join Ms. Anjie for reading readiness action and fun! Ages 18-36 months.
URL:https://birminghammommy.com/event/toddler-a-go-go/2020-02-10/
LOCATION:Vestavia Hills Library in the Forest\, 1221 Montgomery Hwy\, Vestavia Hills Library\, AL\, 35216
GEO:33.4311673;-86.7875936
X-APPLE-STRUCTURED-LOCATION;VALUE=URI;X-ADDRESS=Vestavia Hills Library in the Forest 1221 Montgomery Hwy Vestavia Hills Library AL 35216;X-APPLE-RADIUS=500;X-TITLE=1221 Montgomery Hwy:geo:-86.7875936,33.4311673
END:VEVENT
BEGIN:VEVENT
DTSTART;TZID=America/Chicago:20200209T110000
DTEND;TZID=America/Chicago:20200209T123000
DTSTAMP:20260420T205506
CREATED:20200126T235117Z
LAST-MODIFIED:20200126T235117Z
UID:33510-1581246000-1581251400@birminghammommy.com
SUMMARY:Music of Grateful Dead for Kids
DESCRIPTION:The Rock and Roll Playhouse is excited to bring the Music of Grateful Dead for Kids to Saturn on Sunday February 9\, 2020.  \nThe Rock and Roll Playhouse is a children’s concert series that allows kids to “move\, play and sing while listening to works from the classic-rock canon” (NY Times). The Playhouse offers its core audience of children aged 10 and under games\, movement\, stories\, and an opportunity to rock out in a sensory-friendly environment while playing songs from musical icons such as Grateful Dead\, David Bowie\, The Beatles\, and more. Founded in 2013 in New York City\, the Playhouse has now expanded to over thirty venues and cities across the United States. \nDoors: 11:00am // Show: 11:30am-12:30pm
URL:https://birminghammommy.com/event/music-of-grateful-dead-for-kids/
LOCATION:Saturn\, 200 41st St S\, Birmingham\, AL\, 35222
ATTACH;FMTTYPE=image/png:https://birminghammommy.com/wp-content/uploads/2020/01/2020-01-22.png
ORGANIZER;CN="The Rock and Roll Playhouse":MAILTO:caitlin@therockandrollplayhouse.com
END:VEVENT
END:VCALENDAR