BEGIN:VCALENDAR
VERSION:2.0
PRODID:-//Birmingham Mommy - ECPv6.3.5//NONSGML v1.0//EN
CALSCALE:GREGORIAN
METHOD:PUBLISH
X-WR-CALNAME:Birmingham Mommy
X-ORIGINAL-URL:https://birminghammommy.com
X-WR-CALDESC:Events for Birmingham Mommy
REFRESH-INTERVAL;VALUE=DURATION:PT1H
X-Robots-Tag:noindex
X-PUBLISHED-TTL:PT1H
BEGIN:VTIMEZONE
TZID:America/Chicago
BEGIN:DAYLIGHT
TZOFFSETFROM:-0600
TZOFFSETTO:-0500
TZNAME:CDT
DTSTART:20200308T080000
END:DAYLIGHT
BEGIN:STANDARD
TZOFFSETFROM:-0500
TZOFFSETTO:-0600
TZNAME:CST
DTSTART:20201101T070000
END:STANDARD
END:VTIMEZONE
BEGIN:VEVENT
DTSTART;TZID=America/Chicago:20200314T100000
DTEND;TZID=America/Chicago:20200314T110000
DTSTAMP:20260420T225029
CREATED:20200305T004139Z
LAST-MODIFIED:20200305T004139Z
UID:33773-1584180000-1584183600@birminghammommy.com
SUMMARY:The True Story of the Three Little Pigs
DESCRIPTION:There are two sides to every story\, and when the Big Bad Wolf takes the stand in Piggsylvania’s Trial of the Century\, he finally gets his say. Will the pigs’ splashy puppet show win the day\, or is the wolf’s catchy song and dance about a sneeze gone wrong all razzle-dazzle?\n \nThe True Story of the 3 Little Pigs \nWritten by Robert Kauzlaric\, Paul Gilvary\, and William Rush. Directed by Leah Luker.\nBased on the book by Jon Sciezska \nMarch 14th | 25th | 27th | 28th* | April 4th @ 10:00am & 12:00pm\n*March 28th @ 12:00pm is a Sensory Friendly Performance\nApprox. 45 minutes. Great for ages 2 – 7.\nTickets and Information at www.bct123.org
URL:https://birminghammommy.com/event/the-true-story-of-the-three-little-pigs/2020-03-14/
LOCATION:Birmingham Children’s Theatre\, 2130 Richard Arrington Jr Blvd N\, Birmingham\, AL\, 35203
CATEGORIES:Consignment Sale
ATTACH;FMTTYPE=image/jpeg:https://birminghammommy.com/wp-content/uploads/2020/02/The-3-Little-Pigs.jpg
ORGANIZER;CN="Birmingham Children's Theatre":MAILTO:info@bct123.org
GEO:33.525709;-86.8101544
X-APPLE-STRUCTURED-LOCATION;VALUE=URI;X-ADDRESS=Birmingham Children’s Theatre 2130 Richard Arrington Jr Blvd N Birmingham AL 35203;X-APPLE-RADIUS=500;X-TITLE=2130 Richard Arrington Jr Blvd N:geo:-86.8101544,33.525709
END:VEVENT
BEGIN:VEVENT
DTSTART;TZID=America/Chicago:20200314T090000
DTEND;TZID=America/Chicago:20200314T163000
DTSTAMP:20260420T225029
CREATED:20200305T004139Z
LAST-MODIFIED:20200305T004139Z
UID:33847-1584176400-1584203400@birminghammommy.com
SUMMARY:Lucky Leprechaun at CHOM!
DESCRIPTION:  \nLucky Leprechaun at CHOM! \nSaturday\, March 14\, 2020   9-4:30 pm \nCompete in Leprechaun challenges! \nFollow the rainbow to find the pot of Gold! \nCash in your gold for prizes! \n  \n 
URL:https://birminghammommy.com/event/lucky-leprechaun-at-chom/
LOCATION:Children’s Hands-On Museum\, 2213 University Blvd.\, Tuscaloosa\, 35401\, United States
ATTACH;FMTTYPE=image/jpeg:https://birminghammommy.com/wp-content/uploads/2020/03/Lucky-Leprechaun-3-14-20.jpg
GEO:33.210036;-87.5661959
X-APPLE-STRUCTURED-LOCATION;VALUE=URI;X-ADDRESS=Children’s Hands-On Museum 2213 University Blvd. Tuscaloosa 35401 United States;X-APPLE-RADIUS=500;X-TITLE=2213 University Blvd.:geo:-87.5661959,33.210036
END:VEVENT
BEGIN:VEVENT
DTSTART;TZID=America/Chicago:20200313T193000
DTEND;TZID=America/Chicago:20200313T223000
DTSTAMP:20260420T225029
CREATED:20191229T150631Z
LAST-MODIFIED:20191229T150631Z
UID:33065-1584127800-1584138600@birminghammommy.com
SUMMARY:Birmingham Bulls Hockey
DESCRIPTION:V. Roanoke \nAs You Walk Through the Door\, Your Hearts Starts Pumping! The irresistible lure of HOCKEY and the buzz of a packed house causes your ADRENALIN to surge. The music is PUMPING\, the lights fade and the smoke swirls – and that’s just the beginning. Monster hits\, UNBELIEVABLE GOALS and in-your-face hockey keeps you on the edge of your seat. The action is NON-STOP! With heart pounding music\, contests\, and the prospect of catching a fantastic FREE SOUVENIR\, what are you waiting for? Build your team’s SPIRIT by sharing in ours. It’s an EXPERIENCE to remember.
URL:https://birminghammommy.com/event/birmingham-bulls-hockey-41/
LOCATION:Pelham Civic Center and Ice Arena\, 500 Amphitheater Drive\, Pelham\, 35124\, United States
END:VEVENT
BEGIN:VEVENT
DTSTART;TZID=America/Chicago:20200307T180000
DTEND;TZID=America/Chicago:20200307T220000
DTSTAMP:20260420T225029
CREATED:20200126T235117Z
LAST-MODIFIED:20200126T235117Z
UID:33529-1583604000-1583618400@birminghammommy.com
SUMMARY:Taste of Teal Gala
DESCRIPTION:The Laura Crandall Brown Foundation (LCBF) will host its Taste of Teal Gala on Saturday\, March 7th at Regions Field. The annual event is one of the organization’s signature fundraisers\, featuring a seated dinner and drinks\, live and silent auctions and casino games. LCBF will honor McGriff\, Seibels & Williams\, Inc. as the 2020 Legacy of Laura Corporate Honoree. McGriff\, Seibels & Williams continues to give back to their clients and community through their Lighthouse Projects\, including LCBF\, by investing countless volunteer hours and supporting local community projects. Three other “Legacy of Laura” honorees will also be recognized at the gala to celebrate the hope\, compassion\, and positivity they have brought to the lives of GYN cancer patients and survivors. \n\nAbout LCBF:  Our mission is offering hope through research for early detection of ovarian cancer\, empowering communities through gynecologic cancer awareness\, and enriching lives through patient support.  Learn more at www.thinkoflaura.org.
URL:https://birminghammommy.com/event/taste-of-teal-gala/
LOCATION:Regions Field\, 1401 1st Avenue S\, Birmingham\, 35233
GEO:33.5075002;-86.8105789
X-APPLE-STRUCTURED-LOCATION;VALUE=URI;X-ADDRESS=Regions Field 1401 1st Avenue S Birmingham 35233;X-APPLE-RADIUS=500;X-TITLE=1401 1st Avenue S:geo:-86.8105789,33.5075002
END:VEVENT
BEGIN:VEVENT
DTSTART;TZID=America/Chicago:20200307T090000
DTEND;TZID=America/Chicago:20200307T163000
DTSTAMP:20260420T225029
CREATED:20200305T004139Z
LAST-MODIFIED:20200305T004139Z
UID:33820-1583571600-1583598600@birminghammommy.com
SUMMARY:Dr. Seuss Day at CHOM!
DESCRIPTION:Dr. Seuss Day at CHOM! \nSaturday\, March 7\, 2020    9-4:30 pm \nLet’s Rhyme Storytime! \nDr. Seuss S.T.E.A.M.! \nTruffula Tree Bookmarks \n 
URL:https://birminghammommy.com/event/dr-seuss-day-at-chom-3/
LOCATION:Children’s Hands-On Museum\, 2213 University Blvd.\, Tuscaloosa\, AL\, 35401\, United States
ATTACH;FMTTYPE=image/jpeg:https://birminghammommy.com/wp-content/uploads/2020/03/Dr.-Suess-3-7-20.jpg
END:VEVENT
BEGIN:VEVENT
DTSTART;TZID=America/Chicago:20200304T100000
DTEND;TZID=America/Chicago:20200304T110000
DTSTAMP:20260420T225029
CREATED:20200219T140657Z
LAST-MODIFIED:20200219T140657Z
UID:33746-1583316000-1583319600@birminghammommy.com
SUMMARY:Family Play Group
DESCRIPTION:Drop by for a fun time and a chance to play with friends and all our toddler toys. Open to children from birth-5 years accompanied by caregivers.
URL:https://birminghammommy.com/event/family-play-group-9/2020-03-04/
LOCATION:Parnell Memorial Library\, 277 Park Drive\, Montevallo\, AL\, 35115\, United States
ATTACH;FMTTYPE=image/jpeg:https://birminghammommy.com/wp-content/uploads/2020/02/Family-Play-group.jpg
END:VEVENT
BEGIN:VEVENT
DTSTART;TZID=America/Chicago:20200304T091500
DTEND;TZID=America/Chicago:20200304T100000
DTSTAMP:20260420T225029
CREATED:20200219T140657Z
LAST-MODIFIED:20200219T140657Z
UID:33741-1583313300-1583316000@birminghammommy.com
SUMMARY:Storytime with Mr. Mac
DESCRIPTION:Stories and songs for kids and their caregivers\, featuring Mr. Mac! Free\, no registration required.
URL:https://birminghammommy.com/event/storytime-with-mr-mac-5/2020-03-04/
LOCATION:Parnell Memorial Library\, 277 Park Drive\, Montevallo\, 35115\, United States
ATTACH;FMTTYPE=image/jpeg:https://birminghammommy.com/wp-content/uploads/2020/02/Mr.-Mac.jpg
END:VEVENT
BEGIN:VEVENT
DTSTART;TZID=America/Chicago:20200302T153000
DTEND;TZID=America/Chicago:20200302T163000
DTSTAMP:20260420T225029
CREATED:20200219T140657Z
LAST-MODIFIED:20200219T140657Z
UID:33720-1583163000-1583166600@birminghammommy.com
SUMMARY:Breakerspace
DESCRIPTION:Take apart old computers\, put something new together – no expertise required! We’ll provide the retired tech\, you bring the creativity. Grades 5 – 12.
URL:https://birminghammommy.com/event/breakerspace-2/
LOCATION:Parnell Memorial Library\, 277 Park Drive\, Montevallo\, 35115\, United States
ATTACH;FMTTYPE=image/jpeg:https://birminghammommy.com/wp-content/uploads/2020/02/Breakerspace.jpg
END:VEVENT
BEGIN:VEVENT
DTSTART;TZID=America/Chicago:20200229T190000
DTEND;TZID=America/Chicago:20200229T220000
DTSTAMP:20260420T225029
CREATED:20191229T150442Z
LAST-MODIFIED:20191229T150442Z
UID:33063-1583002800-1583013600@birminghammommy.com
SUMMARY:Birmingham Bulls Hockey
DESCRIPTION:V. Macon \nAs You Walk Through the Door\, Your Hearts Starts Pumping! The irresistible lure of HOCKEY and the buzz of a packed house causes your ADRENALIN to surge. The music is PUMPING\, the lights fade and the smoke swirls – and that’s just the beginning. Monster hits\, UNBELIEVABLE GOALS and in-your-face hockey keeps you on the edge of your seat. The action is NON-STOP! With heart pounding music\, contests\, and the prospect of catching a fantastic FREE SOUVENIR\, what are you waiting for? Build your team’s SPIRIT by sharing in ours. It’s an EXPERIENCE to remember.
URL:https://birminghammommy.com/event/birmingham-bulls-hockey-40/
LOCATION:Pelham Civic Center and Ice Arena\, 500 Amphitheater Drive\, Pelham\, 35124\, United States
END:VEVENT
BEGIN:VEVENT
DTSTART;TZID=America/Chicago:20200229T170000
DTEND;TZID=America/Chicago:20200229T200000
DTSTAMP:20260420T225029
CREATED:20200126T232213Z
LAST-MODIFIED:20200126T232213Z
UID:33536-1582995600-1583006400@birminghammommy.com
SUMMARY:Beaker Bash at McWane Center
DESCRIPTION:Have you ever wondered how lightning works? Or why snowflakes never look alike? Find out the answers to questions like these and more at McWane Science Center’s biggest party of the year! You are invited to join us and your favorite meteorologists* as incredible\, one-of-a-kind activities rain down all over McWane during this one-night-only event! Your family will be blown away at the amazing experiences and great food you’ll find as you explore our exhibit halls in a way you’ve never seen it before. So bring the kids\, the grandparents\, and your friends and make the memories of a lifetime at Beaker Bash 2020 – Forecast: Fun!
URL:https://birminghammommy.com/event/beaker-bash-at-mcwane-center/
LOCATION:McWane Science Center\, 200 19th Street North\, Birmingham\, AL\, 35203
GEO:33.5149315;-86.8083142
X-APPLE-STRUCTURED-LOCATION;VALUE=URI;X-ADDRESS=McWane Science Center 200 19th Street North Birmingham AL 35203;X-APPLE-RADIUS=500;X-TITLE=200 19th Street North:geo:-86.8083142,33.5149315
END:VEVENT
BEGIN:VEVENT
DTSTART;TZID=America/Chicago:20200229T110000
DTEND;TZID=America/Chicago:20200229T130000
DTSTAMP:20260420T225029
CREATED:20200206T124957Z
LAST-MODIFIED:20200206T124957Z
UID:33627-1582974000-1582981200@birminghammommy.com
SUMMARY:Mt Laurel LEGO Club
DESCRIPTION:The library provides the Legos\, the kids provide the imagination and creativity. Families are welcome to drop in anytime between 11 and 1 to build spectacular creations which will be displayed in the library.
URL:https://birminghammommy.com/event/mt-laurel-lego-club-17/
LOCATION:Mt Laurel Library\, 111 Olmsted St\, Birmingham\, AL\, 35242
GEO:33.4096347;-86.6292618
X-APPLE-STRUCTURED-LOCATION;VALUE=URI;X-ADDRESS=Mt Laurel Library 111 Olmsted St Birmingham AL 35242;X-APPLE-RADIUS=500;X-TITLE=111 Olmsted St:geo:-86.6292618,33.4096347
END:VEVENT
BEGIN:VEVENT
DTSTART;TZID=America/Chicago:20200229T093000
DTEND;TZID=America/Chicago:20200229T113000
DTSTAMP:20260420T225029
CREATED:20200206T140603Z
LAST-MODIFIED:20200206T140603Z
UID:33688-1582968600-1582975800@birminghammommy.com
SUMMARY:Dungeons and Dragons
DESCRIPTION:Whether you’re new to the game or a veteran adventurer\, join the Teen Department and dive in to this classic tabletop rpg with fellow teens. Snacks served. For Teens Grade 6-12
URL:https://birminghammommy.com/event/dungeons-and-dragons/
LOCATION:Vestavia Hills Library in the Forest\, 1221 Montgomery Hwy\, Vestavia Hills Library\, AL\, 35216
GEO:33.4311673;-86.7875936
X-APPLE-STRUCTURED-LOCATION;VALUE=URI;X-ADDRESS=Vestavia Hills Library in the Forest 1221 Montgomery Hwy Vestavia Hills Library AL 35216;X-APPLE-RADIUS=500;X-TITLE=1221 Montgomery Hwy:geo:-86.7875936,33.4311673
END:VEVENT
BEGIN:VEVENT
DTSTART;TZID=America/Chicago:20200229T090000
DTEND;TZID=America/Chicago:20200229T163000
DTSTAMP:20260420T225029
CREATED:20200206T115115Z
LAST-MODIFIED:20200206T115115Z
UID:33570-1582966800-1582993800@birminghammommy.com
SUMMARY:Leap Day at CHOM!
DESCRIPTION:Leap Day at CHOM! \nSaturday\, February 29\, 2020   9-4:30 pm \nIt’s Leap Day\, Hooray! \nSpend your extra day at CHOM! \nMaking froggy crafts and competing in leaping challenges! \nDon’t forget: Leap Day happens once every 4 years! \n 
URL:https://birminghammommy.com/event/leap-day-at-chom/
LOCATION:Children’s Hands-On Museum\, 2213 University Blvd.\, Tuscaloosa\, AL\, 35401\, United States
ATTACH;FMTTYPE=image/jpeg:https://birminghammommy.com/wp-content/uploads/2020/01/Leap-Day-2-29.jpg
END:VEVENT
BEGIN:VEVENT
DTSTART;TZID=America/Chicago:20200228T193000
DTEND;TZID=America/Chicago:20200228T223000
DTSTAMP:20260420T225029
CREATED:20191229T150336Z
LAST-MODIFIED:20191229T150336Z
UID:33061-1582918200-1582929000@birminghammommy.com
SUMMARY:Birmingham Bulls Hockey
DESCRIPTION:V. Huntsville \nAs You Walk Through the Door\, Your Hearts Starts Pumping! The irresistible lure of HOCKEY and the buzz of a packed house causes your ADRENALIN to surge. The music is PUMPING\, the lights fade and the smoke swirls – and that’s just the beginning. Monster hits\, UNBELIEVABLE GOALS and in-your-face hockey keeps you on the edge of your seat. The action is NON-STOP! With heart pounding music\, contests\, and the prospect of catching a fantastic FREE SOUVENIR\, what are you waiting for? Build your team’s SPIRIT by sharing in ours. It’s an EXPERIENCE to remember.
URL:https://birminghammommy.com/event/birmingham-bulls-hockey-39/
LOCATION:Pelham Civic Center and Ice Arena\, 500 Amphitheater Drive\, Pelham\, 35124\, United States
END:VEVENT
BEGIN:VEVENT
DTSTART;TZID=America/Chicago:20200228T160000
DTEND;TZID=America/Chicago:20200228T173000
DTSTAMP:20260420T225029
CREATED:20200206T140503Z
LAST-MODIFIED:20200206T140503Z
UID:33686-1582905600-1582911000@birminghammommy.com
SUMMARY:Mario Kart Tournament
DESCRIPTION:Test your Switch skill in our Mario Kart 8 tournament!  Dominate the competition and fight to win an Amazon gift card! Snacks served. For Teens Grade 6-12
URL:https://birminghammommy.com/event/mario-kart-tournament/
LOCATION:Vestavia Hills Library in the Forest\, 1221 Montgomery Hwy\, Vestavia Hills Library\, AL\, 35216
GEO:33.4311673;-86.7875936
X-APPLE-STRUCTURED-LOCATION;VALUE=URI;X-ADDRESS=Vestavia Hills Library in the Forest 1221 Montgomery Hwy Vestavia Hills Library AL 35216;X-APPLE-RADIUS=500;X-TITLE=1221 Montgomery Hwy:geo:-86.7875936,33.4311673
END:VEVENT
BEGIN:VEVENT
DTSTART;TZID=America/Chicago:20200228T153000
DTEND;TZID=America/Chicago:20200228T163000
DTSTAMP:20260420T225029
CREATED:20200126T235117Z
LAST-MODIFIED:20200126T235117Z
UID:33485-1582903800-1582907400@birminghammommy.com
SUMMARY:Playdoh club
DESCRIPTION:You bring the creativity\, we’ll bring the playdough! Free\, no registration required.
URL:https://birminghammommy.com/event/playdoh-club-2/
LOCATION:Parnell Memorial Library\, 277 Park Drive\, Montevallo\, 35115\, United States
ATTACH;FMTTYPE=image/jpeg:https://birminghammommy.com/wp-content/uploads/2020/01/Playdoh.jpg
END:VEVENT
BEGIN:VEVENT
DTSTART;TZID=America/Chicago:20200226T160000
DTEND;TZID=America/Chicago:20200226T173000
DTSTAMP:20260420T225029
CREATED:20200206T140320Z
LAST-MODIFIED:20200206T140320Z
UID:33684-1582732800-1582738200@birminghammommy.com
SUMMARY:Teen Art Group
DESCRIPTION:Enjoy drawing\, sketching or simply doodling? Come make and share your work while celebrating your artistic talents with fellow teens! Snacks served. For Teens Grade 6-12
URL:https://birminghammommy.com/event/teen-art-group/
LOCATION:Vestavia Hills Library in the Forest\, 1221 Montgomery Hwy\, Vestavia Hills Library\, AL\, 35216
GEO:33.4311673;-86.7875936
X-APPLE-STRUCTURED-LOCATION;VALUE=URI;X-ADDRESS=Vestavia Hills Library in the Forest 1221 Montgomery Hwy Vestavia Hills Library AL 35216;X-APPLE-RADIUS=500;X-TITLE=1221 Montgomery Hwy:geo:-86.7875936,33.4311673
END:VEVENT
BEGIN:VEVENT
DTSTART;TZID=America/Chicago:20200225T160000
DTEND;TZID=America/Chicago:20200225T180000
DTSTAMP:20260420T225029
CREATED:20200206T140224Z
LAST-MODIFIED:20200206T140224Z
UID:33682-1582646400-1582653600@birminghammommy.com
SUMMARY:Anime Night
DESCRIPTION:Engage with fellow otaku and watch the anime of choice. Snacks served. For Teens Grade 6-12
URL:https://birminghammommy.com/event/anime-night/
LOCATION:Vestavia Hills Library in the Forest\, 1221 Montgomery Hwy\, Vestavia Hills Library\, AL\, 35216
GEO:33.4311673;-86.7875936
X-APPLE-STRUCTURED-LOCATION;VALUE=URI;X-ADDRESS=Vestavia Hills Library in the Forest 1221 Montgomery Hwy Vestavia Hills Library AL 35216;X-APPLE-RADIUS=500;X-TITLE=1221 Montgomery Hwy:geo:-86.7875936,33.4311673
END:VEVENT
BEGIN:VEVENT
DTSTART;TZID=America/Chicago:20200224T160000
DTEND;TZID=America/Chicago:20200224T170000
DTSTAMP:20260420T225029
CREATED:20200206T124751Z
LAST-MODIFIED:20200206T124751Z
UID:33625-1582560000-1582563600@birminghammommy.com
SUMMARY:Garden Gates: Windowsill Gardening
DESCRIPTION:Registration begins 2/10/2020 at 8:00 AM\n\nWhile cold winds blow outside\, we’ll find the fun of windowsill gardening. Designed for Ages 5-10. Registration is required.
URL:https://birminghammommy.com/event/garden-gates-windowsill-gardening/
LOCATION:North Shelby Library\, 5521 Cahaba Valley Road\, Birmingham\, AL\, 35242
GEO:33.3646429;-86.7165499
X-APPLE-STRUCTURED-LOCATION;VALUE=URI;X-ADDRESS=North Shelby Library 5521 Cahaba Valley Road Birmingham AL 35242;X-APPLE-RADIUS=500;X-TITLE=5521 Cahaba Valley Road:geo:-86.7165499,33.3646429
END:VEVENT
BEGIN:VEVENT
DTSTART;TZID=America/Chicago:20200222T090000
DTEND;TZID=America/Chicago:20200222T163000
DTSTAMP:20260420T225029
CREATED:20200206T115115Z
LAST-MODIFIED:20200206T115115Z
UID:33568-1582362000-1582389000@birminghammommy.com
SUMMARY:Mardi Gras at CHOM!
DESCRIPTION:Celebrate Mardi Gras at CHOM! \nSaturday\, February 22\, 2020   9-4:30 pm \nMake crafts\, try King Cake\, and more! Family friendly fun for all ages! \n 
URL:https://birminghammommy.com/event/mardi-gras-at-chom-2/
LOCATION:Children’s Hands-On Museum\, 2213 University Blvd.\, Tuscaloosa\, AL\, 35401\, United States
ATTACH;FMTTYPE=image/jpeg:https://birminghammommy.com/wp-content/uploads/2020/01/Mardi-Gras-2-22.jpg
END:VEVENT
BEGIN:VEVENT
DTSTART;TZID=America/Chicago:20200221T183000
DTEND;TZID=America/Chicago:20200221T203000
DTSTAMP:20260420T225029
CREATED:20200206T140125Z
LAST-MODIFIED:20200206T140125Z
UID:33680-1582309800-1582317000@birminghammommy.com
SUMMARY:Harry Potter Horcrux Hunt
DESCRIPTION:The Library will be transformed into the Ministry of Magic where kids can report for Auror training! Participants will be able to perform tests to determine their magical talents\, search for hidden horcruxes and have a snack. Grades 2-6. REGISTRATION IS REQUIRED FOR THIS EVENT! Registration will open Feb 1\, 2020 and only 75 Auror applicants will be admitted. \nTo register your 2nd-6th grader on February 1 or after please call 205-978-0158. \nPlease note that this program is designed for parents to drop their kids off and pick them up at the end.
URL:https://birminghammommy.com/event/harry-potter-horcrux-hunt/
LOCATION:Vestavia Hills Library in the Forest\, 1221 Montgomery Hwy\, Vestavia Hills Library\, AL\, 35216
GEO:33.4311673;-86.7875936
X-APPLE-STRUCTURED-LOCATION;VALUE=URI;X-ADDRESS=Vestavia Hills Library in the Forest 1221 Montgomery Hwy Vestavia Hills Library AL 35216;X-APPLE-RADIUS=500;X-TITLE=1221 Montgomery Hwy:geo:-86.7875936,33.4311673
END:VEVENT
BEGIN:VEVENT
DTSTART;TZID=America/Chicago:20200221T160000
DTEND;TZID=America/Chicago:20200221T173000
DTSTAMP:20260420T225029
CREATED:20200206T135958Z
LAST-MODIFIED:20200206T135958Z
UID:33678-1582300800-1582306200@birminghammommy.com
SUMMARY:Open Gaming at Vestavia Hills Library
DESCRIPTION:Enjoy awesome board games and the latest consoles with fellow teens. Snacks served. For Teens Grade 6-12
URL:https://birminghammommy.com/event/open-gaming-at-vestavia-hills-library/
LOCATION:Vestavia Hills Library in the Forest\, 1221 Montgomery Hwy\, Vestavia Hills Library\, AL\, 35216
GEO:33.4311673;-86.7875936
X-APPLE-STRUCTURED-LOCATION;VALUE=URI;X-ADDRESS=Vestavia Hills Library in the Forest 1221 Montgomery Hwy Vestavia Hills Library AL 35216;X-APPLE-RADIUS=500;X-TITLE=1221 Montgomery Hwy:geo:-86.7875936,33.4311673
END:VEVENT
BEGIN:VEVENT
DTSTART;TZID=America/Chicago:20200221T110000
DTEND;TZID=America/Chicago:20200221T120000
DTSTAMP:20260420T225029
CREATED:20200206T124538Z
LAST-MODIFIED:20200206T124538Z
UID:33623-1582282800-1582286400@birminghammommy.com
SUMMARY:Mt Laurel Storytime
DESCRIPTION:Stories\, music\, and more for every member of the family. All ages. No registration required.
URL:https://birminghammommy.com/event/mt-laurel-storytime-15/2020-02-21/
LOCATION:Mt Laurel Library\, 111 Olmsted St\, Birmingham\, AL\, 35242
GEO:33.4096347;-86.6292618
X-APPLE-STRUCTURED-LOCATION;VALUE=URI;X-ADDRESS=Mt Laurel Library 111 Olmsted St Birmingham AL 35242;X-APPLE-RADIUS=500;X-TITLE=111 Olmsted St:geo:-86.6292618,33.4096347
END:VEVENT
BEGIN:VEVENT
DTSTART;TZID=America/Chicago:20200220T180000
DTEND;TZID=America/Chicago:20200220T190000
DTSTAMP:20260420T225029
CREATED:20200206T124205Z
LAST-MODIFIED:20200206T124205Z
UID:33620-1582221600-1582225200@birminghammommy.com
SUMMARY:Dog Man Party
DESCRIPTION:Celebrate everyone’s favorite canine police officer with games\, crafts\, snacks\, and a chance to win a copy of the latest book! All ages are welcome. Registration required. Snacks provided.
URL:https://birminghammommy.com/event/dog-man-party/
LOCATION:North Shelby Library\, 5521 Cahaba Valley Road\, Birmingham\, AL\, 35242
GEO:33.3646429;-86.7165499
X-APPLE-STRUCTURED-LOCATION;VALUE=URI;X-ADDRESS=North Shelby Library 5521 Cahaba Valley Road Birmingham AL 35242;X-APPLE-RADIUS=500;X-TITLE=5521 Cahaba Valley Road:geo:-86.7165499,33.3646429
END:VEVENT
BEGIN:VEVENT
DTSTART;TZID=America/Chicago:20200220T103000
DTEND;TZID=America/Chicago:20200220T110000
DTSTAMP:20260420T225029
CREATED:20200206T124052Z
LAST-MODIFIED:20200206T124052Z
UID:33618-1582194600-1582196400@birminghammommy.com
SUMMARY:Baby Tales
DESCRIPTION:A special story program just for babies (birth to 18 months) and a caregiver. Stories\, fingerplays\, and music provide interaction for the babies and time for caregivers to talk and share with each other. \n\n \nFor ages birth to 18 months and a caregiver only. No registration required.
URL:https://birminghammommy.com/event/baby-tales-11/
LOCATION:North Shelby Library\, 5521 Cahaba Valley Road\, Birmingham\, AL\, 35242
GEO:33.3646429;-86.7165499
X-APPLE-STRUCTURED-LOCATION;VALUE=URI;X-ADDRESS=North Shelby Library 5521 Cahaba Valley Road Birmingham AL 35242;X-APPLE-RADIUS=500;X-TITLE=5521 Cahaba Valley Road:geo:-86.7165499,33.3646429
END:VEVENT
BEGIN:VEVENT
DTSTART;TZID=America/Chicago:20200219T130000
DTEND;TZID=America/Chicago:20200219T140000
DTSTAMP:20260420T225029
CREATED:20200206T123830Z
LAST-MODIFIED:20200206T123830Z
UID:33616-1582117200-1582120800@birminghammommy.com
SUMMARY:K-5th Homeschool Hangout: Who Would Win? History Edition
DESCRIPTION:George Washington vs. Jane Austen in a lightsaber duel: who would win? Using North Shelby Library’s biographical resources\, split into groups to defend your assigned historical figure’s prowess in activities ranging from climbing Mt Everest to karaoke! \nContact Vanessa at NSChildrensLibrarian@shelbycounty-al.org or 439-5504 for more information. Registration opens 3 weeks before start date. Grades K-5th. Registration required. Space is Limited.
URL:https://birminghammommy.com/event/k-5th-homeschool-hangout-who-would-win-history-edition/
LOCATION:North Shelby Library\, 5521 Cahaba Valley Road\, Birmingham\, AL\, 35242
GEO:33.3646429;-86.7165499
X-APPLE-STRUCTURED-LOCATION;VALUE=URI;X-ADDRESS=North Shelby Library 5521 Cahaba Valley Road Birmingham AL 35242;X-APPLE-RADIUS=500;X-TITLE=5521 Cahaba Valley Road:geo:-86.7165499,33.3646429
END:VEVENT
BEGIN:VEVENT
DTSTART;TZID=America/Chicago:20200218T193000
DTEND;TZID=America/Chicago:20200218T223000
DTSTAMP:20260420T225029
CREATED:20191229T150209Z
LAST-MODIFIED:20191229T150209Z
UID:33059-1582054200-1582065000@birminghammommy.com
SUMMARY:Birmingham Bulls Hockey
DESCRIPTION:V. Pensacola \nAs You Walk Through the Door\, Your Hearts Starts Pumping! The irresistible lure of HOCKEY and the buzz of a packed house causes your ADRENALIN to surge. The music is PUMPING\, the lights fade and the smoke swirls – and that’s just the beginning. Monster hits\, UNBELIEVABLE GOALS and in-your-face hockey keeps you on the edge of your seat. The action is NON-STOP! With heart pounding music\, contests\, and the prospect of catching a fantastic FREE SOUVENIR\, what are you waiting for? Build your team’s SPIRIT by sharing in ours. It’s an EXPERIENCE to remember.
URL:https://birminghammommy.com/event/birmingham-bulls-hockey-38/
LOCATION:Pelham Civic Center and Ice Arena\, 500 Amphitheater Drive\, Pelham\, 35124\, United States
END:VEVENT
BEGIN:VEVENT
DTSTART;TZID=America/Chicago:20200218T160000
DTEND;TZID=America/Chicago:20200218T173000
DTSTAMP:20260420T225029
CREATED:20200206T135832Z
LAST-MODIFIED:20200206T135832Z
UID:33676-1582041600-1582047000@birminghammommy.com
SUMMARY:Pocket Size Pixel Art
DESCRIPTION:Create your favorite characters with Perler beads. Snacks served. For Teens Grade 6-12
URL:https://birminghammommy.com/event/pocket-size-pixel-art/
LOCATION:Vestavia Hills Library in the Forest\, 1221 Montgomery Hwy\, Vestavia Hills Library\, AL\, 35216
GEO:33.4311673;-86.7875936
X-APPLE-STRUCTURED-LOCATION;VALUE=URI;X-ADDRESS=Vestavia Hills Library in the Forest 1221 Montgomery Hwy Vestavia Hills Library AL 35216;X-APPLE-RADIUS=500;X-TITLE=1221 Montgomery Hwy:geo:-86.7875936,33.4311673
END:VEVENT
BEGIN:VEVENT
DTSTART;TZID=America/Chicago:20200218T103000
DTEND;TZID=America/Chicago:20200218T113000
DTSTAMP:20260420T225029
CREATED:20200206T123644Z
LAST-MODIFIED:20200206T123644Z
UID:33614-1582021800-1582025400@birminghammommy.com
SUMMARY:Preschool Kitchen Science: Dino Daze
DESCRIPTION:Have a rawrsome time learning about dinosaurs with Ms. Jan the Science Lady! Preschool Ages 3-5.  Registration required.
URL:https://birminghammommy.com/event/preschool-kitchen-science-dino-daze/
LOCATION:North Shelby Library\, 5521 Cahaba Valley Road\, Birmingham\, AL\, 35242
GEO:33.3646429;-86.7165499
X-APPLE-STRUCTURED-LOCATION;VALUE=URI;X-ADDRESS=North Shelby Library 5521 Cahaba Valley Road Birmingham AL 35242;X-APPLE-RADIUS=500;X-TITLE=5521 Cahaba Valley Road:geo:-86.7165499,33.3646429
END:VEVENT
BEGIN:VEVENT
DTSTART;TZID=America/Chicago:20200218T103000
DTEND;TZID=America/Chicago:20200218T113000
DTSTAMP:20260420T225029
CREATED:20200206T123508Z
LAST-MODIFIED:20200206T123508Z
UID:33612-1582021800-1582025400@birminghammommy.com
SUMMARY:Mt Laurel Puppet Tales
DESCRIPTION:A storytime filled with puppet fun! Watch stories and songs come alive through puppets and make a small puppet to take. Suited for ages 2-5. Registration required.
URL:https://birminghammommy.com/event/mt-laurel-puppet-tales-9/
LOCATION:Mt Laurel Library\, 111 Olmsted St\, Birmingham\, AL\, 35242
GEO:33.4096347;-86.6292618
X-APPLE-STRUCTURED-LOCATION;VALUE=URI;X-ADDRESS=Mt Laurel Library 111 Olmsted St Birmingham AL 35242;X-APPLE-RADIUS=500;X-TITLE=111 Olmsted St:geo:-86.6292618,33.4096347
END:VEVENT
END:VCALENDAR