BEGIN:VCALENDAR
VERSION:2.0
PRODID:-//Birmingham Mommy - ECPv6.3.5//NONSGML v1.0//EN
CALSCALE:GREGORIAN
METHOD:PUBLISH
X-ORIGINAL-URL:https://birminghammommy.com
X-WR-CALDESC:Events for Birmingham Mommy
REFRESH-INTERVAL;VALUE=DURATION:PT1H
X-Robots-Tag:noindex
X-PUBLISHED-TTL:PT1H
BEGIN:VTIMEZONE
TZID:America/Chicago
BEGIN:DAYLIGHT
TZOFFSETFROM:-0600
TZOFFSETTO:-0500
TZNAME:CDT
DTSTART:20190310T080000
END:DAYLIGHT
BEGIN:STANDARD
TZOFFSETFROM:-0500
TZOFFSETTO:-0600
TZNAME:CST
DTSTART:20191103T070000
END:STANDARD
END:VTIMEZONE
BEGIN:VEVENT
DTSTART;TZID=America/Chicago:20190625T153000
DTEND;TZID=America/Chicago:20190625T161500
DTSTAMP:20260420T225014
CREATED:20190417T010919Z
LAST-MODIFIED:20190417T014053Z
UID:29231-1561476600-1561479300@birminghammommy.com
SUMMARY:Sewing Circle at Homewood Library
DESCRIPTION:2019 (K-5 Grade) Learn basic sewing skills and complete simple projects in this fun sewing club for kids. Registration is required.
URL:https://birminghammommy.com/event/sewing-circle-at-homewood-library-2/
LOCATION:Homewood Public Library\, Select a Country:
GEO:-12.0470469;-77.032263
END:VEVENT
BEGIN:VEVENT
DTSTART;TZID=America/Chicago:20190625T153000
DTEND;TZID=America/Chicago:20190625T161500
DTSTAMP:20260420T225014
CREATED:20190417T010919Z
LAST-MODIFIED:20190417T014347Z
UID:29233-1561476600-1561479300@birminghammommy.com
SUMMARY:Space Camp at Homewood Library
DESCRIPTION:2019 (K-5 Grade) Learn basic sewing skills and complete simple projects in this fun sewing club for kids. Registration is required.
URL:https://birminghammommy.com/event/space-camp-at-homewood-library-2/
LOCATION:Homewood Public Library\, 1721 Oxmoor Road\, Homewood\, AL\, 35209\, United States
GEO:33.4750533;-86.795404
X-APPLE-STRUCTURED-LOCATION;VALUE=URI;X-ADDRESS=Homewood Public Library 1721 Oxmoor Road Homewood AL 35209 United States;X-APPLE-RADIUS=500;X-TITLE=1721 Oxmoor Road:geo:-86.795404,33.4750533
END:VEVENT
BEGIN:VEVENT
DTSTART;TZID=America/Chicago:20190625T160000
DTEND;TZID=America/Chicago:20190625T170000
DTSTAMP:20260420T225014
CREATED:20190511T013917Z
LAST-MODIFIED:20190511T013917Z
UID:29894-1561478400-1561482000@birminghammommy.com
SUMMARY:Garden Gates
DESCRIPTION:An hour of hands-on STEM fun with a nature focus. \n Designed for Ages 5 and up. Registration is required.
URL:https://birminghammommy.com/event/garden-gates-5/
LOCATION:North Shelby Library\, 5521 Cahaba Valley Road\, Birmingham\, AL\, 35242
GEO:33.3646429;-86.7165499
X-APPLE-STRUCTURED-LOCATION;VALUE=URI;X-ADDRESS=North Shelby Library 5521 Cahaba Valley Road Birmingham AL 35242;X-APPLE-RADIUS=500;X-TITLE=5521 Cahaba Valley Road:geo:-86.7165499,33.3646429
END:VEVENT
BEGIN:VEVENT
DTSTART;TZID=America/Chicago:20190625T190500
DTEND;TZID=America/Chicago:20190625T220500
DTSTAMP:20260420T225014
CREATED:20190608T131345Z
LAST-MODIFIED:20190608T131345Z
UID:30563-1561489500-1561500300@birminghammommy.com
SUMMARY:Birmingham Baron's at Regions Field
DESCRIPTION:V. Mobile Bay Bears \n\n\n\n\n\n\n\n\n\n\n\nGame Highlights (2): Dollar Hot Dogs  \n\n\n\n\n\n\nBring the entire family out for Dollar Hot Dog night! | Presented By Flowers Bakery & Kayem Franks \n\n\n\n\n\n\n\n\n Game Highlight:  Peanut Free Night \nRegions Field will undergo a complete cleaning to remove all traces of peanuts. All peanuts and peanut products will also be removed from the ballpark to allow fans with peanut allergies to enjoy America’s favorite pastime in complete comfort. | Presented By Alabama Allergy \nPromotion: T-Shirt Tuesday  \n\n\n\n\n\n\nThe first 1\,000 adults in attendance will recieve a free Barons inspired t-shirt. | Presented By Paycor \n\n\n\n\n\n\n\n\n\n\n\n\n\n\n\n\n\n\nGeneral Admission seats remain the same price as in recent years with adult tickets available for $7.00. Children (12-years and younger)\, seniors (60 years and older) and members of the military receive $1.00 discounts on the listed prices for all reserved and general admission seats. General Admission seating is located in the right field bleachers and the berm seating areas.
URL:https://birminghammommy.com/event/birmingham-barons-at-regions-field-41/
LOCATION:Regions Field\, 1401 1st Avenue S\, Birmingham\, 35233
GEO:33.5075002;-86.8105789
X-APPLE-STRUCTURED-LOCATION;VALUE=URI;X-ADDRESS=Regions Field 1401 1st Avenue S Birmingham 35233;X-APPLE-RADIUS=500;X-TITLE=1401 1st Avenue S:geo:-86.8105789,33.5075002
END:VEVENT
BEGIN:VEVENT
DTSTART;TZID=America/Chicago:20190626T093000
DTEND;TZID=America/Chicago:20190626T100000
DTSTAMP:20260420T225014
CREATED:20190427T171649Z
LAST-MODIFIED:20190427T171649Z
UID:29537-1561541400-1561543200@birminghammommy.com
SUMMARY:Sensory Storytime at Homewood Library
DESCRIPTION:2019 (Preschool) Join Ms. Laura for books\, songs\, and activities that stimulate the senses and promote learning in a sensory-inclusive atmosphere. Registration is required.
URL:https://birminghammommy.com/event/sensory-storytime-at-homewood-library-6/
LOCATION:Homewood Public Library\, Select a Country:
GEO:-12.0470469;-77.032263
END:VEVENT
BEGIN:VEVENT
DTSTART;TZID=America/Chicago:20190626T103000
DTEND;TZID=America/Chicago:20190626T110000
DTSTAMP:20260420T225014
CREATED:20190417T010938Z
LAST-MODIFIED:20190417T013230Z
UID:29237-1561545000-1561546800@birminghammommy.com
SUMMARY:Story Bunch With Ms. Laura at Homewood Library
DESCRIPTION:2019 (Preschool) Join Ms. Laura for stories\, songs and lots of fun!
URL:https://birminghammommy.com/event/story-bunch-with-ms-laura-at-homewood-library-2/
LOCATION:Homewood Public Library\, Select a Country:
GEO:-12.0470469;-77.032263
END:VEVENT
BEGIN:VEVENT
DTSTART;TZID=America/Chicago:20190626T120000
DTEND;TZID=America/Chicago:20190626T140000
DTSTAMP:20260420T225014
CREATED:20190511T014023Z
LAST-MODIFIED:20190511T014023Z
UID:29896-1561550400-1561557600@birminghammommy.com
SUMMARY:Mt Laurel Craft
DESCRIPTION:Drop in from 12-2 pm to create a different fun item. All ages with adult assistance. Registration is not required. Supplies limited.
URL:https://birminghammommy.com/event/mt-laurel-craft-4/
LOCATION:Mt Laurel Library\, 111 Olmsted St\, Birmingham\, AL\, 35242
GEO:33.4096347;-86.6292618
X-APPLE-STRUCTURED-LOCATION;VALUE=URI;X-ADDRESS=Mt Laurel Library 111 Olmsted St Birmingham AL 35242;X-APPLE-RADIUS=500;X-TITLE=111 Olmsted St:geo:-86.6292618,33.4096347
END:VEVENT
BEGIN:VEVENT
DTSTART;TZID=America/Chicago:20190626T153000
DTEND;TZID=America/Chicago:20190626T161500
DTSTAMP:20260420T225014
CREATED:20190417T010938Z
LAST-MODIFIED:20190417T014613Z
UID:29241-1561563000-1561565700@birminghammommy.com
SUMMARY:Space Camp at Homewood Library
DESCRIPTION:2019 (4-7 Grade) Join us for a week of fun and science as we dive into the world of NASA! This event is offered as part of the NASA@ My Library grant. Registration is required
URL:https://birminghammommy.com/event/space-camp-at-homewood-library-3/
LOCATION:Homewood Public Library\, Select a Country:
GEO:-12.0470469;-77.032263
END:VEVENT
BEGIN:VEVENT
DTSTART;TZID=America/Chicago:20190626T153000
DTEND;TZID=America/Chicago:20190626T161500
DTSTAMP:20260420T225014
CREATED:20190427T171649Z
LAST-MODIFIED:20190427T171649Z
UID:29539-1561563000-1561565700@birminghammommy.com
SUMMARY:Harry Potter Coding Club at Homewood Library
DESCRIPTION:2019 (3-5 Grade) Learn coding basics while practicing your spell work! Wands (and laptops) will be provided. Registration is required.
URL:https://birminghammommy.com/event/harry-potter-coding-club-at-homewood-library/
LOCATION:Homewood Public Library\, Select a Country:
GEO:-12.0470469;-77.032263
END:VEVENT
BEGIN:VEVENT
DTSTART;TZID=America/Chicago:20190627T140000
DTEND;TZID=America/Chicago:20190627T143000
DTSTAMP:20260420T225014
CREATED:20190511T014130Z
LAST-MODIFIED:20190511T014130Z
UID:29898-1561644000-1561645800@birminghammommy.com
SUMMARY:Building Tech: Grades K-3
DESCRIPTION:Registration begins 6/13/2019 at 8:00 AM\n\nExplore engineering through a different building challenge each week.\n\nThis week: Chariots\nBuild a Sphero chariot and run the race!\n\nFor Grades K-3rd. Registration required.
URL:https://birminghammommy.com/event/building-tech-grades-k-3-4/
LOCATION:North Shelby Library\, 5521 Cahaba Valley Road\, Birmingham\, AL\, 35242
GEO:33.3646429;-86.7165499
X-APPLE-STRUCTURED-LOCATION;VALUE=URI;X-ADDRESS=North Shelby Library 5521 Cahaba Valley Road Birmingham AL 35242;X-APPLE-RADIUS=500;X-TITLE=5521 Cahaba Valley Road:geo:-86.7165499,33.3646429
END:VEVENT
BEGIN:VEVENT
DTSTART;TZID=America/Chicago:20190627T150000
DTEND;TZID=America/Chicago:20190627T160000
DTSTAMP:20260420T225014
CREATED:20190604T125226Z
LAST-MODIFIED:20190604T125226Z
UID:30128-1561647600-1561651200@birminghammommy.com
SUMMARY:Teen Event: Alabama Ghosts at the Parnell Memorial Library
DESCRIPTION:Think you’ve heard all the Alabama ghost stories? Think again! Join us for snacks and spooky stories. For teens in rising grades 6 – 12. No registration required.
URL:https://birminghammommy.com/event/teen-event-alabama-ghosts-at-the-parnell-memorial-library/
LOCATION:Parnell Memorial Library\, 277 Park Drive\, Montevallo\, AL\, 35115\, United States
ORGANIZER;CN="Parnell Memorial Library":MAILTO:skitchens@shelbycounty-al.org
END:VEVENT
BEGIN:VEVENT
DTSTART;TZID=America/Chicago:20190627T153000
DTEND;TZID=America/Chicago:20190627T161500
DTSTAMP:20260420T225014
CREATED:20190427T171649Z
LAST-MODIFIED:20190427T171649Z
UID:29541-1561649400-1561652100@birminghammommy.com
SUMMARY:Space Camp at Homewood Library
DESCRIPTION:2019 (4-7 Grade) Join us for a week of fun and science as we dive into the world of NASA! This event is offered as part of the NASA@ My Library grant. Registration is required.
URL:https://birminghammommy.com/event/space-camp-at-homewood-library-4/
LOCATION:Homewood Public Library\, Select a Country:
GEO:-12.0470469;-77.032263
END:VEVENT
BEGIN:VEVENT
DTSTART;TZID=America/Chicago:20190627T160000
DTEND;TZID=America/Chicago:20190627T170000
DTSTAMP:20260420T225014
CREATED:20190512T021359Z
LAST-MODIFIED:20190512T021359Z
UID:30025-1561651200-1561654800@birminghammommy.com
SUMMARY:Sports Space Jam
DESCRIPTION:Space inspired sports fun! \n\n\n\n\n\n\nSee how some of your favorite sports are played . . . IN SPACE! Games\, snacks and crafts.  Ages 6-12\, registration required
URL:https://birminghammommy.com/event/sports-space-jam/
LOCATION:Hoover Public Library\, 200 Municiple Drive\, Hoover\, AL\, 35216
GEO:33.387905;-86.8061018
X-APPLE-STRUCTURED-LOCATION;VALUE=URI;X-ADDRESS=Hoover Public Library 200 Municiple Drive Hoover AL 35216;X-APPLE-RADIUS=500;X-TITLE=200 Municiple Drive:geo:-86.8061018,33.387905
END:VEVENT
BEGIN:VEVENT
DTSTART;TZID=America/Chicago:20190627T180000
DTEND;TZID=America/Chicago:20190627T184500
DTSTAMP:20260420T225014
CREATED:20190417T010939Z
LAST-MODIFIED:20190417T014944Z
UID:29245-1561658400-1561661100@birminghammommy.com
SUMMARY:Narwhal and Jelly Party at Homewood Library
DESCRIPTION:2019 (All Ages) Join us for some underwater extravaganza with our favorite friends\, Narwhal and Jelly! Fin-tastic games\, treats\, and more will be provided.
URL:https://birminghammommy.com/event/narwhal-and-jelly-party-at-homewood-library/
LOCATION:Homewood Public Library\, Select a Country:
GEO:-12.0470469;-77.032263
END:VEVENT
BEGIN:VEVENT
DTSTART;TZID=America/Chicago:20190627T183000
DTEND;TZID=America/Chicago:20190627T191500
DTSTAMP:20260420T225014
CREATED:20190511T014327Z
LAST-MODIFIED:20190511T014327Z
UID:29900-1561660200-1561662900@birminghammommy.com
SUMMARY:Pajama Storytime
DESCRIPTION:Come in your PJs\, have milk and cookies\, and hear some wonderful bedtime tales. Suited for ages 3 and up. No Registration Required.
URL:https://birminghammommy.com/event/pajama-storytime-8/
LOCATION:North Shelby Library\, 5521 Cahaba Valley Road\, Birmingham\, AL\, 35242
GEO:33.3646429;-86.7165499
X-APPLE-STRUCTURED-LOCATION;VALUE=URI;X-ADDRESS=North Shelby Library 5521 Cahaba Valley Road Birmingham AL 35242;X-APPLE-RADIUS=500;X-TITLE=5521 Cahaba Valley Road:geo:-86.7165499,33.3646429
END:VEVENT
BEGIN:VEVENT
DTSTART;TZID=America/Chicago:20190627T190500
DTEND;TZID=America/Chicago:20190627T220000
DTSTAMP:20260420T225014
CREATED:20190608T131516Z
LAST-MODIFIED:20190608T131516Z
UID:30565-1561662300-1561672800@birminghammommy.com
SUMMARY:Birmingham Barons at Regions Field
DESCRIPTION:V. Mobile Bay Bears \n\n\n\n\n\n\n\n\n\n\n\nGame Highlight: Thirsty Thursday  \n\n\n\n\n\n\nCome out and enjoy a game at Regions Field with your best pal on Thirsty Thursday. On this night 16oz beverages for just $2. | Presented By Miller Lite\, Woodbridge\, and Buffalo Wild Wings. \n\n\n\n\n\n\n\n\n\n\n\n\nGeneral Admission seats remain the same price as in recent years with adult tickets available for $7.00. Children (12-years and younger)\, seniors (60 years and older) and members of the military receive $1.00 discounts on the listed prices for all reserved and general admission seats. General Admission seating is located in the right field bleachers and the berm seating areas.
URL:https://birminghammommy.com/event/birmingham-barons-at-regions-field-42/
LOCATION:Regions Field\, 1401 1st Avenue S\, Birmingham\, 35233
GEO:33.5075002;-86.8105789
X-APPLE-STRUCTURED-LOCATION;VALUE=URI;X-ADDRESS=Regions Field 1401 1st Avenue S Birmingham 35233;X-APPLE-RADIUS=500;X-TITLE=1401 1st Avenue S:geo:-86.8105789,33.5075002
END:VEVENT
BEGIN:VEVENT
DTSTART;TZID=America/Chicago:20190628T103000
DTEND;TZID=America/Chicago:20190628T111500
DTSTAMP:20260420T225014
CREATED:20190427T171649Z
LAST-MODIFIED:20190427T171649Z
UID:29543-1561717800-1561720500@birminghammommy.com
SUMMARY:Animal Adventures: Magic Poodles
DESCRIPTION:2019 (All Ages) Join us on Friday mornings to learn about different animals!
URL:https://birminghammommy.com/event/animal-adventures-magic-poodles/
LOCATION:Homewood Public Library\, Select a Country:
GEO:-12.0470469;-77.032263
END:VEVENT
BEGIN:VEVENT
DTSTART;TZID=America/Chicago:20190628T140000
DTEND;TZID=America/Chicago:20190628T144500
DTSTAMP:20260420T225014
CREATED:20190604T125226Z
LAST-MODIFIED:20190604T125226Z
UID:30130-1561730400-1561733100@birminghammommy.com
SUMMARY:Hands-on-Science at the Parnell Memorial Library
DESCRIPTION:Join us for a hands-on science activity! Call the library for more information at (205) 665-9207.
URL:https://birminghammommy.com/event/hands-on-science-at-the-parnell-memorial-library/
LOCATION:Parnell Memorial Library\, 277 Park Drive\, Montevallo\, AL\, 35115\, United States
ORGANIZER;CN="Parnell Memorial Library":MAILTO:skitchens@shelbycounty-al.org
END:VEVENT
BEGIN:VEVENT
DTSTART;TZID=America/Chicago:20190628T153000
DTEND;TZID=America/Chicago:20190628T161500
DTSTAMP:20260420T225014
CREATED:20190417T010939Z
LAST-MODIFIED:20190417T014656Z
UID:29249-1561735800-1561738500@birminghammommy.com
SUMMARY:Space Camp at Homewood Library
DESCRIPTION:2019 (4-7 Grade) Join us for a week of fun and science as we dive into the world of NASA! This event is offered as part of the NASA@ My Library grant. Registration is required
URL:https://birminghammommy.com/event/space-camp-at-homewood-library-5/
LOCATION:Homewood Public Library\, Select a Country:
GEO:-12.0470469;-77.032263
END:VEVENT
BEGIN:VEVENT
DTSTART;TZID=America/Chicago:20190628T190500
DTEND;TZID=America/Chicago:20190628T220500
DTSTAMP:20260420T225014
CREATED:20190608T131720Z
LAST-MODIFIED:20190608T132050Z
UID:30567-1561748700-1561759500@birminghammommy.com
SUMMARY:Birmingham Barons at Regions Field
DESCRIPTION:V. Mobile Bay Bears \n\n\n\n\n\n\n\n\n\n\n\n\nGame Highlights (2): Friday Night Fireworks  \n\n\n\n\n\n\nCome out to Regions Field as the Barons light up the sky after tonight’s game. | Presented By Coca-Cola\, Cajun Boys\, Comfort Care Hospice\, & Alabama Power \n\n\n\n\n\n\n\n\n Game Highlight:  Girl Scout Night \nFollowing the game\, select Girl Scouts will campout in the outfield. \nPromotion: Dylan Cease Bobblehead Giveaway  \n\n\n\n\n\n\nThe first 1\,000 fans will receive a bobblehead of Barons star pitcher Dylan Cease. | Presented By Auto-Owners Insurance \n\n\n\n\n\n\n\n\n\n\n\n\n\n\n\n\n\n\nGeneral Admission seats remain the same price as in recent years with adult tickets available for $7.00. Children (12-years and younger)\, seniors (60 years and older) and members of the military receive $1.00 discounts on the listed prices for all reserved and general admission seats. General Admission seating is located in the right field bleachers and the berm seating areas.
URL:https://birminghammommy.com/event/birmingham-barons-at-regions-field-43/
LOCATION:Regions Field\, 1401 1st Avenue S\, Birmingham\, 35233
GEO:33.5075002;-86.8105789
X-APPLE-STRUCTURED-LOCATION;VALUE=URI;X-ADDRESS=Regions Field 1401 1st Avenue S Birmingham 35233;X-APPLE-RADIUS=500;X-TITLE=1401 1st Avenue S:geo:-86.8105789,33.5075002
END:VEVENT
BEGIN:VEVENT
DTSTART;TZID=America/Chicago:20190629T090000
DTEND;TZID=America/Chicago:20190629T163000
DTSTAMP:20260420T225014
CREATED:20190604T124936Z
LAST-MODIFIED:20190604T124936Z
UID:30321-1561798800-1561825800@birminghammommy.com
SUMMARY:Water Safety Luau at CHOM!
DESCRIPTION:Water Safety Luau at CHOM! \nSaturday\, June 29\, 2019   9 – 4:30 pm \nMake a pineapple hand craft! Play Luau games! \nExplore water safety with the Army Corps of Engineers! \nAll activities included with admission! \n  \n 
URL:https://birminghammommy.com/event/water-safety-luau-at-chom/
LOCATION:Children’s Hands-On Museum\, 2213 University Blvd.\, Tuscaloosa\, AL\, 35401\, United States
ATTACH;FMTTYPE=image/jpeg:https://birminghammommy.com/wp-content/uploads/2019/06/Water-Safety-Luau-6-29.jpg
END:VEVENT
BEGIN:VEVENT
DTSTART;TZID=America/Chicago:20190629T103000
DTEND;TZID=America/Chicago:20190629T113000
DTSTAMP:20260420T225014
CREATED:20190512T021717Z
LAST-MODIFIED:20190512T021717Z
UID:30027-1561804200-1561807800@birminghammommy.com
SUMMARY:Junior Space Camp
DESCRIPTION:Hands-on exploration stations \n\n\n\n\n\n\nSpace enthusiasts ages 3-7 will reach for the stars (and grab them!) at hands-on exploration stations that are out of this world.
URL:https://birminghammommy.com/event/junior-space-camp/
LOCATION:Hoover Public Library\, 200 Municiple Drive\, Hoover\, AL\, 35216
GEO:33.387905;-86.8061018
X-APPLE-STRUCTURED-LOCATION;VALUE=URI;X-ADDRESS=Hoover Public Library 200 Municiple Drive Hoover AL 35216;X-APPLE-RADIUS=500;X-TITLE=200 Municiple Drive:geo:-86.8061018,33.387905
END:VEVENT
BEGIN:VEVENT
DTSTART;TZID=America/Chicago:20190629T110000
DTEND;TZID=America/Chicago:20190629T120000
DTSTAMP:20260420T225014
CREATED:20190604T125226Z
LAST-MODIFIED:20190604T125226Z
UID:30132-1561806000-1561809600@birminghammommy.com
SUMMARY:End of Summer Reading Party at Parnell Memorial Library
DESCRIPTION:Celebrate the end of summer with a hot dog cookout! Fun for the whole family. Free\, no registration required.
URL:https://birminghammommy.com/event/end-of-summer-reading-party-at-parnell-memorial-library/
LOCATION:Parnell Memorial Library\, 277 Park Drive\, Montevallo\, AL\, 35115\, United States
ORGANIZER;CN="Parnell Memorial Library":MAILTO:skitchens@shelbycounty-al.org
END:VEVENT
BEGIN:VEVENT
DTSTART;TZID=America/Chicago:20190629T110000
DTEND;TZID=America/Chicago:20190629T120000
DTSTAMP:20260420T225014
CREATED:20190608T012051Z
LAST-MODIFIED:20190608T012051Z
UID:30547-1561806000-1561809600@birminghammommy.com
SUMMARY:Pride Storytime Featuring Prince & Knight\, Maiden & Princess\, and Red: A Crayon's Story
DESCRIPTION:Join us for a Pride Storytime that celebrates diversity. Enjoy fun-filled activities\, and get a coupon from our Café for a grilled cheese sandwich with milk or juice for $4 (Café stores only).
URL:https://birminghammommy.com/event/pride-storytime-featuring-prince-knight-maiden-princess-and-red-a-crayons-story/
LOCATION:Barnes and Noble Summit\, 201 Summit Blvd\, Suite 100\, Birmingham\, AL\, 35243
GEO:33.446009;-86.7296901
X-APPLE-STRUCTURED-LOCATION;VALUE=URI;X-ADDRESS=Barnes and Noble Summit 201 Summit Blvd Suite 100 Birmingham AL 35243;X-APPLE-RADIUS=500;X-TITLE=201 Summit Blvd\, Suite 100:geo:-86.7296901,33.446009
END:VEVENT
BEGIN:VEVENT
DTSTART;TZID=America/Chicago:20190629T110000
DTEND;TZID=America/Chicago:20190629T130000
DTSTAMP:20260420T225014
CREATED:20190511T014427Z
LAST-MODIFIED:20190511T014427Z
UID:29902-1561806000-1561813200@birminghammommy.com
SUMMARY:Mt Laurel Lego Club
DESCRIPTION:The library provides the Legos\, the kids provide the imagination and creativity! Families are welcome to drop in anytime between 11 and 1 to build spectacular creations which will be displayed in the library.
URL:https://birminghammommy.com/event/mt-laurel-lego-club-11/
LOCATION:Mt Laurel Library\, 111 Olmsted St\, Birmingham\, AL\, 35242
GEO:33.4096347;-86.6292618
X-APPLE-STRUCTURED-LOCATION;VALUE=URI;X-ADDRESS=Mt Laurel Library 111 Olmsted St Birmingham AL 35242;X-APPLE-RADIUS=500;X-TITLE=111 Olmsted St:geo:-86.6292618,33.4096347
END:VEVENT
BEGIN:VEVENT
DTSTART;TZID=America/Chicago:20190629T140000
DTEND;TZID=America/Chicago:20190629T150000
DTSTAMP:20260420T225014
CREATED:20190608T012203Z
LAST-MODIFIED:20190608T012203Z
UID:30549-1561816800-1561820400@birminghammommy.com
SUMMARY:Game On! Event
DESCRIPTION:Elevate your gaming skills with our info-packed guides and activities at this interactive event for game-loving young readers.* *Event activities will not include gaming devices. Customers are invited to bring personal devices and hang out after the event to gameplay with the help of our official gaming guides.
URL:https://birminghammommy.com/event/game-on-event/
LOCATION:Barnes and Noble Summit\, 201 Summit Blvd\, Suite 100\, Birmingham\, AL\, 35243
GEO:33.446009;-86.7296901
X-APPLE-STRUCTURED-LOCATION;VALUE=URI;X-ADDRESS=Barnes and Noble Summit 201 Summit Blvd Suite 100 Birmingham AL 35243;X-APPLE-RADIUS=500;X-TITLE=201 Summit Blvd\, Suite 100:geo:-86.7296901,33.446009
END:VEVENT
BEGIN:VEVENT
DTSTART;TZID=America/Chicago:20190629T183000
DTEND;TZID=America/Chicago:20190629T213000
DTSTAMP:20260420T225014
CREATED:20190608T131949Z
LAST-MODIFIED:20190608T131949Z
UID:30569-1561833000-1561843800@birminghammommy.com
SUMMARY:Birmingham Barons at Regions Field
DESCRIPTION:V. Mobile Bay Bears \n\n\n\n\n\n\n\n\n\n\n\nGame Highlights (2): Peppa Pig – Entertainer Series  \n\n\n\n\n\n\nPeppa Pig and George from the famous animated TV series join us at Regions Field for a special meet & greet with fans.. | Presented By St. Vincent’s Health System\, a part of Ascension & Hiltion Birmingham at UAB \n\n\n\n\n\n\n\n\n Game Highlight:  Ronald McDonald House Kids Jersey Auction \nThe fourth jersey auction of the 2019 season will occur tonight where Ronald McDonald patients have designed a special custom jersey for the Barons to wear on the field. Proceeds from the jersey auction will benefit the Ronald McDonald House. \n\n\n\n\n\n\n\n\n\n\n\n\nGeneral Admission seats remain the same price as in recent years with adult tickets available for $7.00. Children (12-years and younger)\, seniors (60 years and older) and members of the military receive $1.00 discounts on the listed prices for all reserved and general admission seats. General Admission seating is located in the right field bleachers and the berm seating areas.
URL:https://birminghammommy.com/event/birmingham-barons-at-regions-field-44/
LOCATION:Regions Field\, 1401 1st Avenue S\, Birmingham\, 35233
GEO:33.5075002;-86.8105789
X-APPLE-STRUCTURED-LOCATION;VALUE=URI;X-ADDRESS=Regions Field 1401 1st Avenue S Birmingham 35233;X-APPLE-RADIUS=500;X-TITLE=1401 1st Avenue S:geo:-86.8105789,33.5075002
END:VEVENT
BEGIN:VEVENT
DTSTART;TZID=America/Chicago:20190630T110000
DTEND;TZID=America/Chicago:20190630T120000
DTSTAMP:20260420T225014
CREATED:20190608T012331Z
LAST-MODIFIED:20190608T012331Z
UID:30551-1561892400-1561896000@birminghammommy.com
SUMMARY:Baby & Me Storytime featuring Hello\, World! Solar System
DESCRIPTION:Introducing our new Baby & Me Storytime for caregivers and children 0-24 months old. Join us as we read a book and participate in activities building language skills for your little ones.
URL:https://birminghammommy.com/event/baby-me-storytime-featuring-hello-world-solar-system/
LOCATION:Barnes and Noble Summit\, 201 Summit Blvd\, Suite 100\, Birmingham\, AL\, 35243
GEO:33.446009;-86.7296901
X-APPLE-STRUCTURED-LOCATION;VALUE=URI;X-ADDRESS=Barnes and Noble Summit 201 Summit Blvd Suite 100 Birmingham AL 35243;X-APPLE-RADIUS=500;X-TITLE=201 Summit Blvd\, Suite 100:geo:-86.7296901,33.446009
END:VEVENT
BEGIN:VEVENT
DTSTART;TZID=America/Chicago:20190630T163000
DTEND;TZID=America/Chicago:20190630T183000
DTSTAMP:20260420T225014
CREATED:20190423T131821Z
LAST-MODIFIED:20190423T131821Z
UID:29349-1561912200-1561919400@birminghammommy.com
SUMMARY:1818 Farms Bloom Stroll and Bouquet Workshop
DESCRIPTION:Spend a late afternoon touring the beautiful gardens at 1818 Farms. Natasha will identify her favorite varieties of heirloom flowers and herbs that are grown in her cutting gardens. Workshop participants will learn planting\, growing and seed saving tips for creating their own beautiful garden. Natasha will also demonstrate the best methods for cutting flowers when gathering them for arrangements. Following the garden tour\, participants will gather at the 1818 Farms pavilion where the hands on portion of the workshop will begin. Each participant will be provided with a gorgeous selection of fresh cut flowers and herbs gathered that morning at the farm. Natasha will discuss the basic steps to follow in order to create a stunning floral arrangement for any occasion.
URL:https://birminghammommy.com/event/1818-farms-bloom-stroll-and-bouquet-workshop-6/
LOCATION:1818 Farms\, 24889 Lauderdale Street\, Mooresville\, AL\, 35649\, United States
ATTACH;FMTTYPE=image/jpeg:https://birminghammommy.com/wp-content/uploads/2019/04/bloom-stroll-2-1.jpg
END:VEVENT
BEGIN:VEVENT
DTSTART;TZID=America/Chicago:20190701T093000
DTEND;TZID=America/Chicago:20190701T100000
DTSTAMP:20260420T225014
CREATED:20190627T154302Z
LAST-MODIFIED:20190627T154302Z
UID:30795-1561973400-1561975200@birminghammommy.com
SUMMARY:Toddler Tales at Emmet O'Neal Library
DESCRIPTION:24 to 36 months with caregiver
URL:https://birminghammommy.com/event/toddler-tales-at-emmet-oneal-library-3/
LOCATION:Emmet O’ Neal Library\, 50 Oak Street\, Mountain Brook\, AL\, 35213
GEO:33.5012941;-86.7565774
X-APPLE-STRUCTURED-LOCATION;VALUE=URI;X-ADDRESS=Emmet O’ Neal Library 50 Oak Street Mountain Brook AL 35213;X-APPLE-RADIUS=500;X-TITLE=50 Oak Street:geo:-86.7565774,33.5012941
END:VEVENT
END:VCALENDAR