BEGIN:VCALENDAR
VERSION:2.0
PRODID:-//Birmingham Mommy - ECPv6.3.5//NONSGML v1.0//EN
CALSCALE:GREGORIAN
METHOD:PUBLISH
X-WR-CALNAME:Birmingham Mommy
X-ORIGINAL-URL:https://birminghammommy.com
X-WR-CALDESC:Events for Birmingham Mommy
REFRESH-INTERVAL;VALUE=DURATION:PT1H
X-Robots-Tag:noindex
X-PUBLISHED-TTL:PT1H
BEGIN:VTIMEZONE
TZID:America/Chicago
BEGIN:DAYLIGHT
TZOFFSETFROM:-0600
TZOFFSETTO:-0500
TZNAME:CDT
DTSTART:20190310T080000
END:DAYLIGHT
BEGIN:STANDARD
TZOFFSETFROM:-0500
TZOFFSETTO:-0600
TZNAME:CST
DTSTART:20191103T070000
END:STANDARD
END:VTIMEZONE
BEGIN:VEVENT
DTSTART;TZID=America/Chicago:20190622T143000
DTEND;TZID=America/Chicago:20190622T160000
DTSTAMP:20260420T201511
CREATED:20190608T184317Z
LAST-MODIFIED:20190608T184317Z
UID:30645-1561213800-1561219200@birminghammommy.com
SUMMARY:Reading with a Ranger
DESCRIPTION:Bring your kiddos to a fun day of Reading with a Ranger at Oak Mountain State Park! \nPark Ranger Barry Bemis will be reading “The Great Smokey Mountain Salamander Ball” by Lisa Horstman!\nMeet a LIVE Salamander and do a fun craft after story time! \nMeet at the Oak Mountain Interpretive Center at 2:30pm!\nALL AGES WELCOME! Stroller and wheelchair accessible!
URL:https://birminghammommy.com/event/reading-with-a-ranger/
LOCATION:Oak mountain State Park\, 200 Terrace Drive\, Pelham\, AL\, 35214
GEO:33.3247302;-86.7593249
X-APPLE-STRUCTURED-LOCATION;VALUE=URI;X-ADDRESS=Oak mountain State Park 200 Terrace Drive Pelham AL 35214;X-APPLE-RADIUS=500;X-TITLE=200 Terrace Drive:geo:-86.7593249,33.3247302
END:VEVENT
BEGIN:VEVENT
DTSTART;TZID=America/Chicago:20190622T150000
DTEND;TZID=America/Chicago:20190622T160000
DTSTAMP:20260420T201511
CREATED:20190511T011650Z
LAST-MODIFIED:20190511T011650Z
UID:29886-1561215600-1561219200@birminghammommy.com
SUMMARY:Mt Laurel Didgeridoo Down Under
DESCRIPTION:Mt Laurel Library\nDOCC Activity Bldg\n\nDidgeridoo Down Under is an Australian-themed show that combines music\, culture\, puppetry\, comedy\, character building\, storytelling and audience participation. The didgeridoo has been played by Aboriginal Australians for at least 1\,500 years\, and is known for its otherworldly sound. But DDU is more than music. It’s interactive\, educational\, motivational and super fun for all ages! All ages welcome. No registration required. Program will be held at the Double Oak Community Church Café.  Contact the Mt Laurel Library at 991-1660 or mtlaurel@shelbycounty-al.org for more information.
URL:https://birminghammommy.com/event/mt-laurel-didgeridoo-down-under/
LOCATION:Double Oak Mtn Community Church
END:VEVENT
BEGIN:VEVENT
DTSTART;TZID=America/Chicago:20190623T110000
DTEND;TZID=America/Chicago:20190623T120000
DTSTAMP:20260420T201511
CREATED:20190608T011440Z
LAST-MODIFIED:20190608T011440Z
UID:30545-1561287600-1561291200@birminghammommy.com
SUMMARY:Baby & Me Storytime featuring Hello\, World! Dinosaurs
DESCRIPTION:Introducing our new Baby & Me Storytime for caregivers and children 0-24 months old. Join us as we read a book and participate in activities building language skills for your little ones.
URL:https://birminghammommy.com/event/baby-me-storytime-featuring-hello-world-dinosaurs/
LOCATION:Barnes and Noble Summit\, 201 Summit Blvd\, Suite 100\, Birmingham\, AL\, 35243
GEO:33.446009;-86.7296901
X-APPLE-STRUCTURED-LOCATION;VALUE=URI;X-ADDRESS=Barnes and Noble Summit 201 Summit Blvd Suite 100 Birmingham AL 35243;X-APPLE-RADIUS=500;X-TITLE=201 Summit Blvd\, Suite 100:geo:-86.7296901,33.446009
END:VEVENT
BEGIN:VEVENT
DTSTART;TZID=America/Chicago:20190623T120000
DTEND;TZID=America/Chicago:20190623T180000
DTSTAMP:20260420T201511
CREATED:20190608T005517Z
LAST-MODIFIED:20190608T005517Z
UID:30523-1561291200-1561312800@birminghammommy.com
SUMMARY:Therapy Dog Day Out at McWane
DESCRIPTION:Are you a service or therapy dog looking for something to do? Bring your favorite human to McWane Science Center to enjoy a day of wonder and curiosity. Grab your cape and get tickets to watch fellow Superpower dogs in our IMAX Dome Theater.
URL:https://birminghammommy.com/event/therapy-dog-day-out-at-mcwane/2019-06-23/
LOCATION:McWane Science Center\, 200 19th Street North\, Birmingham\, AL\, 35203
GEO:33.5149315;-86.8083142
X-APPLE-STRUCTURED-LOCATION;VALUE=URI;X-ADDRESS=McWane Science Center 200 19th Street North Birmingham AL 35203;X-APPLE-RADIUS=500;X-TITLE=200 19th Street North:geo:-86.8083142,33.5149315
END:VEVENT
BEGIN:VEVENT
DTSTART;TZID=America/Chicago:20190623T153000
DTEND;TZID=America/Chicago:20190623T163000
DTSTAMP:20260420T201511
CREATED:20190427T171649Z
LAST-MODIFIED:20190427T171649Z
UID:29529-1561303800-1561307400@birminghammommy.com
SUMMARY:Special Siblings at Homewood Library
DESCRIPTION:(K-12 Grade) This support group for siblings of special needs children is a place to share ideas\, experiences\, and the ever changing needs of having a sibling with special needs.
URL:https://birminghammommy.com/event/special-siblings-at-homewood-library-5/
LOCATION:Homewood Public Library\, Select a Country:
GEO:-12.0470469;-77.032263
END:VEVENT
BEGIN:VEVENT
DTSTART;TZID=America/Chicago:20190623T163000
DTEND;TZID=America/Chicago:20190623T183000
DTSTAMP:20260420T201511
CREATED:20190423T131821Z
LAST-MODIFIED:20190423T131821Z
UID:29346-1561307400-1561314600@birminghammommy.com
SUMMARY:1818 Farms Bloom Stroll and Bouquet Workshop
DESCRIPTION:Spend a late afternoon touring the beautiful gardens at 1818 Farms. Natasha will identify her favorite varieties of heirloom flowers and herbs that are grown in her cutting gardens. Workshop participants will learn planting\, growing and seed saving tips for creating their own beautiful garden. Natasha will also demonstrate the best methods for cutting flowers when gathering them for arrangements. Following the garden tour\, participants will gather at the 1818 Farms pavilion where the hands on portion of the workshop will begin. Each participant will be provided with a gorgeous selection of fresh cut flowers and herbs gathered that morning at the farm. Natasha will discuss the basic steps to follow in order to create a stunning floral arrangement for any occasion.
URL:https://birminghammommy.com/event/1818-farms-bloom-stroll-and-bouquet-workshop-7/
LOCATION:1818 Farms\, 24889 Lauderdale Street\, Mooresville\, Alabama\, 35649\, Select a Country:
ATTACH;FMTTYPE=image/jpeg:https://birminghammommy.com/wp-content/uploads/2019/04/bloom-stroll-2.jpg
END:VEVENT
BEGIN:VEVENT
DTSTART;TZID=America/Chicago:20190624T103000
DTEND;TZID=America/Chicago:20190624T110000
DTSTAMP:20260420T201511
CREATED:20190427T171649Z
LAST-MODIFIED:20190427T171649Z
UID:29531-1561372200-1561374000@birminghammommy.com
SUMMARY:Story Bunch with Ms. Cristina at Homewood Library
DESCRIPTION:2019 (Preschool) Join Ms. Cristina for stories\, songs and lots of fun!
URL:https://birminghammommy.com/event/story-bunch-with-ms-cristina-at-homewood-library-2/
LOCATION:Homewood Public Library\, Select a Country:
GEO:-12.0470469;-77.032263
END:VEVENT
BEGIN:VEVENT
DTSTART;TZID=America/Chicago:20190624T110000
DTEND;TZID=America/Chicago:20190624T120000
DTSTAMP:20260420T201511
CREATED:20190511T013513Z
LAST-MODIFIED:20190511T013513Z
UID:29888-1561374000-1561377600@birminghammommy.com
SUMMARY:Science Tellers
DESCRIPTION:Don’t miss this action-packed and educational alien adventure that combines stories and science. It’s totally out of this world! \nAll ages. No registration.
URL:https://birminghammommy.com/event/science-tellers/
LOCATION:North Shelby Library\, 5521 Cahaba Valley Road\, Birmingham\, AL\, 35242
GEO:33.3646429;-86.7165499
X-APPLE-STRUCTURED-LOCATION;VALUE=URI;X-ADDRESS=North Shelby Library 5521 Cahaba Valley Road Birmingham AL 35242;X-APPLE-RADIUS=500;X-TITLE=5521 Cahaba Valley Road:geo:-86.7165499,33.3646429
END:VEVENT
BEGIN:VEVENT
DTSTART;TZID=America/Chicago:20190624T140000
DTEND;TZID=America/Chicago:20190624T150000
DTSTAMP:20260420T201511
CREATED:20190511T013614Z
LAST-MODIFIED:20190511T013614Z
UID:29890-1561384800-1561388400@birminghammommy.com
SUMMARY:Mt Laurel Science Tellers
DESCRIPTION:Mt Laurel Library\nMeeting Room\n\n\nThe Science Tellers present Aliens: Escape from Earth! Throughout the intergalactic story\, volunteers from the audience will get to discover the unbelievable world of science through experiments and demonstrations with chemical reactions\, polymers\, pressure\, inertia\, energy\, explosions and so much more! Don’t miss this action-packed and educational alien adventure. It’s totally out of this world! All ages welcome. No registration required. Program will be held at the Double Oak Community Church Café.  Contact the Mt Laurel Library at 991-1660 or mtlaurel@shelbycounty-al.org for more information.
URL:https://birminghammommy.com/event/mt-laurel-science-tellers/
LOCATION:Double Oak Mtn Community Church
END:VEVENT
BEGIN:VEVENT
DTSTART;TZID=America/Chicago:20190624T153000
DTEND;TZID=America/Chicago:20190624T161500
DTSTAMP:20260420T201511
CREATED:20190417T010919Z
LAST-MODIFIED:20190417T014013Z
UID:29225-1561390200-1561392900@birminghammommy.com
SUMMARY:Space Camp at Homewood Library
DESCRIPTION:2019 (4-7 Grade) Join us for a week of fun and science as we dive into the world of NASA! This event is offered as part of the NASA@ My Library grant. Registration is required
URL:https://birminghammommy.com/event/space-camp-at-homewood-library/
LOCATION:Homewood Public Library\, Select a Country:
GEO:-12.0470469;-77.032263
END:VEVENT
BEGIN:VEVENT
DTSTART;TZID=America/Chicago:20190624T160000
DTEND;TZID=America/Chicago:20190624T164500
DTSTAMP:20260420T201511
CREATED:20190427T171649Z
LAST-MODIFIED:20190427T171649Z
UID:29533-1561392000-1561394700@birminghammommy.com
SUMMARY:City Passport: Southern Museum of Flight
DESCRIPTION:2019 (K-12 Grade) Join us on Monday afternoons as we learn about amazing organizations around our city through presentations\, crafts and books.
URL:https://birminghammommy.com/event/city-passport-southern-museum-of-flight/
LOCATION:Homewood Public Library\, Select a Country:
GEO:-12.0470469;-77.032263
END:VEVENT
BEGIN:VEVENT
DTSTART;TZID=America/Chicago:20190624T180000
DTEND;TZID=America/Chicago:20190624T190000
DTSTAMP:20260420T201511
CREATED:20190511T013821Z
LAST-MODIFIED:20190511T013821Z
UID:29892-1561399200-1561402800@birminghammommy.com
SUMMARY:Science Tellers
DESCRIPTION:Don’t miss this action-packed and educational alien adventure that combines stories and science. It’s totally out of this world! \nAll ages. No registration.
URL:https://birminghammommy.com/event/science-tellers-2/
LOCATION:North Shelby Library\, 5521 Cahaba Valley Road\, Birmingham\, AL\, 35242
GEO:33.3646429;-86.7165499
X-APPLE-STRUCTURED-LOCATION;VALUE=URI;X-ADDRESS=North Shelby Library 5521 Cahaba Valley Road Birmingham AL 35242;X-APPLE-RADIUS=500;X-TITLE=5521 Cahaba Valley Road:geo:-86.7165499,33.3646429
END:VEVENT
BEGIN:VEVENT
DTSTART;TZID=America/Chicago:20190625T103000
DTEND;TZID=America/Chicago:20190625T111500
DTSTAMP:20260420T201511
CREATED:20190427T171649Z
LAST-MODIFIED:20190427T171649Z
UID:29535-1561458600-1561461300@birminghammommy.com
SUMMARY:Cirque du Todd at Homewood Library
DESCRIPTION:2019 (All Ages) It’s a wacky\, witty\, one-of-a-kind performance full of juggling\, magic and comedy!
URL:https://birminghammommy.com/event/cirque-du-todd-at-homewood-library/
LOCATION:Homewood Public Library\, 1721 Oxmoor Road\, Homewood\, AL\, 35209\, United States
GEO:33.4750533;-86.795404
X-APPLE-STRUCTURED-LOCATION;VALUE=URI;X-ADDRESS=Homewood Public Library 1721 Oxmoor Road Homewood AL 35209 United States;X-APPLE-RADIUS=500;X-TITLE=1721 Oxmoor Road:geo:-86.795404,33.4750533
END:VEVENT
BEGIN:VEVENT
DTSTART;TZID=America/Chicago:20190625T103000
DTEND;TZID=America/Chicago:20190625T113000
DTSTAMP:20260420T201511
CREATED:20190512T020332Z
LAST-MODIFIED:20190512T020701Z
UID:30005-1561458600-1561462200@birminghammommy.com
SUMMARY:Lucky Diaz and the Family Jam Band
DESCRIPTION:Fun pop music for the whole family \n\n\n\n\n\n\nLucky Diaz and the Family Jam Band is on the pulse of all things kids music and brings smart\, crafty lyrics with irresistibly fresh pop beats.
URL:https://birminghammommy.com/event/lucky-diaz-and-the-family-jam-band/2019-06-25/
LOCATION:Hoover Public Library\, 200 Municiple Drive\, Hoover\, AL\, 35216
GEO:33.387905;-86.8061018
X-APPLE-STRUCTURED-LOCATION;VALUE=URI;X-ADDRESS=Hoover Public Library 200 Municiple Drive Hoover AL 35216;X-APPLE-RADIUS=500;X-TITLE=200 Municiple Drive:geo:-86.8061018,33.387905
END:VEVENT
BEGIN:VEVENT
DTSTART;TZID=America/Chicago:20190625T113000
DTEND;TZID=America/Chicago:20190625T123000
DTSTAMP:20260420T201511
CREATED:20190512T021231Z
LAST-MODIFIED:20190512T021231Z
UID:30020-1561462200-1561465800@birminghammommy.com
SUMMARY:Kids Free Lunch Event
DESCRIPTION:Federally-funded free lunch program for children. Meals can be picked up in The Library Theatre.
URL:https://birminghammommy.com/event/kids-free-lunch-event-5/2019-06-25/
LOCATION:Hoover Public Library\, 200 Municiple Drive\, Hoover\, AL\, 35216
GEO:33.387905;-86.8061018
X-APPLE-STRUCTURED-LOCATION;VALUE=URI;X-ADDRESS=Hoover Public Library 200 Municiple Drive Hoover AL 35216;X-APPLE-RADIUS=500;X-TITLE=200 Municiple Drive:geo:-86.8061018,33.387905
END:VEVENT
BEGIN:VEVENT
DTSTART;TZID=America/Chicago:20190625T140000
DTEND;TZID=America/Chicago:20190625T143000
DTSTAMP:20260420T201511
CREATED:20190604T125226Z
LAST-MODIFIED:20190604T125226Z
UID:30126-1561471200-1561473000@birminghammommy.com
SUMMARY:Galaxy Shirt Craft at the Parnell Memorial Library
DESCRIPTION:Join us for a hands-on craft! Bring your own black t-shirt to participate. Registration required. Call the library at (205) 665-9207.
URL:https://birminghammommy.com/event/galaxy-shirt-craft-at-the-parnell-memorial-library/
LOCATION:Parnell Memorial Library\, 277 Park Drive\, Montevallo\, AL\, 35115\, United States
ORGANIZER;CN="Parnell Memorial Library":MAILTO:skitchens@shelbycounty-al.org
END:VEVENT
BEGIN:VEVENT
DTSTART;TZID=America/Chicago:20190625T140000
DTEND;TZID=America/Chicago:20190625T150000
DTSTAMP:20260420T201511
CREATED:20190512T020922Z
LAST-MODIFIED:20190512T020922Z
UID:30017-1561471200-1561474800@birminghammommy.com
SUMMARY:Lucky Diaz and the Family Jam Band
DESCRIPTION:Fun pop music for the whole family \n\n\n\n\n\n\nLucky Diaz and the Family Jam Band is on the pulse of all things kids music and brings smart\, crafty lyrics with irresistibly fresh pop beats.
URL:https://birminghammommy.com/event/lucky-diaz-and-the-family-jam-band-2/2019-06-25/
LOCATION:Hoover Public Library\, 200 Municiple Drive\, Hoover\, AL\, 35216
GEO:33.387905;-86.8061018
X-APPLE-STRUCTURED-LOCATION;VALUE=URI;X-ADDRESS=Hoover Public Library 200 Municiple Drive Hoover AL 35216;X-APPLE-RADIUS=500;X-TITLE=200 Municiple Drive:geo:-86.8061018,33.387905
END:VEVENT
BEGIN:VEVENT
DTSTART;TZID=America/Chicago:20190625T153000
DTEND;TZID=America/Chicago:20190625T161500
DTSTAMP:20260420T201511
CREATED:20190417T010919Z
LAST-MODIFIED:20190417T014053Z
UID:29231-1561476600-1561479300@birminghammommy.com
SUMMARY:Sewing Circle at Homewood Library
DESCRIPTION:2019 (K-5 Grade) Learn basic sewing skills and complete simple projects in this fun sewing club for kids. Registration is required.
URL:https://birminghammommy.com/event/sewing-circle-at-homewood-library-2/
LOCATION:Homewood Public Library\, Select a Country:
GEO:-12.0470469;-77.032263
END:VEVENT
BEGIN:VEVENT
DTSTART;TZID=America/Chicago:20190625T153000
DTEND;TZID=America/Chicago:20190625T161500
DTSTAMP:20260420T201511
CREATED:20190417T010919Z
LAST-MODIFIED:20190417T014347Z
UID:29233-1561476600-1561479300@birminghammommy.com
SUMMARY:Space Camp at Homewood Library
DESCRIPTION:2019 (K-5 Grade) Learn basic sewing skills and complete simple projects in this fun sewing club for kids. Registration is required.
URL:https://birminghammommy.com/event/space-camp-at-homewood-library-2/
LOCATION:Homewood Public Library\, 1721 Oxmoor Road\, Homewood\, AL\, 35209\, United States
GEO:33.4750533;-86.795404
X-APPLE-STRUCTURED-LOCATION;VALUE=URI;X-ADDRESS=Homewood Public Library 1721 Oxmoor Road Homewood AL 35209 United States;X-APPLE-RADIUS=500;X-TITLE=1721 Oxmoor Road:geo:-86.795404,33.4750533
END:VEVENT
BEGIN:VEVENT
DTSTART;TZID=America/Chicago:20190625T160000
DTEND;TZID=America/Chicago:20190625T170000
DTSTAMP:20260420T201511
CREATED:20190511T013917Z
LAST-MODIFIED:20190511T013917Z
UID:29894-1561478400-1561482000@birminghammommy.com
SUMMARY:Garden Gates
DESCRIPTION:An hour of hands-on STEM fun with a nature focus. \n Designed for Ages 5 and up. Registration is required.
URL:https://birminghammommy.com/event/garden-gates-5/
LOCATION:North Shelby Library\, 5521 Cahaba Valley Road\, Birmingham\, AL\, 35242
GEO:33.3646429;-86.7165499
X-APPLE-STRUCTURED-LOCATION;VALUE=URI;X-ADDRESS=North Shelby Library 5521 Cahaba Valley Road Birmingham AL 35242;X-APPLE-RADIUS=500;X-TITLE=5521 Cahaba Valley Road:geo:-86.7165499,33.3646429
END:VEVENT
BEGIN:VEVENT
DTSTART;TZID=America/Chicago:20190625T190500
DTEND;TZID=America/Chicago:20190625T220500
DTSTAMP:20260420T201511
CREATED:20190608T131345Z
LAST-MODIFIED:20190608T131345Z
UID:30563-1561489500-1561500300@birminghammommy.com
SUMMARY:Birmingham Baron's at Regions Field
DESCRIPTION:V. Mobile Bay Bears \n\n\n\n\n\n\n\n\n\n\n\nGame Highlights (2): Dollar Hot Dogs  \n\n\n\n\n\n\nBring the entire family out for Dollar Hot Dog night! | Presented By Flowers Bakery & Kayem Franks \n\n\n\n\n\n\n\n\n Game Highlight:  Peanut Free Night \nRegions Field will undergo a complete cleaning to remove all traces of peanuts. All peanuts and peanut products will also be removed from the ballpark to allow fans with peanut allergies to enjoy America’s favorite pastime in complete comfort. | Presented By Alabama Allergy \nPromotion: T-Shirt Tuesday  \n\n\n\n\n\n\nThe first 1\,000 adults in attendance will recieve a free Barons inspired t-shirt. | Presented By Paycor \n\n\n\n\n\n\n\n\n\n\n\n\n\n\n\n\n\n\nGeneral Admission seats remain the same price as in recent years with adult tickets available for $7.00. Children (12-years and younger)\, seniors (60 years and older) and members of the military receive $1.00 discounts on the listed prices for all reserved and general admission seats. General Admission seating is located in the right field bleachers and the berm seating areas.
URL:https://birminghammommy.com/event/birmingham-barons-at-regions-field-41/
LOCATION:Regions Field\, 1401 1st Avenue S\, Birmingham\, 35233
GEO:33.5075002;-86.8105789
X-APPLE-STRUCTURED-LOCATION;VALUE=URI;X-ADDRESS=Regions Field 1401 1st Avenue S Birmingham 35233;X-APPLE-RADIUS=500;X-TITLE=1401 1st Avenue S:geo:-86.8105789,33.5075002
END:VEVENT
BEGIN:VEVENT
DTSTART;TZID=America/Chicago:20190626T093000
DTEND;TZID=America/Chicago:20190626T100000
DTSTAMP:20260420T201511
CREATED:20190427T171649Z
LAST-MODIFIED:20190427T171649Z
UID:29537-1561541400-1561543200@birminghammommy.com
SUMMARY:Sensory Storytime at Homewood Library
DESCRIPTION:2019 (Preschool) Join Ms. Laura for books\, songs\, and activities that stimulate the senses and promote learning in a sensory-inclusive atmosphere. Registration is required.
URL:https://birminghammommy.com/event/sensory-storytime-at-homewood-library-6/
LOCATION:Homewood Public Library\, Select a Country:
GEO:-12.0470469;-77.032263
END:VEVENT
BEGIN:VEVENT
DTSTART;TZID=America/Chicago:20190626T103000
DTEND;TZID=America/Chicago:20190626T110000
DTSTAMP:20260420T201511
CREATED:20190417T010938Z
LAST-MODIFIED:20190417T013230Z
UID:29237-1561545000-1561546800@birminghammommy.com
SUMMARY:Story Bunch With Ms. Laura at Homewood Library
DESCRIPTION:2019 (Preschool) Join Ms. Laura for stories\, songs and lots of fun!
URL:https://birminghammommy.com/event/story-bunch-with-ms-laura-at-homewood-library-2/
LOCATION:Homewood Public Library\, Select a Country:
GEO:-12.0470469;-77.032263
END:VEVENT
BEGIN:VEVENT
DTSTART;TZID=America/Chicago:20190626T120000
DTEND;TZID=America/Chicago:20190626T140000
DTSTAMP:20260420T201511
CREATED:20190511T014023Z
LAST-MODIFIED:20190511T014023Z
UID:29896-1561550400-1561557600@birminghammommy.com
SUMMARY:Mt Laurel Craft
DESCRIPTION:Drop in from 12-2 pm to create a different fun item. All ages with adult assistance. Registration is not required. Supplies limited.
URL:https://birminghammommy.com/event/mt-laurel-craft-4/
LOCATION:Mt Laurel Library\, 111 Olmsted St\, Birmingham\, AL\, 35242
GEO:33.4096347;-86.6292618
X-APPLE-STRUCTURED-LOCATION;VALUE=URI;X-ADDRESS=Mt Laurel Library 111 Olmsted St Birmingham AL 35242;X-APPLE-RADIUS=500;X-TITLE=111 Olmsted St:geo:-86.6292618,33.4096347
END:VEVENT
BEGIN:VEVENT
DTSTART;TZID=America/Chicago:20190626T153000
DTEND;TZID=America/Chicago:20190626T161500
DTSTAMP:20260420T201511
CREATED:20190417T010938Z
LAST-MODIFIED:20190417T014613Z
UID:29241-1561563000-1561565700@birminghammommy.com
SUMMARY:Space Camp at Homewood Library
DESCRIPTION:2019 (4-7 Grade) Join us for a week of fun and science as we dive into the world of NASA! This event is offered as part of the NASA@ My Library grant. Registration is required
URL:https://birminghammommy.com/event/space-camp-at-homewood-library-3/
LOCATION:Homewood Public Library\, Select a Country:
GEO:-12.0470469;-77.032263
END:VEVENT
BEGIN:VEVENT
DTSTART;TZID=America/Chicago:20190626T153000
DTEND;TZID=America/Chicago:20190626T161500
DTSTAMP:20260420T201511
CREATED:20190427T171649Z
LAST-MODIFIED:20190427T171649Z
UID:29539-1561563000-1561565700@birminghammommy.com
SUMMARY:Harry Potter Coding Club at Homewood Library
DESCRIPTION:2019 (3-5 Grade) Learn coding basics while practicing your spell work! Wands (and laptops) will be provided. Registration is required.
URL:https://birminghammommy.com/event/harry-potter-coding-club-at-homewood-library/
LOCATION:Homewood Public Library\, Select a Country:
GEO:-12.0470469;-77.032263
END:VEVENT
BEGIN:VEVENT
DTSTART;TZID=America/Chicago:20190627T140000
DTEND;TZID=America/Chicago:20190627T143000
DTSTAMP:20260420T201511
CREATED:20190511T014130Z
LAST-MODIFIED:20190511T014130Z
UID:29898-1561644000-1561645800@birminghammommy.com
SUMMARY:Building Tech: Grades K-3
DESCRIPTION:Registration begins 6/13/2019 at 8:00 AM\n\nExplore engineering through a different building challenge each week.\n\nThis week: Chariots\nBuild a Sphero chariot and run the race!\n\nFor Grades K-3rd. Registration required.
URL:https://birminghammommy.com/event/building-tech-grades-k-3-4/
LOCATION:North Shelby Library\, 5521 Cahaba Valley Road\, Birmingham\, AL\, 35242
GEO:33.3646429;-86.7165499
X-APPLE-STRUCTURED-LOCATION;VALUE=URI;X-ADDRESS=North Shelby Library 5521 Cahaba Valley Road Birmingham AL 35242;X-APPLE-RADIUS=500;X-TITLE=5521 Cahaba Valley Road:geo:-86.7165499,33.3646429
END:VEVENT
BEGIN:VEVENT
DTSTART;TZID=America/Chicago:20190627T150000
DTEND;TZID=America/Chicago:20190627T160000
DTSTAMP:20260420T201511
CREATED:20190604T125226Z
LAST-MODIFIED:20190604T125226Z
UID:30128-1561647600-1561651200@birminghammommy.com
SUMMARY:Teen Event: Alabama Ghosts at the Parnell Memorial Library
DESCRIPTION:Think you’ve heard all the Alabama ghost stories? Think again! Join us for snacks and spooky stories. For teens in rising grades 6 – 12. No registration required.
URL:https://birminghammommy.com/event/teen-event-alabama-ghosts-at-the-parnell-memorial-library/
LOCATION:Parnell Memorial Library\, 277 Park Drive\, Montevallo\, AL\, 35115\, United States
ORGANIZER;CN="Parnell Memorial Library":MAILTO:skitchens@shelbycounty-al.org
END:VEVENT
BEGIN:VEVENT
DTSTART;TZID=America/Chicago:20190627T153000
DTEND;TZID=America/Chicago:20190627T161500
DTSTAMP:20260420T201511
CREATED:20190427T171649Z
LAST-MODIFIED:20190427T171649Z
UID:29541-1561649400-1561652100@birminghammommy.com
SUMMARY:Space Camp at Homewood Library
DESCRIPTION:2019 (4-7 Grade) Join us for a week of fun and science as we dive into the world of NASA! This event is offered as part of the NASA@ My Library grant. Registration is required.
URL:https://birminghammommy.com/event/space-camp-at-homewood-library-4/
LOCATION:Homewood Public Library\, Select a Country:
GEO:-12.0470469;-77.032263
END:VEVENT
BEGIN:VEVENT
DTSTART;TZID=America/Chicago:20190627T160000
DTEND;TZID=America/Chicago:20190627T170000
DTSTAMP:20260420T201511
CREATED:20190512T021359Z
LAST-MODIFIED:20190512T021359Z
UID:30025-1561651200-1561654800@birminghammommy.com
SUMMARY:Sports Space Jam
DESCRIPTION:Space inspired sports fun! \n\n\n\n\n\n\nSee how some of your favorite sports are played . . . IN SPACE! Games\, snacks and crafts.  Ages 6-12\, registration required
URL:https://birminghammommy.com/event/sports-space-jam/
LOCATION:Hoover Public Library\, 200 Municiple Drive\, Hoover\, AL\, 35216
GEO:33.387905;-86.8061018
X-APPLE-STRUCTURED-LOCATION;VALUE=URI;X-ADDRESS=Hoover Public Library 200 Municiple Drive Hoover AL 35216;X-APPLE-RADIUS=500;X-TITLE=200 Municiple Drive:geo:-86.8061018,33.387905
END:VEVENT
END:VCALENDAR