BEGIN:VCALENDAR
VERSION:2.0
PRODID:-//Birmingham Mommy - ECPv6.3.5//NONSGML v1.0//EN
CALSCALE:GREGORIAN
METHOD:PUBLISH
X-WR-CALNAME:Birmingham Mommy
X-ORIGINAL-URL:https://birminghammommy.com
X-WR-CALDESC:Events for Birmingham Mommy
REFRESH-INTERVAL;VALUE=DURATION:PT1H
X-Robots-Tag:noindex
X-PUBLISHED-TTL:PT1H
BEGIN:VTIMEZONE
TZID:America/Chicago
BEGIN:DAYLIGHT
TZOFFSETFROM:-0600
TZOFFSETTO:-0500
TZNAME:CDT
DTSTART:20190310T080000
END:DAYLIGHT
BEGIN:STANDARD
TZOFFSETFROM:-0500
TZOFFSETTO:-0600
TZNAME:CST
DTSTART:20191103T070000
END:STANDARD
END:VTIMEZONE
BEGIN:VEVENT
DTSTART;TZID=America/Chicago:20190615T130000
DTEND;TZID=America/Chicago:20190615T170000
DTSTAMP:20260420T215549
CREATED:20190608T185104Z
LAST-MODIFIED:20190608T185104Z
UID:30647-1560603600-1560618000@birminghammommy.com
SUMMARY:Funky Food Truck Festival
DESCRIPTION:Join us for a funky good time at Cahaba Brewing Company on Saturday\, June 15th\, from 1pm-5pm! We’ll have tasty food from these top Birmingham food trucks: Alloy Thai Restaurant\, I Love Bacon Truck\, Ono Ice\, Rusty’s Bar-B-Q\, Taco Morro Loco\, and Urban Pops. We’ll even have treats from Fetch – A Treat Truck for Dogs for your four-legged friend(s) and the Greater Birmingham Humane Society will be there with adoptable dogs. \nEnjoy the fun atmosphere while sipping on refreshing Cahaba brews and browsing our vendor area! \nAll donations benefit AIDS Alabama’s programs and the suggested amount is just $5 per person. Don’t miss this funky event! Make an advance donation by texting FUNKY to 41444.
URL:https://birminghammommy.com/event/funky-food-truck-festival-2/
LOCATION:Cahaba Brewing Company\, 4500 5th Ave S\, birmingham\, AL\, 35222\, United States
GEO:33.526729;-86.764854
X-APPLE-STRUCTURED-LOCATION;VALUE=URI;X-ADDRESS=Cahaba Brewing Company 4500 5th Ave S birmingham AL 35222 United States;X-APPLE-RADIUS=500;X-TITLE=4500 5th Ave S:geo:-86.764854,33.526729
END:VEVENT
BEGIN:VEVENT
DTSTART;TZID=America/Chicago:20190615T140000
DTEND;TZID=America/Chicago:20190615T150000
DTSTAMP:20260420T215549
CREATED:20190608T010853Z
LAST-MODIFIED:20190608T010853Z
UID:30539-1560607200-1560610800@birminghammommy.com
SUMMARY:Treasure Hunters: All-American Adventure Event
DESCRIPTION:Discover this bestselling series from James Patterson and Chris Grabenstein through hands-on games\, activities\, and giveaways.
URL:https://birminghammommy.com/event/treasure-hunters-all-american-adventure-event/
LOCATION:Barnes and Noble Summit\, 201 Summit Blvd\, Suite 100\, Birmingham\, AL\, 35243
GEO:33.446009;-86.7296901
X-APPLE-STRUCTURED-LOCATION;VALUE=URI;X-ADDRESS=Barnes and Noble Summit 201 Summit Blvd Suite 100 Birmingham AL 35243;X-APPLE-RADIUS=500;X-TITLE=201 Summit Blvd\, Suite 100:geo:-86.7296901,33.446009
END:VEVENT
BEGIN:VEVENT
DTSTART;TZID=America/Chicago:20190615T140000
DTEND;TZID=America/Chicago:20190615T160000
DTSTAMP:20260420T215549
CREATED:20190608T184144Z
LAST-MODIFIED:20190608T184144Z
UID:30643-1560607200-1560614400@birminghammommy.com
SUMMARY:Fairy Houses in the Forest
DESCRIPTION:Explore the magical world of fairy houses at OMSP!\nMeet at the Oak Mountain State Park Campground Camp Store at 2:00pm.\nWe will join Ms. Terri of OMSP on a fairy house building adventure on the Light Trail. \nAll ages welcome! FREE with entrance into Oak Mountain State Park! \nNot stroller friendly. No dogs please. \nFor more information or questions email Lauren.muncher@dcnr.alabama.gov.
URL:https://birminghammommy.com/event/fairy-houses-in-the-forest/
LOCATION:Oak mountain State Park\, 200 Terrace Drive\, Pelham\, AL\, 35214
GEO:33.3247302;-86.7593249
X-APPLE-STRUCTURED-LOCATION;VALUE=URI;X-ADDRESS=Oak mountain State Park 200 Terrace Drive Pelham AL 35214;X-APPLE-RADIUS=500;X-TITLE=200 Terrace Drive:geo:-86.7593249,33.3247302
END:VEVENT
BEGIN:VEVENT
DTSTART;TZID=America/Chicago:20190615T183000
DTEND;TZID=America/Chicago:20190615T213000
DTSTAMP:20260420T215549
CREATED:20190608T130731Z
LAST-MODIFIED:20190608T130731Z
UID:30559-1560623400-1560634200@birminghammommy.com
SUMMARY:Birmingham Barons at Regions Field
DESCRIPTION:V. Jacksonville Jump Shrimp \n\n\n\n\n\n\n\n\n\n\n\n\nGame Highlight: Los Barons Night  \n\n\n\n\n\n\nTonight we honor Hispanic heritage within our community by wearing one-of-a-kind jerseys for the game. The game-worn\, autographed jerseys will be auctioned off to benefit ¡HICA!. | Presented By ¡HICA! \nPromotion:  Adult Jersey Giveaway  \n\n\n\n\n\n\nThe first 1\,000 adults in attendance will receive a Barons inspired jersey. | Presented By Birmingham Association of Realtors \n\n\n\n\n\n\n\n\n\n\n\n\n\n\n\n\n\n\nGeneral Admission seats remain the same price as in recent years with adult tickets available for $7.00. Children (12-years and younger)\, seniors (60 years and older) and members of the military receive $1.00 discounts on the listed prices for all reserved and general admission seats. General Admission seating is located in the right field bleachers and the berm seating areas.
URL:https://birminghammommy.com/event/birmingham-barons-at-regions-field-39/
LOCATION:Regions Field\, 1401 1st Avenue S\, Birmingham\, 35233
GEO:33.5075002;-86.8105789
X-APPLE-STRUCTURED-LOCATION;VALUE=URI;X-ADDRESS=Regions Field 1401 1st Avenue S Birmingham 35233;X-APPLE-RADIUS=500;X-TITLE=1401 1st Avenue S:geo:-86.8105789,33.5075002
END:VEVENT
BEGIN:VEVENT
DTSTART;TZID=America/Chicago:20190616T110000
DTEND;TZID=America/Chicago:20190616T120000
DTSTAMP:20260420T215549
CREATED:20190608T011124Z
LAST-MODIFIED:20190608T011124Z
UID:30541-1560682800-1560686400@birminghammommy.com
SUMMARY:Baby & Me Storytime featuring Alphaprints: Animal Opposites
DESCRIPTION:Introducing our new Baby & Me Storytime for caregivers and children 0-24 months old. Join us as we read a book and participate in activities featuring sensory growth for your little ones.
URL:https://birminghammommy.com/event/baby-me-storytime-featuring-alphaprints-animal-opposites/
LOCATION:Barnes and Noble Summit\, 201 Summit Blvd\, Suite 100\, Birmingham\, AL\, 35243
GEO:33.446009;-86.7296901
X-APPLE-STRUCTURED-LOCATION;VALUE=URI;X-ADDRESS=Barnes and Noble Summit 201 Summit Blvd Suite 100 Birmingham AL 35243;X-APPLE-RADIUS=500;X-TITLE=201 Summit Blvd\, Suite 100:geo:-86.7296901,33.446009
END:VEVENT
BEGIN:VEVENT
DTSTART;TZID=America/Chicago:20190616T113000
DTEND;TZID=America/Chicago:20190616T133000
DTSTAMP:20260420T215549
CREATED:20190507T024409Z
LAST-MODIFIED:20190507T024409Z
UID:29741-1560684600-1560691800@birminghammommy.com
SUMMARY:The Rock and Roll Playhouse Presents Music of Grateful Dead
DESCRIPTION:The Rock And Roll Playhouse: The Music of Grateful Dead for Kids at Saturn! \nThe Rock and Roll Playhouse band offers its core audience of families with children age ten and under games\, movement\, stories and an opportunity to rock out in an effort to educate children and explore their creativity. As such\, The Rock and Roll Playhouse is an early and often first introduction to a child’s lifelong journey with live music and rock and roll. Come play!
URL:https://birminghammommy.com/event/the-rock-and-roll-playhouse-presents-music-of-grateful-dead/
LOCATION:Saturn\, 200 41st St S\, Birmingham\, AL\, 35222
END:VEVENT
BEGIN:VEVENT
DTSTART;TZID=America/Chicago:20190616T120000
DTEND;TZID=America/Chicago:20190616T180000
DTSTAMP:20260420T215549
CREATED:20190608T005300Z
LAST-MODIFIED:20190608T005300Z
UID:30521-1560686400-1560708000@birminghammommy.com
SUMMARY:Father's Day at McWane
DESCRIPTION:Superman is pretty cool\, but we all know who the real hero is – Dad. To honor fathers everywhere\, “Dear Old Dad” gets in free on Father’s Day with the purchase of a child’s admission.
URL:https://birminghammommy.com/event/fathers-day-at-mcwane/
LOCATION:McWane Science Center\, 200 19th Street North\, Birmingham\, AL\, 35203
GEO:33.5149315;-86.8083142
X-APPLE-STRUCTURED-LOCATION;VALUE=URI;X-ADDRESS=McWane Science Center 200 19th Street North Birmingham AL 35203;X-APPLE-RADIUS=500;X-TITLE=200 19th Street North:geo:-86.8083142,33.5149315
END:VEVENT
BEGIN:VEVENT
DTSTART;TZID=America/Chicago:20190616T150000
DTEND;TZID=America/Chicago:20190616T180000
DTSTAMP:20260420T215549
CREATED:20190608T131108Z
LAST-MODIFIED:20190608T131108Z
UID:30561-1560697200-1560708000@birminghammommy.com
SUMMARY:Birmingham Barons at Regions Field
DESCRIPTION:V. Jacksonville Jump Shrimp \n\n\n\n\n\n\n\n\n\n\n\n\nGame Highlight: Family Sunday’s \n\n\n\n\n\n\nFamily Sundays feature face painting\, a chance for kids to run the bases after the game\, and other fun filled activities. | Presented By Papa John’s and Jack’s Restaurant \n\n\n\n\n\n\n\n\n\n\n\n\nGeneral Admission seats remain the same price as in recent years with adult tickets available for $7.00. Children (12-years and younger)\, seniors (60 years and older) and members of the military receive $1.00 discounts on the listed prices for all reserved and general admission seats. General Admission seating is located in the right field bleachers and the berm seating areas.
URL:https://birminghammommy.com/event/birmingham-barons-at-regions-field-40/
LOCATION:Regions Field\, 1401 1st Avenue S\, Birmingham\, 35233
GEO:33.5075002;-86.8105789
X-APPLE-STRUCTURED-LOCATION;VALUE=URI;X-ADDRESS=Regions Field 1401 1st Avenue S Birmingham 35233;X-APPLE-RADIUS=500;X-TITLE=1401 1st Avenue S:geo:-86.8105789,33.5075002
END:VEVENT
BEGIN:VEVENT
DTSTART;TZID=America/Chicago:20190617T103000
DTEND;TZID=America/Chicago:20190617T110000
DTSTAMP:20260420T215549
CREATED:20190427T171649Z
LAST-MODIFIED:20190427T171649Z
UID:29517-1560767400-1560769200@birminghammommy.com
SUMMARY:Story Bunch with Ms. Mary at Homewood Library
DESCRIPTION:2019 (Preschool) Join Ms. Mary for stories\, songs and lots of fun!
URL:https://birminghammommy.com/event/story-bunch-with-ms-mary-at-homewood-library-4/
LOCATION:Homewood Public Library\, Select a Country:
GEO:-12.0470469;-77.032263
END:VEVENT
BEGIN:VEVENT
DTSTART;TZID=America/Chicago:20190617T110000
DTEND;TZID=America/Chicago:20190617T120000
DTSTAMP:20260420T215549
CREATED:20190510T232235Z
LAST-MODIFIED:20190510T232235Z
UID:29870-1560769200-1560772800@birminghammommy.com
SUMMARY:All Hands Productions Puppet Show
DESCRIPTION:“The Adventures of the Gingerbread Man.” Follow our gingerbread hero on a host of silly adventures featuring live music and a variety of puppet styles. \nAll ages. No registration.
URL:https://birminghammommy.com/event/all-hands-productions-puppet-show/
LOCATION:North Shelby Library\, 5521 Cahaba Valley Road\, Birmingham\, AL\, 35242
GEO:33.3646429;-86.7165499
X-APPLE-STRUCTURED-LOCATION;VALUE=URI;X-ADDRESS=North Shelby Library 5521 Cahaba Valley Road Birmingham AL 35242;X-APPLE-RADIUS=500;X-TITLE=5521 Cahaba Valley Road:geo:-86.7165499,33.3646429
END:VEVENT
BEGIN:VEVENT
DTSTART;TZID=America/Chicago:20190617T140000
DTEND;TZID=America/Chicago:20190617T150000
DTSTAMP:20260420T215549
CREATED:20190510T232414Z
LAST-MODIFIED:20190510T232414Z
UID:29872-1560780000-1560783600@birminghammommy.com
SUMMARY:All Hands Production presents The Gingerbread Man Puppet Show
DESCRIPTION:Mt Laurel Library\nDOCC Activity Bldg\n\n\n“Run! Run! Run as fast as you can!” sings the Gingerbread Man in this runaway hit production created by puppeteer David Stephens of All Hands Productions. This hilarious retelling of a classic story follows the adventures of the Gingerbread Man when he discovers a magic wand belonging to Barry the Blue Fairy. Three stories are interwoven into this production including Hansel and Gretel\, Androcles and the Lion\, and The Frog Prince. All ages welcome. No registration required. Program will be held at the Double Oak Community Church Café.  Contact the Mt Laurel Library at 991-1660 or mtlaurel@shelbycounty-al.org
URL:https://birminghammommy.com/event/all-hands-production-presents-the-gingerbread-man-puppet-show/
LOCATION:Mt Laurel Library\, 111 Olmsted St\, Birmingham\, AL\, 35242
GEO:33.4096347;-86.6292618
X-APPLE-STRUCTURED-LOCATION;VALUE=URI;X-ADDRESS=Mt Laurel Library 111 Olmsted St Birmingham AL 35242;X-APPLE-RADIUS=500;X-TITLE=111 Olmsted St:geo:-86.6292618,33.4096347
END:VEVENT
BEGIN:VEVENT
DTSTART;TZID=America/Chicago:20190617T160000
DTEND;TZID=America/Chicago:20190617T164500
DTSTAMP:20260420T215549
CREATED:20190427T171649Z
LAST-MODIFIED:20190427T171649Z
UID:29519-1560787200-1560789900@birminghammommy.com
SUMMARY:City Passport: Birmingham Holocaust Education Center
DESCRIPTION:2019 (K-12 Grade) Join us on Monday afternoons as we learn about amazing organizations around our city through presentations\, crafts and books.
URL:https://birminghammommy.com/event/city-passport-birmingham-holocaust-education-center/
LOCATION:Homewood Public Library\, Select a Country:
GEO:-12.0470469;-77.032263
END:VEVENT
BEGIN:VEVENT
DTSTART;TZID=America/Chicago:20190617T180000
DTEND;TZID=America/Chicago:20190617T190000
DTSTAMP:20260420T215549
CREATED:20190510T232532Z
LAST-MODIFIED:20190510T232532Z
UID:29874-1560794400-1560798000@birminghammommy.com
SUMMARY:All Hands Production Puppet Show
DESCRIPTION:“The Adventures of the Gingerbread Man.” Follow our gingerbread hero on a host of silly adventures featuring live music and a variety of puppet styles. \nAll ages. No registration.
URL:https://birminghammommy.com/event/all-hands-production-puppet-show/
LOCATION:North Shelby Library\, 5521 Cahaba Valley Road\, Birmingham\, AL\, 35242
GEO:33.3646429;-86.7165499
X-APPLE-STRUCTURED-LOCATION;VALUE=URI;X-ADDRESS=North Shelby Library 5521 Cahaba Valley Road Birmingham AL 35242;X-APPLE-RADIUS=500;X-TITLE=5521 Cahaba Valley Road:geo:-86.7165499,33.3646429
END:VEVENT
BEGIN:VEVENT
DTSTART;TZID=America/Chicago:20190618T100000
DTEND;TZID=America/Chicago:20190620T140000
DTSTAMP:20260420T215549
CREATED:20190503T170121Z
LAST-MODIFIED:20190503T170121Z
UID:29671-1560852000-1561039200@birminghammommy.com
SUMMARY:Where in the World Travel Camp
DESCRIPTION:Join us for Where in the World Travel Camp at Ascension Episcopal Kindergarten!\nJune 18 – June 19 – June 20\n10 a.m. – 2 p.m.\n$120 per child\, for rising 3K through 1st grade\nPack your bags and take flight as we explore destinations around the world! We’ll enjoy travel-themed snacks\, international crafts\, voyaging movement and international activities during each 4-hour day. Additional sessions offered July 16-18 and August 13-15. 
URL:https://birminghammommy.com/event/where-in-the-world-travel-camp/
LOCATION:Ascension Episcopal Kindergarten\, 1912 Canyon Rd.\, Vestavia Hills\, 35216\, United States
ATTACH;FMTTYPE=image/png:https://birminghammommy.com/wp-content/uploads/2019/05/Travel-Camp-Image.png
ORGANIZER;CN="Ascension Episcopal Kindergarten":MAILTO:laura.a.maddox@me.com
END:VEVENT
BEGIN:VEVENT
DTSTART;TZID=America/Chicago:20190618T103000
DTEND;TZID=America/Chicago:20190618T111500
DTSTAMP:20260420T215549
CREATED:20190427T171649Z
LAST-MODIFIED:20190427T171649Z
UID:29521-1560853800-1560856500@birminghammommy.com
SUMMARY:Cosmic Percussion with the Drummer Dude at Homewood Library
DESCRIPTION:2019 (All Ages) Join the Drummer Dude for a musical morning of fun and sound!
URL:https://birminghammommy.com/event/cosmic-percussion-with-the-drummer-dude-at-homewood-library/
LOCATION:Homewood Public Library\, Select a Country:
GEO:-12.0470469;-77.032263
END:VEVENT
BEGIN:VEVENT
DTSTART;TZID=America/Chicago:20190618T103000
DTEND;TZID=America/Chicago:20190618T113000
DTSTAMP:20260420T215549
CREATED:20190511T011038Z
LAST-MODIFIED:20190511T011038Z
UID:29876-1560853800-1560857400@birminghammommy.com
SUMMARY:Preschool Kitchen Science
DESCRIPTION:STEAM-y (Science Technology Engineering Art and Math) science experiments for preschoolers. \nAges 3-5. Registration required. Space is limited.
URL:https://birminghammommy.com/event/preschool-kitchen-science-5/
LOCATION:North Shelby Library\, 5521 Cahaba Valley Road\, Birmingham\, AL\, 35242
GEO:33.3646429;-86.7165499
X-APPLE-STRUCTURED-LOCATION;VALUE=URI;X-ADDRESS=North Shelby Library 5521 Cahaba Valley Road Birmingham AL 35242;X-APPLE-RADIUS=500;X-TITLE=5521 Cahaba Valley Road:geo:-86.7165499,33.3646429
END:VEVENT
BEGIN:VEVENT
DTSTART;TZID=America/Chicago:20190618T103000
DTEND;TZID=America/Chicago:20190618T113000
DTSTAMP:20260420T215549
CREATED:20190512T014454Z
LAST-MODIFIED:20190512T014454Z
UID:29985-1560853800-1560857400@birminghammommy.com
SUMMARY:Arthur Atsma at Hoover Public Library
DESCRIPTION:Magician and slight of hand artist \n\n\n\n\n\n\nSleight of hand artist and magician extraordinaire. Contemplate the impossible\, as Atlanta magician Arthur Atsma dazzles your mind.
URL:https://birminghammommy.com/event/arthur-atsma-at-hoover-public-library/2019-06-18/
LOCATION:Hoover Public Library\, 200 Municiple Drive\, Hoover\, AL\, 35216
GEO:33.387905;-86.8061018
X-APPLE-STRUCTURED-LOCATION;VALUE=URI;X-ADDRESS=Hoover Public Library 200 Municiple Drive Hoover AL 35216;X-APPLE-RADIUS=500;X-TITLE=200 Municiple Drive:geo:-86.8061018,33.387905
END:VEVENT
BEGIN:VEVENT
DTSTART;TZID=America/Chicago:20190618T113000
DTEND;TZID=America/Chicago:20190618T123000
DTSTAMP:20260420T215549
CREATED:20190512T015417Z
LAST-MODIFIED:20190512T015417Z
UID:29994-1560857400-1560861000@birminghammommy.com
SUMMARY:Kids Free Lunch Event
DESCRIPTION:Federally-funded free lunch program for children. Meals can be picked up in The Library Theatre.
URL:https://birminghammommy.com/event/kids-free-lunch-event-4/2019-06-18/
LOCATION:Hoover Public Library\, 200 Municiple Drive\, Hoover\, AL\, 35216
GEO:33.387905;-86.8061018
X-APPLE-STRUCTURED-LOCATION;VALUE=URI;X-ADDRESS=Hoover Public Library 200 Municiple Drive Hoover AL 35216;X-APPLE-RADIUS=500;X-TITLE=200 Municiple Drive:geo:-86.8061018,33.387905
END:VEVENT
BEGIN:VEVENT
DTSTART;TZID=America/Chicago:20190618T140000
DTEND;TZID=America/Chicago:20190618T143000
DTSTAMP:20260420T215549
CREATED:20190604T125226Z
LAST-MODIFIED:20190604T125226Z
UID:30118-1560866400-1560868200@birminghammommy.com
SUMMARY:Constellation Craft at the Parnell Memorial Library
DESCRIPTION:Join us for a hands-on constellation craft! Registration required. Call the library at (205) 665-9207.
URL:https://birminghammommy.com/event/constellation-craft-at-the-parnell-memorial-library/
LOCATION:Parnell Memorial Library\, 277 Park Drive\, Montevallo\, AL\, 35115\, United States
ORGANIZER;CN="Parnell Memorial Library":MAILTO:skitchens@shelbycounty-al.org
END:VEVENT
BEGIN:VEVENT
DTSTART;TZID=America/Chicago:20190618T140000
DTEND;TZID=America/Chicago:20190618T150000
DTSTAMP:20260420T215549
CREATED:20190512T014651Z
LAST-MODIFIED:20190512T014651Z
UID:29989-1560866400-1560870000@birminghammommy.com
SUMMARY:Arthur Atsma at Hoover Public Library
DESCRIPTION:Magician and slight of hand artist \n\n\n\n\n\n\nSleight of hand artist and magician extraordinaire. Contemplate the impossible\, as Atlanta magician Arthur Atsma dazzles your mind.
URL:https://birminghammommy.com/event/arthur-atsma-at-hoover-public-library-2/2019-06-18/
LOCATION:Hoover Public Library\, 200 Municiple Drive\, Hoover\, AL\, 35216
GEO:33.387905;-86.8061018
X-APPLE-STRUCTURED-LOCATION;VALUE=URI;X-ADDRESS=Hoover Public Library 200 Municiple Drive Hoover AL 35216;X-APPLE-RADIUS=500;X-TITLE=200 Municiple Drive:geo:-86.8061018,33.387905
END:VEVENT
BEGIN:VEVENT
DTSTART;TZID=America/Chicago:20190619T103000
DTEND;TZID=America/Chicago:20190619T110000
DTSTAMP:20260420T215549
CREATED:20190427T171649Z
LAST-MODIFIED:20190427T171649Z
UID:29523-1560940200-1560942000@birminghammommy.com
SUMMARY:Story Bunch with Ms. Alicia at Homewood Library
DESCRIPTION:2019 (Preschool) Join Ms. Alicia for stories\, songs and lots of fun!
URL:https://birminghammommy.com/event/story-bunch-with-ms-alicia-at-homewood-library-2/
LOCATION:Homewood Public Library\, Select a Country:
GEO:-12.0470469;-77.032263
END:VEVENT
BEGIN:VEVENT
DTSTART;TZID=America/Chicago:20190619T140000
DTEND;TZID=America/Chicago:20190619T160000
DTSTAMP:20260420T215549
CREATED:20190511T011155Z
LAST-MODIFIED:20190511T011155Z
UID:29878-1560952800-1560960000@birminghammommy.com
SUMMARY:Mt Laurel Family Movie
DESCRIPTION:Join us for a showing of a movie each Tuesday. Snacks will be served! Movie list available at the library. Registration is not required. 
URL:https://birminghammommy.com/event/mt-laurel-family-movie-3/
LOCATION:North Shelby Library\, 5521 Cahaba Valley Road\, Birmingham\, AL\, 35242
GEO:33.3646429;-86.7165499
X-APPLE-STRUCTURED-LOCATION;VALUE=URI;X-ADDRESS=North Shelby Library 5521 Cahaba Valley Road Birmingham AL 35242;X-APPLE-RADIUS=500;X-TITLE=5521 Cahaba Valley Road:geo:-86.7165499,33.3646429
END:VEVENT
BEGIN:VEVENT
DTSTART;TZID=America/Chicago:20190619T150000
DTEND;TZID=America/Chicago:20190619T154500
DTSTAMP:20260420T215549
CREATED:20190604T125226Z
LAST-MODIFIED:20190604T125226Z
UID:30120-1560956400-1560959100@birminghammommy.com
SUMMARY:Crocheting for Teens at the Parnell Memorial Library
DESCRIPTION:Ever wish you could learn how to crochet? This is your chance! For rising 6th – 12th graders. Free\, no registration required.
URL:https://birminghammommy.com/event/crocheting-for-teens-at-the-parnell-memorial-library/
LOCATION:Parnell Memorial Library\, 277 Park Drive\, Montevallo\, AL\, 35115\, United States
ORGANIZER;CN="Parnell Memorial Library":MAILTO:skitchens@shelbycounty-al.org
END:VEVENT
BEGIN:VEVENT
DTSTART;TZID=America/Chicago:20190619T153000
DTEND;TZID=America/Chicago:20190619T161500
DTSTAMP:20260420T215549
CREATED:20190417T010919Z
LAST-MODIFIED:20190417T013926Z
UID:29207-1560958200-1560960900@birminghammommy.com
SUMMARY:Tween Jewelry Art at Homewood Library
DESCRIPTION:2019 (4-7 grade) Learn how to make unique and beautiful jewelry with the help of Ms. Aaliyah.
URL:https://birminghammommy.com/event/tween-jewelry-art-at-homewood-library/
LOCATION:Homewood Public Library\, Select a Country:
GEO:-12.0470469;-77.032263
END:VEVENT
BEGIN:VEVENT
DTSTART;TZID=America/Chicago:20190620T113000
DTEND;TZID=America/Chicago:20190620T120000
DTSTAMP:20260420T215549
CREATED:20190417T010919Z
LAST-MODIFIED:20190417T013734Z
UID:29210-1561030200-1561032000@birminghammommy.com
SUMMARY:Storytime at Urban Cookhouse
DESCRIPTION:2019 (All Ages) Join us at Urban Cookhouse for a special summer storytime!
URL:https://birminghammommy.com/event/storytime-at-urban-cookhouse/
LOCATION:Urban Cookhouse\, 1920 29th Ave S\, homewood\, 35209
END:VEVENT
BEGIN:VEVENT
DTSTART;TZID=America/Chicago:20190620T140000
DTEND;TZID=America/Chicago:20190620T143000
DTSTAMP:20260420T215549
CREATED:20190511T011331Z
LAST-MODIFIED:20190511T011331Z
UID:29880-1561039200-1561041000@birminghammommy.com
SUMMARY:Building Tech: Grades K-3
DESCRIPTION:Registration begins 6/6/2019 at 8:00 AM\n\nExplore engineering through a different building challenge each week.\n\nThis week: Towers\nWho can build the tallest tower with the supplies given?\n\nFor Grades K-3rd. Registration required.
URL:https://birminghammommy.com/event/building-tech-grades-k-3-3/
LOCATION:North Shelby Library\, 5521 Cahaba Valley Road\, Birmingham\, AL\, 35242
GEO:33.3646429;-86.7165499
X-APPLE-STRUCTURED-LOCATION;VALUE=URI;X-ADDRESS=North Shelby Library 5521 Cahaba Valley Road Birmingham AL 35242;X-APPLE-RADIUS=500;X-TITLE=5521 Cahaba Valley Road:geo:-86.7165499,33.3646429
END:VEVENT
BEGIN:VEVENT
DTSTART;TZID=America/Chicago:20190620T160000
DTEND;TZID=America/Chicago:20190620T170000
DTSTAMP:20260420T215549
CREATED:20190512T015533Z
LAST-MODIFIED:20190512T015533Z
UID:29999-1561046400-1561050000@birminghammommy.com
SUMMARY:Summer STEAM: CSI Pikachu Detective
DESCRIPTION:STEAM activities featuring everyone’s favorite Pokemon character! \n\n\n\n\n\n\nAges 8-12\, registration required
URL:https://birminghammommy.com/event/summer-steam-csi-pikachu-detective/
LOCATION:Hoover Public Library\, 200 Municiple Drive\, Hoover\, AL\, 35216
GEO:33.387905;-86.8061018
X-APPLE-STRUCTURED-LOCATION;VALUE=URI;X-ADDRESS=Hoover Public Library 200 Municiple Drive Hoover AL 35216;X-APPLE-RADIUS=500;X-TITLE=200 Municiple Drive:geo:-86.8061018,33.387905
END:VEVENT
BEGIN:VEVENT
DTSTART;TZID=America/Chicago:20190620T163000
DTEND;TZID=America/Chicago:20190620T173000
DTSTAMP:20260420T215549
CREATED:20190417T010919Z
LAST-MODIFIED:20190417T013004Z
UID:29213-1561048200-1561051800@birminghammommy.com
SUMMARY:Learn Japanese at Homewood Library
DESCRIPTION:2019 (3-5 Grade) Learn common Japanese words and phrases in this three-week class. Registration is required.
URL:https://birminghammommy.com/event/learn-japanese-at-homewood-library-3/
LOCATION:Homewood Public Library\, Select a Country:
GEO:-12.0470469;-77.032263
END:VEVENT
BEGIN:VEVENT
DTSTART;TZID=America/Chicago:20190620T170000
DTEND;TZID=America/Chicago:20190620T183000
DTSTAMP:20260420T215549
CREATED:20190604T125226Z
LAST-MODIFIED:20190604T125226Z
UID:30122-1561050000-1561055400@birminghammommy.com
SUMMARY:Summer LEGO Party at the Parnell Memorial Library
DESCRIPTION:Join us for LEGOs\, snacks\, and a theater showing of LEGO MOVIE 2! No registration required.
URL:https://birminghammommy.com/event/summer-lego-party-at-the-parnell-memorial-library/
LOCATION:Parnell Memorial Library\, 277 Park Drive\, Montevallo\, AL\, 35115\, United States
ORGANIZER;CN="Parnell Memorial Library":MAILTO:skitchens@shelbycounty-al.org
END:VEVENT
BEGIN:VEVENT
DTSTART;TZID=America/Chicago:20190620T180000
DTEND;TZID=America/Chicago:20190620T184500
DTSTAMP:20260420T215549
CREATED:20190417T010919Z
LAST-MODIFIED:20190417T014907Z
UID:29215-1561053600-1561056300@birminghammommy.com
SUMMARY:Pop Art Workshop at Homewood Library
DESCRIPTION:2019 (All Ages) Join Pop Artist\, Michael Albert\, for a special night making art out of found objects.
URL:https://birminghammommy.com/event/pop-art-workshop-at-homewood-library/
LOCATION:Homewood Public Library\, Select a Country:
GEO:-12.0470469;-77.032263
END:VEVENT
END:VCALENDAR