BEGIN:VCALENDAR
VERSION:2.0
PRODID:-//Birmingham Mommy - ECPv6.3.5//NONSGML v1.0//EN
CALSCALE:GREGORIAN
METHOD:PUBLISH
X-ORIGINAL-URL:https://birminghammommy.com
X-WR-CALDESC:Events for Birmingham Mommy
REFRESH-INTERVAL;VALUE=DURATION:PT1H
X-Robots-Tag:noindex
X-PUBLISHED-TTL:PT1H
BEGIN:VTIMEZONE
TZID:America/Chicago
BEGIN:DAYLIGHT
TZOFFSETFROM:-0600
TZOFFSETTO:-0500
TZNAME:CDT
DTSTART:20190310T080000
END:DAYLIGHT
BEGIN:STANDARD
TZOFFSETFROM:-0500
TZOFFSETTO:-0600
TZNAME:CST
DTSTART:20191103T070000
END:STANDARD
END:VTIMEZONE
BEGIN:VEVENT
DTSTART;TZID=America/Chicago:20190606T103000
DTEND;TZID=America/Chicago:20190606T113000
DTSTAMP:20260420T201943
CREATED:20190512T010406Z
LAST-MODIFIED:20190512T010406Z
UID:29948-1559817000-1559820600@birminghammommy.com
SUMMARY:Animal Tales: Creatures of the Galaxy
DESCRIPTION:An educational animal program with out of this world animals! \n\n\n\n\n\n\nA variety of exotic animals from all around the world that can be found throughout the cosmos in Constellations.  Program will be provided on the Library Plaza.  Space is limited\, come early to ensure a seat.
URL:https://birminghammommy.com/event/animal-tales-creatures-of-the-galaxy-4/2019-06-06/
LOCATION:Hoover Public Library\, 200 Municiple Drive\, Hoover\, AL\, 35216
GEO:33.387905;-86.8061018
X-APPLE-STRUCTURED-LOCATION;VALUE=URI;X-ADDRESS=Hoover Public Library 200 Municiple Drive Hoover AL 35216;X-APPLE-RADIUS=500;X-TITLE=200 Municiple Drive:geo:-86.8061018,33.387905
END:VEVENT
BEGIN:VEVENT
DTSTART;TZID=America/Chicago:20190606T113000
DTEND;TZID=America/Chicago:20190606T120000
DTSTAMP:20260420T201943
CREATED:20190414T235131Z
LAST-MODIFIED:20190414T235244Z
UID:29158-1559820600-1559822400@birminghammommy.com
SUMMARY:Storytime at Magic City Sweet Ice
DESCRIPTION:2019 (All Ages) Join us at Magic City Sweet Ice for a special summer storytime and a discount on a sweet treat!
URL:https://birminghammommy.com/event/storytime-at-magic-city-sweet-ice/
LOCATION:Magic City Sweet Ice\, 715 Oak Grove Rd\, Homewood\, 35209
END:VEVENT
BEGIN:VEVENT
DTSTART;TZID=America/Chicago:20190606T140000
DTEND;TZID=America/Chicago:20190606T143000
DTSTAMP:20260420T201943
CREATED:20190510T213443Z
LAST-MODIFIED:20190510T213443Z
UID:29832-1559829600-1559831400@birminghammommy.com
SUMMARY:Building Tech: Grades K-3
DESCRIPTION:Explore engineering through a different building challenge each week.\n\nThis week: Boats\nCan you make a boat out of tin foil?\n\nFor Grades K-3rd. Registration required.
URL:https://birminghammommy.com/event/building-tech-grades-k-3/
LOCATION:North Shelby Library\, 5521 Cahaba Valley Road\, Birmingham\, AL\, 35242
GEO:33.3646429;-86.7165499
X-APPLE-STRUCTURED-LOCATION;VALUE=URI;X-ADDRESS=North Shelby Library 5521 Cahaba Valley Road Birmingham AL 35242;X-APPLE-RADIUS=500;X-TITLE=5521 Cahaba Valley Road:geo:-86.7165499,33.3646429
END:VEVENT
BEGIN:VEVENT
DTSTART;TZID=America/Chicago:20190606T160000
DTEND;TZID=America/Chicago:20190606T170000
DTSTAMP:20260420T201943
CREATED:20190512T010554Z
LAST-MODIFIED:20190512T010554Z
UID:29951-1559836800-1559840400@birminghammommy.com
SUMMARY:Summer STEAM: Rocket Science
DESCRIPTION:The Science Lady presents “Rocket Science” \n\n\n\n\n\n\nRegistration required for ages 6-12
URL:https://birminghammommy.com/event/summer-steam-rocket-science/
LOCATION:Hoover Public Library\, 200 Municiple Drive\, Hoover\, AL\, 35216
GEO:33.387905;-86.8061018
X-APPLE-STRUCTURED-LOCATION;VALUE=URI;X-ADDRESS=Hoover Public Library 200 Municiple Drive Hoover AL 35216;X-APPLE-RADIUS=500;X-TITLE=200 Municiple Drive:geo:-86.8061018,33.387905
END:VEVENT
BEGIN:VEVENT
DTSTART;TZID=America/Chicago:20190606T163000
DTEND;TZID=America/Chicago:20190606T173000
DTSTAMP:20260420T201943
CREATED:20190414T235244Z
LAST-MODIFIED:20190414T235244Z
UID:29161-1559838600-1559842200@birminghammommy.com
SUMMARY:Learn Japanese at Homewood Library
DESCRIPTION:2019 (3-5 Grade) Learn common Japanese words and phrases in this three-week class. Registration is required.
URL:https://birminghammommy.com/event/learn-japanese-at-homewood-library-2/
LOCATION:Homewood Public Library\, 1721 Oxmoor Road\, Homewood\, AL\, 35209\, United States
GEO:33.4750533;-86.795404
X-APPLE-STRUCTURED-LOCATION;VALUE=URI;X-ADDRESS=Homewood Public Library 1721 Oxmoor Road Homewood AL 35209 United States;X-APPLE-RADIUS=500;X-TITLE=1721 Oxmoor Road:geo:-86.795404,33.4750533
END:VEVENT
BEGIN:VEVENT
DTSTART;TZID=America/Chicago:20190606T180000
DTEND;TZID=America/Chicago:20190606T184500
DTSTAMP:20260420T201943
CREATED:20190426T182156Z
LAST-MODIFIED:20190426T182156Z
UID:29470-1559844000-1559846700@birminghammommy.com
SUMMARY:Books and Brushes Art Night at Homewood Library
DESCRIPTION:2019 (All Ages) Join us for a night of creation inspired by Stitchin’ and Pullin’: A Gee’s Bend Quilt by Patricia McKissack.
URL:https://birminghammommy.com/event/books-and-brushes-art-night-at-homewood-library/
LOCATION:Homewood Public Library\, 1721 Oxmoor Road\, Homewood\, AL\, 35209\, United States
GEO:33.4750533;-86.795404
X-APPLE-STRUCTURED-LOCATION;VALUE=URI;X-ADDRESS=Homewood Public Library 1721 Oxmoor Road Homewood AL 35209 United States;X-APPLE-RADIUS=500;X-TITLE=1721 Oxmoor Road:geo:-86.795404,33.4750533
END:VEVENT
BEGIN:VEVENT
DTSTART;TZID=America/Chicago:20190606T183000
DTEND;TZID=America/Chicago:20190606T191500
DTSTAMP:20260420T201943
CREATED:20190510T213555Z
LAST-MODIFIED:20190510T213555Z
UID:29834-1559845800-1559848500@birminghammommy.com
SUMMARY:Pajama Storytime
DESCRIPTION:Come in your PJs\, have milk and cookies\, and hear some wonderful bedtime tales. Suited for ages 3 and up. No Registration Required.
URL:https://birminghammommy.com/event/pajama-storytime-7/
LOCATION:North Shelby Library\, 5521 Cahaba Valley Road\, Birmingham\, AL\, 35242
GEO:33.3646429;-86.7165499
X-APPLE-STRUCTURED-LOCATION;VALUE=URI;X-ADDRESS=North Shelby Library 5521 Cahaba Valley Road Birmingham AL 35242;X-APPLE-RADIUS=500;X-TITLE=5521 Cahaba Valley Road:geo:-86.7165499,33.3646429
END:VEVENT
BEGIN:VEVENT
DTSTART;TZID=America/Chicago:20190606T190500
DTEND;TZID=America/Chicago:20190606T220500
DTSTAMP:20260420T201943
CREATED:20190507T022244Z
LAST-MODIFIED:20190507T022244Z
UID:29733-1559847900-1559858700@birminghammommy.com
SUMMARY:Birmingham Barons V. Jackson Generals
DESCRIPTION:Game Highlight: Thirsty Thursday  \n\n\n\n\n\n\nCome out and enjoy a game at Regions Field with your best pal on Thirsty Thursday. On this night 16oz beverages for just $2 \n\n\n\n\n\n\nGeneral Admission seats remain the same price as in recent years with adult tickets available for $7.00. Children (12-years and younger)\, seniors (60 years and older) and members of the military receive $1.00 discounts on the listed prices for all reserved and general admission seats. General Admission seating is located in the right field bleachers and the berm seating areas.
URL:https://birminghammommy.com/event/birmingham-barons-v-jackson-generals-10/
LOCATION:Regions Field\, 1401 1st Avenue S\, Birmingham\, 35233
GEO:33.5075002;-86.8105789
X-APPLE-STRUCTURED-LOCATION;VALUE=URI;X-ADDRESS=Regions Field 1401 1st Avenue S Birmingham 35233;X-APPLE-RADIUS=500;X-TITLE=1401 1st Avenue S:geo:-86.8105789,33.5075002
END:VEVENT
BEGIN:VEVENT
DTSTART;TZID=America/Chicago:20190607T093000
DTEND;TZID=America/Chicago:20190607T101500
DTSTAMP:20260420T201943
CREATED:20190512T010805Z
LAST-MODIFIED:20190512T010805Z
UID:29953-1559899800-1559902500@birminghammommy.com
SUMMARY:Movers and Shakers
DESCRIPTION:Movement\, music and more! All ages
URL:https://birminghammommy.com/event/movers-and-shakers/2019-06-07/
LOCATION:Hoover Public Library\, 200 Municiple Drive\, Hoover\, AL\, 35216
GEO:33.387905;-86.8061018
X-APPLE-STRUCTURED-LOCATION;VALUE=URI;X-ADDRESS=Hoover Public Library 200 Municiple Drive Hoover AL 35216;X-APPLE-RADIUS=500;X-TITLE=200 Municiple Drive:geo:-86.8061018,33.387905
END:VEVENT
BEGIN:VEVENT
DTSTART;TZID=America/Chicago:20190607T100000
DTEND;TZID=America/Chicago:20190607T103000
DTSTAMP:20260420T201943
CREATED:20190510T213900Z
LAST-MODIFIED:20190510T214537Z
UID:29836-1559901600-1559903400@birminghammommy.com
SUMMARY:Mt Laurel Toddler Tales
DESCRIPTION:Stories\, songs\, finger plays\, and more make up a lively 30 minute program designed especially for short attention spans and their caregiver. Registration begins two weeks prior to each storytime. Ages 36 months and younger.
URL:https://birminghammommy.com/event/mt-laurel-toddler-tales-11/2019-06-07/
LOCATION:Mt Laurel Library\, 111 Olmsted St\, Birmingham\, AL\, 35242
GEO:33.4096347;-86.6292618
X-APPLE-STRUCTURED-LOCATION;VALUE=URI;X-ADDRESS=Mt Laurel Library 111 Olmsted St Birmingham AL 35242;X-APPLE-RADIUS=500;X-TITLE=111 Olmsted St:geo:-86.6292618,33.4096347
END:VEVENT
BEGIN:VEVENT
DTSTART;TZID=America/Chicago:20190607T103000
DTEND;TZID=America/Chicago:20190607T111500
DTSTAMP:20260420T201943
CREATED:20190426T182115Z
LAST-MODIFIED:20190426T182115Z
UID:29472-1559903400-1559906100@birminghammommy.com
SUMMARY:Animal Adventures: Animal Tales
DESCRIPTION:2019 (All Ages) Join us on Friday mornings to learn about different animals!
URL:https://birminghammommy.com/event/animal-adventures-animal-tales/
LOCATION:Homewood Public Library\, Select a Country:
GEO:-12.0470469;-77.032263
END:VEVENT
BEGIN:VEVENT
DTSTART;TZID=America/Chicago:20190607T110000
DTEND;TZID=America/Chicago:20190607T120000
DTSTAMP:20260420T201943
CREATED:20190510T214207Z
LAST-MODIFIED:20190510T214409Z
UID:29845-1559905200-1559908800@birminghammommy.com
SUMMARY:Mt Laurel Storytime
DESCRIPTION:Stories\, music\, and more for every member of the family. All ages. No registration required.
URL:https://birminghammommy.com/event/mt-laurel-storytime-10/2019-06-07/
END:VEVENT
BEGIN:VEVENT
DTSTART;TZID=America/Chicago:20190607T140000
DTEND;TZID=America/Chicago:20190607T144500
DTSTAMP:20260420T201943
CREATED:20190604T125226Z
LAST-MODIFIED:20190604T125226Z
UID:30112-1559916000-1559918700@birminghammommy.com
SUMMARY:Stars Over Montevallo
DESCRIPTION:Join us for a celestial event with the University of Montevallo’s Observatory! Call the library for more information at (205) 665-9207.
URL:https://birminghammommy.com/event/stars-over-montevallo/
LOCATION:Parnell Memorial Library\, 277 Park Drive\, Montevallo\, AL\, 35115\, United States
ORGANIZER;CN="Parnell Memorial Library":MAILTO:skitchens@shelbycounty-al.org
END:VEVENT
BEGIN:VEVENT
DTSTART;TZID=America/Chicago:20190608T090000
DTEND;TZID=America/Chicago:20190608T163000
DTSTAMP:20260420T201943
CREATED:20190604T124936Z
LAST-MODIFIED:20190604T124936Z
UID:30312-1559984400-1560011400@birminghammommy.com
SUMMARY:Moosie's Birthday Party at CHOM!
DESCRIPTION:Moosie’s Birthday Party at CHOM! \nSaturday\, June 8\, 2019    9-4:30 pm \nOur Cow\, Moosie\, is turning four! \nCelebrate with us as we play games\, \nMake cow crafts and enjoy birthday cake! \nAll activities included with admission!
URL:https://birminghammommy.com/event/moosies-birthday-party-at-chom-2/
LOCATION:Children’s Hands-On Museum\, 2213 University Blvd.\, Tuscaloosa\, AL\, 35401\, United States
ATTACH;FMTTYPE=image/jpeg:https://birminghammommy.com/wp-content/uploads/2019/06/Moosies-Birthday-6-8.jpg
END:VEVENT
BEGIN:VEVENT
DTSTART;TZID=America/Chicago:20190608T100000
DTEND;TZID=America/Chicago:20190608T170000
DTSTAMP:20260420T201943
CREATED:20190608T004733Z
LAST-MODIFIED:20190608T004733Z
UID:30513-1559988000-1560013200@birminghammommy.com
SUMMARY:World Oceans Day at McWane
DESCRIPTION:Join us at McWane Science Center to celebrate World Oceans Day with upcycling crafts and projects designed to help prevent plastic pollution. We will also feature ocean animal encounters and sea creature feedings. Together we can protect and restore our ocean. \nProgramming\n10:00 – 11:00 — Bottle Cap Keychains\, Level 1: Demonstration Station\n11:00 — Shark & Ray Feeding\, Lower Level: Shark & Ray Touch Tank\n11:30 — Capsize\, Level 2: Itty Bitty Magic City\n11:30 — Ocean Animal Encounter\, Lower Level: Aquascape Theater\n12:30 — Oil Spill\, Level 1: Workshop\n1:30 — Gulf Feeding\, Lower Level: Ocean Journey\n2:00 – 3:00 — T-shirt Bags\, Level 3: Classroom 302\n2:30 — Combustion\, Level 1: Rushton Science Theater\n3:30 – 4:30 — Plastic Sewing\, Level 3: Classroom 303\n3:30 — Capsize\, Level 2: Itty Bitty Magic City\n4:30 — Ocean Animal Encounter\, Lower Level: Aquascape Theater
URL:https://birminghammommy.com/event/world-oceans-day-at-mcwane/
LOCATION:McWane Science Center\, 200 19th Street North\, Birmingham\, AL\, 35203
GEO:33.5149315;-86.8083142
X-APPLE-STRUCTURED-LOCATION;VALUE=URI;X-ADDRESS=McWane Science Center 200 19th Street North Birmingham AL 35203;X-APPLE-RADIUS=500;X-TITLE=200 19th Street North:geo:-86.8083142,33.5149315
END:VEVENT
BEGIN:VEVENT
DTSTART;TZID=America/Chicago:20190608T103000
DTEND;TZID=America/Chicago:20190608T111000
DTSTAMP:20260420T201943
CREATED:20190608T191848Z
LAST-MODIFIED:20190608T191848Z
UID:30468-1559989800-1559992200@birminghammommy.com
SUMMARY:Family Storytime with Mr. Mac at Emmet O'Neal Library
DESCRIPTION:storytime for the whole family
URL:https://birminghammommy.com/event/family-storytime-with-mr-mac-at-emmet-oneal-library/
LOCATION:Emmet O’ Neal Library\, 50 Oak Street\, Mountain Brook\, AL\, 35213
GEO:33.5012941;-86.7565774
X-APPLE-STRUCTURED-LOCATION;VALUE=URI;X-ADDRESS=Emmet O’ Neal Library 50 Oak Street Mountain Brook AL 35213;X-APPLE-RADIUS=500;X-TITLE=50 Oak Street:geo:-86.7565774,33.5012941
END:VEVENT
BEGIN:VEVENT
DTSTART;TZID=America/Chicago:20190608T110000
DTEND;TZID=America/Chicago:20190608T120000
DTSTAMP:20260420T201943
CREATED:20190608T010323Z
LAST-MODIFIED:20190608T010323Z
UID:30533-1559991600-1559995200@birminghammommy.com
SUMMARY:Storytime Moon's First Friends
DESCRIPTION:From high up in the sky\, the Moon has spent her whole life watching Earth and hoping for someone to visit. When is it her turn? Join us for Storytime and activities\, and get a coupon from our Café for a grilled cheese sandwich with milk or juice for $4 (Café stores only).
URL:https://birminghammommy.com/event/storytime-moons-first-friends/
LOCATION:Barnes and Noble Summit\, 201 Summit Blvd\, Suite 100\, Birmingham\, AL\, 35243
GEO:33.446009;-86.7296901
X-APPLE-STRUCTURED-LOCATION;VALUE=URI;X-ADDRESS=Barnes and Noble Summit 201 Summit Blvd Suite 100 Birmingham AL 35243;X-APPLE-RADIUS=500;X-TITLE=201 Summit Blvd\, Suite 100:geo:-86.7296901,33.446009
END:VEVENT
BEGIN:VEVENT
DTSTART;TZID=America/Chicago:20190608T190000
DTEND;TZID=America/Chicago:20190608T210000
DTSTAMP:20260420T201943
CREATED:20190423T131821Z
LAST-MODIFIED:20190423T131821Z
UID:29340-1560020400-1560027600@birminghammommy.com
SUMMARY:1818 Farms Dinner by the Blooms
DESCRIPTION:Chef Jakob Reed and Natasha McCrary of 1818 Farms present “Dinner by the Blooms.” Join us for a memorable\, intimate evening among the blooms at 1818 Farms located in historic Mooresville\, AL. Upon arrival to 1818 Farms\, guests will be offered a selection of farm fresh appetizers and have an opportunity to enjoy our colorful flower field and visit the animals. Afterwards\, guests will be seated for dinner at tables under the 1818 Farms pavilion or in the Garden House. Chef Jakob will then serve a delicious four course\, gourmet meal. At the presentation of each course\, Jakob will discuss the details of what he has prepared — where it came from\, how it was prepared and why it was chosen for the dinner. Each Dinner by the Blooms is limited to 24 guests.
URL:https://birminghammommy.com/event/1818-farms-dinner-by-the-blooms-2/
LOCATION:1818 Farms\, 24889 Lauderdale Street\, Mooresville\, Alabama\, 35649\, Select a Country:
ATTACH;FMTTYPE=image/jpeg:https://birminghammommy.com/wp-content/uploads/2019/04/Dinner-by-the-blooms.jpeg
END:VEVENT
BEGIN:VEVENT
DTSTART;TZID=America/Chicago:20190609T110000
DTEND;TZID=America/Chicago:20190609T113000
DTSTAMP:20260420T201943
CREATED:20190608T010518Z
LAST-MODIFIED:20190608T010518Z
UID:30535-1560078000-1560079800@birminghammommy.com
SUMMARY:Baby & Me Storytime Featuring Alphaprints: Sea Life
DESCRIPTION:Introducing our new Baby & Me Storytime for caregivers and children 0-24 months old. Join us as we read a book and participate in activities featuring sensory growth for your little ones.
URL:https://birminghammommy.com/event/baby-me-storytime-featuring-alphaprints-sea-life/
LOCATION:Barnes and Noble Summit\, 201 Summit Blvd\, Suite 100\, Birmingham\, AL\, 35243
GEO:33.446009;-86.7296901
X-APPLE-STRUCTURED-LOCATION;VALUE=URI;X-ADDRESS=Barnes and Noble Summit 201 Summit Blvd Suite 100 Birmingham AL 35243;X-APPLE-RADIUS=500;X-TITLE=201 Summit Blvd\, Suite 100:geo:-86.7296901,33.446009
END:VEVENT
BEGIN:VEVENT
DTSTART;TZID=America/Chicago:20190610T093000
DTEND;TZID=America/Chicago:20190610T100000
DTSTAMP:20260420T201943
CREATED:20190608T192032Z
LAST-MODIFIED:20190608T192032Z
UID:30470-1560159000-1560160800@birminghammommy.com
SUMMARY:Toddler Tales at Emmet O'Neil Library
DESCRIPTION:24 to 36 months with caregiver
URL:https://birminghammommy.com/event/toddler-tales-at-emmet-oneil-library/
LOCATION:Emmet O’ Neal Library\, 50 Oak Street\, Mountain Brook\, AL\, 35213
GEO:33.5012941;-86.7565774
X-APPLE-STRUCTURED-LOCATION;VALUE=URI;X-ADDRESS=Emmet O’ Neal Library 50 Oak Street Mountain Brook AL 35213;X-APPLE-RADIUS=500;X-TITLE=50 Oak Street:geo:-86.7565774,33.5012941
END:VEVENT
BEGIN:VEVENT
DTSTART;TZID=America/Chicago:20190610T100000
DTEND;TZID=America/Chicago:20190610T110000
DTSTAMP:20260420T201943
CREATED:20190426T182115Z
LAST-MODIFIED:20190426T182115Z
UID:29474-1560160800-1560164400@birminghammommy.com
SUMMARY:Story Bunch with Ms. Cristina at Homewood Library
DESCRIPTION:2019 (Preschool) Join Ms. Cristina for stories\, songs and lots of fun!
URL:https://birminghammommy.com/event/story-bunch-with-ms-cristina-at-homewood-library/
LOCATION:Homewood Public Library\, 1721 Oxmoor Road\, Homewood\, AL\, 35209\, United States
GEO:33.4750533;-86.795404
X-APPLE-STRUCTURED-LOCATION;VALUE=URI;X-ADDRESS=Homewood Public Library 1721 Oxmoor Road Homewood AL 35209 United States;X-APPLE-RADIUS=500;X-TITLE=1721 Oxmoor Road:geo:-86.795404,33.4750533
END:VEVENT
BEGIN:VEVENT
DTSTART;TZID=America/Chicago:20190610T103000
DTEND;TZID=America/Chicago:20190610T110000
DTSTAMP:20260420T201943
CREATED:20190608T192032Z
LAST-MODIFIED:20190608T192032Z
UID:30473-1560162600-1560164400@birminghammommy.com
SUMMARY:Toddler Tales at Emmet O'Neal Library
DESCRIPTION:24 to 36 months with caregiver
URL:https://birminghammommy.com/event/toddler-tales-at-emmet-oneal-library-2/
LOCATION:Emmet O’ Neal Library\, 50 Oak Street\, Mountain Brook\, AL\, 35213
GEO:33.5012941;-86.7565774
X-APPLE-STRUCTURED-LOCATION;VALUE=URI;X-ADDRESS=Emmet O’ Neal Library 50 Oak Street Mountain Brook AL 35213;X-APPLE-RADIUS=500;X-TITLE=50 Oak Street:geo:-86.7565774,33.5012941
END:VEVENT
BEGIN:VEVENT
DTSTART;TZID=America/Chicago:20190610T110000
DTEND;TZID=America/Chicago:20190610T120000
DTSTAMP:20260420T201943
CREATED:20190510T214758Z
LAST-MODIFIED:20190510T214758Z
UID:29853-1560164400-1560168000@birminghammommy.com
SUMMARY:Miss Kit's Bubble School
DESCRIPTION:Join us for this unique show filled with science\, comedy\, and best of all\, BUBBLES! \nAll ages. No registration.
URL:https://birminghammommy.com/event/miss-kits-bubble-school-4/
LOCATION:North Shelby Library\, 5521 Cahaba Valley Road\, Birmingham\, AL\, 35242
GEO:33.3646429;-86.7165499
X-APPLE-STRUCTURED-LOCATION;VALUE=URI;X-ADDRESS=North Shelby Library 5521 Cahaba Valley Road Birmingham AL 35242;X-APPLE-RADIUS=500;X-TITLE=5521 Cahaba Valley Road:geo:-86.7165499,33.3646429
END:VEVENT
BEGIN:VEVENT
DTSTART;TZID=America/Chicago:20190610T120000
DTEND;TZID=America/Chicago:20190610T130000
DTSTAMP:20260420T201943
CREATED:20190510T215233Z
LAST-MODIFIED:20190510T215233Z
UID:29855-1560168000-1560171600@birminghammommy.com
SUMMARY:Mt Laurel Alabama Inventors
DESCRIPTION:Help celebrate Alabama’s Bicentennial by learning about Alabama inventors. Ms. Jan from Dynamic Adventure Education will lead a fun program! All ages welcome. Registration required. Register using the library’s online calendar at mtlaurellibrary.org or call 991-1660. Program is sponsored by O’Kelley Architecture.
URL:https://birminghammommy.com/event/mt-laurel-alabama-inventors/
LOCATION:Mt Laurel Library\, 111 Olmsted St\, Birmingham\, AL\, 35242
GEO:33.4096347;-86.6292618
X-APPLE-STRUCTURED-LOCATION;VALUE=URI;X-ADDRESS=Mt Laurel Library 111 Olmsted St Birmingham AL 35242;X-APPLE-RADIUS=500;X-TITLE=111 Olmsted St:geo:-86.6292618,33.4096347
END:VEVENT
BEGIN:VEVENT
DTSTART;TZID=America/Chicago:20190610T140000
DTEND;TZID=America/Chicago:20190610T153000
DTSTAMP:20260420T201943
CREATED:20190608T192032Z
LAST-MODIFIED:20190608T192032Z
UID:30475-1560175200-1560180600@birminghammommy.com
SUMMARY:Geoffrey Glaub Memorial Camp at Emmet O'Neal Library
DESCRIPTION:Space Camp
URL:https://birminghammommy.com/event/geoffrey-glaub-memorial-camp-at-emmet-oneal-library/2019-06-10/
LOCATION:Emmet O’ Neal Library\, 50 Oak Street\, Mountain Brook\, AL\, 35213
GEO:33.5012941;-86.7565774
X-APPLE-STRUCTURED-LOCATION;VALUE=URI;X-ADDRESS=Emmet O’ Neal Library 50 Oak Street Mountain Brook AL 35213;X-APPLE-RADIUS=500;X-TITLE=50 Oak Street:geo:-86.7565774,33.5012941
END:VEVENT
BEGIN:VEVENT
DTSTART;TZID=America/Chicago:20190610T160000
DTEND;TZID=America/Chicago:20190610T164500
DTSTAMP:20260420T201943
CREATED:20190426T182115Z
LAST-MODIFIED:20190426T182115Z
UID:29476-1560182400-1560185100@birminghammommy.com
SUMMARY:City Passport: Vulcan Park & Museum
DESCRIPTION:2019 (K-12 Grade) Join us on Monday afternoons as we learn about amazing organizations around our city through presentations\, crafts and books.
URL:https://birminghammommy.com/event/city-passport-vulcan-park-museum/
LOCATION:Homewood Public Library\, 1721 Oxmoor Road\, Homewood\, AL\, 35209\, United States
GEO:33.4750533;-86.795404
X-APPLE-STRUCTURED-LOCATION;VALUE=URI;X-ADDRESS=Homewood Public Library 1721 Oxmoor Road Homewood AL 35209 United States;X-APPLE-RADIUS=500;X-TITLE=1721 Oxmoor Road:geo:-86.795404,33.4750533
END:VEVENT
BEGIN:VEVENT
DTSTART;TZID=America/Chicago:20190610T180000
DTEND;TZID=America/Chicago:20190610T190000
DTSTAMP:20260420T201943
CREATED:20190510T215504Z
LAST-MODIFIED:20190510T215504Z
UID:29857-1560189600-1560193200@birminghammommy.com
SUMMARY:Miss Kit's Bubble School
DESCRIPTION:Join us for this unique show filled with science\, comedy\, and best of all\, BUBBLES! \nAll ages. No registration.
URL:https://birminghammommy.com/event/miss-kits-bubble-school-5/
LOCATION:North Shelby Library\, 5521 Cahaba Valley Road\, Birmingham\, AL\, 35242
GEO:33.3646429;-86.7165499
X-APPLE-STRUCTURED-LOCATION;VALUE=URI;X-ADDRESS=North Shelby Library 5521 Cahaba Valley Road Birmingham AL 35242;X-APPLE-RADIUS=500;X-TITLE=5521 Cahaba Valley Road:geo:-86.7165499,33.3646429
END:VEVENT
BEGIN:VEVENT
DTSTART;TZID=America/Chicago:20190611T103000
DTEND;TZID=America/Chicago:20190611T111500
DTSTAMP:20260420T201943
CREATED:20190426T182115Z
LAST-MODIFIED:20190426T182115Z
UID:29478-1560249000-1560251700@birminghammommy.com
SUMMARY:Magic Story Artist: Yasu Ishida at Homewood Library
DESCRIPTION:2019 (All Ages) Join Magic Story Artist\, Yasu Ishida\, for a morning full of wonder!
URL:https://birminghammommy.com/event/magic-story-artist-yasu-ishida-at-homewood-library/
LOCATION:Homewood Public Library\, Select a Country:
GEO:-12.0470469;-77.032263
END:VEVENT
BEGIN:VEVENT
DTSTART;TZID=America/Chicago:20190611T103000
DTEND;TZID=America/Chicago:20190611T113000
DTSTAMP:20260420T201943
CREATED:20190512T011310Z
LAST-MODIFIED:20190512T011815Z
UID:29956-1560249000-1560252600@birminghammommy.com
SUMMARY:Madcap Puppets: Wizard of Oz
DESCRIPTION:Wizard of Oz Puppet Show \n\n\n\n\n\n\nTravel down the Yellow Brick Road with Dorothy\, Toto\, and their best friends; Scarecrow\, Cowardly Lion\, and Tin Man. Madcap brings this epic adventure to life with breathtaking puppets in this enchanting\,\nfamily-friendly classic.
URL:https://birminghammommy.com/event/madcap-puppets-wizard-of-oz/2019-06-11/
LOCATION:Hoover Public Library\, 200 Municiple Drive\, Hoover\, AL\, 35216
GEO:33.387905;-86.8061018
X-APPLE-STRUCTURED-LOCATION;VALUE=URI;X-ADDRESS=Hoover Public Library 200 Municiple Drive Hoover AL 35216;X-APPLE-RADIUS=500;X-TITLE=200 Municiple Drive:geo:-86.8061018,33.387905
END:VEVENT
BEGIN:VEVENT
DTSTART;TZID=America/Chicago:20190611T113000
DTEND;TZID=America/Chicago:20190611T123000
DTSTAMP:20260420T201943
CREATED:20190512T013420Z
LAST-MODIFIED:20190512T013420Z
UID:29976-1560252600-1560256200@birminghammommy.com
SUMMARY:Kids Free Lunch Event
DESCRIPTION:Federally-funded free lunch program for children. Meals can be picked up in The Library Theatre.
URL:https://birminghammommy.com/event/kids-free-lunch-event-3/2019-06-11/
LOCATION:Hoover Public Library\, 200 Municiple Drive\, Hoover\, AL\, 35216
GEO:33.387905;-86.8061018
X-APPLE-STRUCTURED-LOCATION;VALUE=URI;X-ADDRESS=Hoover Public Library 200 Municiple Drive Hoover AL 35216;X-APPLE-RADIUS=500;X-TITLE=200 Municiple Drive:geo:-86.8061018,33.387905
END:VEVENT
END:VCALENDAR