BEGIN:VCALENDAR
VERSION:2.0
PRODID:-//Birmingham Mommy - ECPv6.3.5//NONSGML v1.0//EN
CALSCALE:GREGORIAN
METHOD:PUBLISH
X-WR-CALNAME:Birmingham Mommy
X-ORIGINAL-URL:https://birminghammommy.com
X-WR-CALDESC:Events for Birmingham Mommy
REFRESH-INTERVAL;VALUE=DURATION:PT1H
X-Robots-Tag:noindex
X-PUBLISHED-TTL:PT1H
BEGIN:VTIMEZONE
TZID:America/Chicago
BEGIN:DAYLIGHT
TZOFFSETFROM:-0600
TZOFFSETTO:-0500
TZNAME:CDT
DTSTART:20200308T080000
END:DAYLIGHT
BEGIN:STANDARD
TZOFFSETFROM:-0500
TZOFFSETTO:-0600
TZNAME:CST
DTSTART:20201101T070000
END:STANDARD
END:VTIMEZONE
BEGIN:VEVENT
DTSTART;VALUE=DATE:20200923
DTEND;VALUE=DATE:20200928
DTSTAMP:20260420T155252
CREATED:20200622T205643Z
LAST-MODIFIED:20200622T205643Z
UID:34556-1600819200-1601251199@birminghammommy.com
SUMMARY:Regions Tradition
DESCRIPTION:Official Major Championship on the PGA TOUR Champions. Plan to join us at Greystone Golf & Country Club for all the fun and excitement | Sept 23-27\, 2020
URL:https://birminghammommy.com/event/regions-tradition-4/
LOCATION:Greystone Golf & Country Club\, 4100 Greystone Drive\, Hoover\, 35242\, United States
ATTACH;FMTTYPE=image/jpeg:https://birminghammommy.com/wp-content/uploads/2020/06/7Q2A3068.jpg
END:VEVENT
BEGIN:VEVENT
DTSTART;TZID=America/Chicago:20200919T110000
DTEND;TZID=America/Chicago:20200919T140000
DTSTAMP:20260420T155252
CREATED:20200903T155834Z
LAST-MODIFIED:20200903T155834Z
UID:34846-1600513200-1600524000@birminghammommy.com
SUMMARY:Drive Out ALS Cruise-In
DESCRIPTION:Do you love a cruise in? Do you like helping a good cause? If so\, come to The Outlet Shops of Grand River on September 19th from 11am-2pm for the Drive Out ALS Cruise In! Your car can be driven daily or not. It’s going to be a fun day for a great cause! Bring your Jeeps\, Trucks\, Vintage Cars\, or whatever you have in your garage! #stompoutals #driveoutals
URL:https://birminghammommy.com/event/drive-out-als-cruise-in/
LOCATION:The Outlet Shops of Grand River\, 6200 Grand River Blvd E Ste.446\, Leeds\, AL\, 35094\, United States
ATTACH;FMTTYPE=image/jpeg:https://birminghammommy.com/wp-content/uploads/2020/08/2006_OSGR-CarShow-FB-Post-FINAL.jpg
ORGANIZER;CN="The Outlet Shops of Grand River":MAILTO:amccain@shopsofgrandriver.com
END:VEVENT
BEGIN:VEVENT
DTSTART;TZID=America/Chicago:20200918T080000
DTEND;TZID=America/Chicago:20200926T170000
DTSTAMP:20260420T155252
CREATED:20200903T160837Z
LAST-MODIFIED:20200903T160837Z
UID:34922-1600416000-1601139600@birminghammommy.com
SUMMARY:11th annual Head Over Teal 5K/10K
DESCRIPTION:The 11th annual Head Over Teal 5K/10K is going virtual! Create your own FUNdraising page or lead a team of supporters as you prepare to hit the road in your neighborhood\, park\, or favorite trail anywhere in the world! Runners can honor survivors and remember those who fought  GYN cancer by documenting their race times on RunSignup\, sharing photos of family support\, and by connecting with other participants and the LCBF staff via social media during race week by using the hashtags #headoverteal  and #headovertealgoesvirtual. Follow us on social media at Facebook @LCBFoundation\, Twitter @LCBFoundation\, Instagram at lcbfoundation\,  YouTube at Laura Crandall Brown Foundation\, and Flickr at  Laura Crandall Brown Foundation to register to win door prizes and engage in fun activities with the Head Over Teal community. \nLead race times will be eligible for a Trak Shak gift card.  Learn more and register at www.ThinkofLaura.org/HeadOverTeal.  All proceeds go to support LCBF’s mission of early detection research\, awareness education\, and financial support services for GYN cancer patients and families.
URL:https://birminghammommy.com/event/11th-annual-head-over-teal-5k-10k/
END:VEVENT
BEGIN:VEVENT
DTSTART;TZID=America/Chicago:20200903T100000
DTEND;TZID=America/Chicago:20200903T113000
DTSTAMP:20260420T155252
CREATED:20200903T155834Z
LAST-MODIFIED:20200903T155834Z
UID:34830-1599127200-1599132600@birminghammommy.com
SUMMARY:Vulcan Underground: Unearthing Local Mining History
DESCRIPTION:Join us and Underground Birmingham as we officially unveil the updates to Lone Pine Mine\, a small iron ore mine at Vulcan Park. Historians Jeff Newman and Josh Box will chat about the history of mining on Red Mountain and will answer any questions you have live on Facebook and IGTV on Sept 3rd starting at 10:00AM!
URL:https://birminghammommy.com/event/vulcan-underground-unearthing-local-mining-history/
CATEGORIES:Virtual Event
ATTACH;FMTTYPE=image/png:https://birminghammommy.com/wp-content/uploads/2020/08/Long-Pine-Mine-Social-Graphics.png
END:VEVENT
BEGIN:VEVENT
DTSTART;TZID=America/Chicago:20200720T090000
DTEND;TZID=America/Chicago:20200724T120000
DTSTAMP:20260420T155252
CREATED:20200622T205642Z
LAST-MODIFIED:20200622T205642Z
UID:34624-1595235600-1595592000@birminghammommy.com
SUMMARY:Camp Sunshine 2.0 Virtual Summer Camp
DESCRIPTION:Camp Sunshine 2.0 \nWith the launch of Camp Sunshine 2.0\, girls can access a one-of-a-kind virtual camp experience from their own homes. Girls will learn real camp skills\, and meet girls from across the state and country\, all through a safe virtual platform. Girl will create a “flat camper\,” an avatar that looks just like them\, to keep at home along with a “Build-A-Camp” kit for them to cut out\, color\, and assemble a 3D camp for their flat camper. Girls will interact with GSNCA staff and camp counselors to learn new skills and see their flat campers participating in activities at camp like canoeing\, horseback riding\, climbing\, archery\, and more. \nGirls will stay engaged and get out of their chairs by learning real camp skills like how to paddle a canoe\, how to safely hold a bow and arrow\, how to tie knots and belay in rock climbing\, and how to hold the reins on a horse. Girls will also create art in the outdoors and make fun crafts\, play games\, sing camp songs\, make friendship bracelets\, and make a camp meal. \nJust like at traditional camp\, campers will be assigned to a “cabin\,” which will allow for girls to interact with a smaller group for a more individualized experience. Assignments for each group will based off of grade and age. \nThe price for one week of Camp Sunshine 2.0 is $60 for non-members\, $25 for GSNCA members\, and $35 for Girl Scout members from other councils. The price includes a flat camper and a Build-A-Camp kit. There are several add-ons available. For $25 you can get a Camp Activity Supply Box\, which includes gimp to learn knot-tying\, “snacktivities” like a s’mores kit\, and supplies for an age-appropriate craft\, like making a puppet or a barometer. For $50 you can choose a Progressive Specialized Activity your girl is interested in\, like STEM\, art\, or primitive camping\, and receive extra programming time plus a kit with all the supplies she’ll need. \nTo register\, visit www.girlscoutsnca.org/camp.
URL:https://birminghammommy.com/event/camp-sunshine-2-0-virtual-summer-camp/2020-07-20/
CATEGORIES:Virtual Event
ATTACH;FMTTYPE=image/png:https://birminghammommy.com/wp-content/uploads/2020/06/CIT-CAMP-SUNSHINE-6.png
ORGANIZER;CN="Girl Scouts of North-Central Alabama":MAILTO:communications@girlscoutsnca.org
END:VEVENT
BEGIN:VEVENT
DTSTART;TZID=America/Chicago:20200630T140000
DTEND;TZID=America/Chicago:20200630T150000
DTSTAMP:20260420T155252
CREATED:20200622T205742Z
LAST-MODIFIED:20200622T205742Z
UID:34617-1593525600-1593529200@birminghammommy.com
SUMMARY:Where the Wild Books Are Book Club with Homewood Library.
DESCRIPTION:Are you up for a reading challenge this summer? Join Miss Leslie (Avondale Teen Librarian) and Miss Cristina (Homewood Children’s Librarian) for a monthly book club geared towards readers ages 8-13. \n\n\n\n\n\n\nEvery month\, we will assign a different theme with a specific element\, which makes for a fun scavenger hunt! For our first meeting on June 30 at 2 P.M.\, we will discuss fantasy books with a magic school. We hope to see you there! Registration is required.
URL:https://birminghammommy.com/event/where-the-wild-books-are-book-club-with-homewood-library/
LOCATION:Homewood Public Library\, 1721 Oxmoor Road\, Homewood\, AL\, 35209\, United States
CATEGORIES:Virtual Event
GEO:33.4750533;-86.795404
X-APPLE-STRUCTURED-LOCATION;VALUE=URI;X-ADDRESS=Homewood Public Library 1721 Oxmoor Road Homewood AL 35209 United States;X-APPLE-RADIUS=500;X-TITLE=1721 Oxmoor Road:geo:-86.795404,33.4750533
END:VEVENT
BEGIN:VEVENT
DTSTART;VALUE=DATE:20200630
DTEND;VALUE=DATE:20200701
DTSTAMP:20260420T155252
CREATED:20200622T205742Z
LAST-MODIFIED:20200622T205742Z
UID:34615-1593475200-1593561599@birminghammommy.com
SUMMARY:Science Fun with Homewood Library.
DESCRIPTION:Join Dynamic Education each week for a fantastically fun science experience using the YouTube and PDF links below. \n\n\n\n\n\n\nWeek 5 Science Fun \nWeek 5 Science Fun Experiment
URL:https://birminghammommy.com/event/science-fun-with-homewood-library-2/
LOCATION:Homewood Public Library\, 1721 Oxmoor Road\, Homewood\, AL\, 35209\, United States
CATEGORIES:Virtual Event
GEO:33.4750533;-86.795404
X-APPLE-STRUCTURED-LOCATION;VALUE=URI;X-ADDRESS=Homewood Public Library 1721 Oxmoor Road Homewood AL 35209 United States;X-APPLE-RADIUS=500;X-TITLE=1721 Oxmoor Road:geo:-86.795404,33.4750533
END:VEVENT
BEGIN:VEVENT
DTSTART;VALUE=DATE:20200629
DTEND;VALUE=DATE:20200630
DTSTAMP:20260420T155252
CREATED:20200622T205742Z
LAST-MODIFIED:20200622T205742Z
UID:34613-1593388800-1593475199@birminghammommy.com
SUMMARY:Fairy Tale Time Online with Homewood Library.
DESCRIPTION:Join Ms. Cristina for a fairy tale retelling of the Three Little Aliens and the Big Bad Robot using the YouTube link below. \n\n\n\n\n\n\nThe Three Little Aliens and the Big Bad Robot
URL:https://birminghammommy.com/event/fairy-tale-time-online-with-homewood-library-2/
LOCATION:Homewood Public Library\, 1721 Oxmoor Road\, Homewood\, AL\, 35209\, United States
CATEGORIES:Virtual Event
GEO:33.4750533;-86.795404
X-APPLE-STRUCTURED-LOCATION;VALUE=URI;X-ADDRESS=Homewood Public Library 1721 Oxmoor Road Homewood AL 35209 United States;X-APPLE-RADIUS=500;X-TITLE=1721 Oxmoor Road:geo:-86.795404,33.4750533
END:VEVENT
BEGIN:VEVENT
DTSTART;TZID=America/Chicago:20200626T110000
DTEND;TZID=America/Chicago:20200626T113000
DTSTAMP:20260420T155252
CREATED:20200622T205809Z
LAST-MODIFIED:20200622T205809Z
UID:34611-1593169200-1593171000@birminghammommy.com
SUMMARY:Storytime with Author Carmen Agra Deedy.
DESCRIPTION:Carmen Agra Deedy is this year’s “Imagine Your Story” Summer Reading Champion and will read and share stories every Friday in June and July from her Facebook page! \n\n\n\n\n\n\nLink to Carmen Agra Deedy’s Facebook
URL:https://birminghammommy.com/event/storytime-with-author-carmen-agra-deedy/
LOCATION:Homewood Public Library\, 1721 Oxmoor Road\, Homewood\, AL\, 35209\, United States
CATEGORIES:Virtual Event
GEO:33.4750533;-86.795404
X-APPLE-STRUCTURED-LOCATION;VALUE=URI;X-ADDRESS=Homewood Public Library 1721 Oxmoor Road Homewood AL 35209 United States;X-APPLE-RADIUS=500;X-TITLE=1721 Oxmoor Road:geo:-86.795404,33.4750533
END:VEVENT
BEGIN:VEVENT
DTSTART;TZID=America/Chicago:20200625T180000
DTEND;TZID=America/Chicago:20200625T190000
DTSTAMP:20260420T155252
CREATED:20200622T205742Z
LAST-MODIFIED:20200622T205742Z
UID:34609-1593108000-1593111600@birminghammommy.com
SUMMARY:Family Fun on Zoom - Building Challenge with Homewood Library.
DESCRIPTION:Grab your LEGO bricks or blocks or spaghetti and marshmallows or pillows or whatever you have around the house! \n\n\n\n\n\n\nYou’ll have 30 minutes to complete your building challenge and then share it with the group! At the end of the program we will give away a $50 Homewood Instagift card.
URL:https://birminghammommy.com/event/family-fun-on-zoom-building-challenge-with-homewood-library/
LOCATION:Homewood Public Library\, 1721 Oxmoor Road\, Homewood\, AL\, 35209\, United States
CATEGORIES:Virtual Event
GEO:33.4750533;-86.795404
X-APPLE-STRUCTURED-LOCATION;VALUE=URI;X-ADDRESS=Homewood Public Library 1721 Oxmoor Road Homewood AL 35209 United States;X-APPLE-RADIUS=500;X-TITLE=1721 Oxmoor Road:geo:-86.795404,33.4750533
END:VEVENT
BEGIN:VEVENT
DTSTART;VALUE=DATE:20200624
DTEND;VALUE=DATE:20200625
DTSTAMP:20260420T155252
CREATED:20200622T205742Z
LAST-MODIFIED:20200622T205742Z
UID:34607-1592956800-1593043199@birminghammommy.com
SUMMARY:Storytime Online with Homewood Library.
DESCRIPTION:Join Ms. Cristina for a retelling of Flip Flap Jack using the YouTube link below. \n\n\n\n\n\n\nFlip Flap Jack
URL:https://birminghammommy.com/event/storytime-online-with-homewood-library/
LOCATION:Homewood Public Library\, 1721 Oxmoor Road\, Homewood\, AL\, 35209\, United States
CATEGORIES:Virtual Event
GEO:33.4750533;-86.795404
X-APPLE-STRUCTURED-LOCATION;VALUE=URI;X-ADDRESS=Homewood Public Library 1721 Oxmoor Road Homewood AL 35209 United States;X-APPLE-RADIUS=500;X-TITLE=1721 Oxmoor Road:geo:-86.795404,33.4750533
END:VEVENT
BEGIN:VEVENT
DTSTART;VALUE=DATE:20200623
DTEND;VALUE=DATE:20200624
DTSTAMP:20260420T155252
CREATED:20200622T205742Z
LAST-MODIFIED:20200622T205742Z
UID:34605-1592870400-1592956799@birminghammommy.com
SUMMARY:Science Fun with Homewood Library.
DESCRIPTION:Join Dynamic Education each week for a fantastically fun science experience using the YouTube and PDF links below. \n\n\n\n\n\n\nWeek 4 Science Fun \nWeek 4 Science Fun Experiment
URL:https://birminghammommy.com/event/science-fun-with-homewood-library/
LOCATION:Homewood Public Library\, 1721 Oxmoor Road\, Homewood\, AL\, 35209\, United States
CATEGORIES:Virtual Event
GEO:33.4750533;-86.795404
X-APPLE-STRUCTURED-LOCATION;VALUE=URI;X-ADDRESS=Homewood Public Library 1721 Oxmoor Road Homewood AL 35209 United States;X-APPLE-RADIUS=500;X-TITLE=1721 Oxmoor Road:geo:-86.795404,33.4750533
END:VEVENT
BEGIN:VEVENT
DTSTART;TZID=America/Chicago:20200622T100000
DTEND;TZID=America/Chicago:20200622T103000
DTSTAMP:20260420T155252
CREATED:20200622T205643Z
LAST-MODIFIED:20200622T205643Z
UID:34554-1592820000-1592821800@birminghammommy.com
SUMMARY:So You Want to be a Nurse (Virtual Q & A Session)
DESCRIPTION:Thinking about becoming a nurse\, but aren’t sure it’s the right career path for you? Nursing students from Jeff State are here to help answer your questions in this online webinar! \nClick here to register.
URL:https://birminghammommy.com/event/so-you-want-to-be-a-nurse-virtual-q-a-session/
LOCATION:Virtual Event
CATEGORIES:Virtual Event
ATTACH;FMTTYPE=image/png:https://birminghammommy.com/wp-content/uploads/2020/06/so-you-want-to-be-a-nurse.png
END:VEVENT
BEGIN:VEVENT
DTSTART;VALUE=DATE:20200622
DTEND;VALUE=DATE:20200623
DTSTAMP:20260420T155252
CREATED:20200622T205742Z
LAST-MODIFIED:20200622T205742Z
UID:34603-1592784000-1592870399@birminghammommy.com
SUMMARY:Fairy Tale Time Online with Homewood Library.
DESCRIPTION:Join Ms. Laura for a fairy tale retelling of the Tortoise and the Hare using the YouTube link below. \n\n\n\n\n\n\nThe Tortoise and the Hare
URL:https://birminghammommy.com/event/fairy-tale-time-online-with-homewood-library/
LOCATION:Homewood Public Library\, 1721 Oxmoor Road\, Homewood\, AL\, 35209\, United States
CATEGORIES:Virtual Event
GEO:33.4750533;-86.795404
X-APPLE-STRUCTURED-LOCATION;VALUE=URI;X-ADDRESS=Homewood Public Library 1721 Oxmoor Road Homewood AL 35209 United States;X-APPLE-RADIUS=500;X-TITLE=1721 Oxmoor Road:geo:-86.795404,33.4750533
END:VEVENT
BEGIN:VEVENT
DTSTART;TZID=America/Chicago:20200619T110000
DTEND;TZID=America/Chicago:20200619T113000
DTSTAMP:20260420T155252
CREATED:20200622T205742Z
LAST-MODIFIED:20200622T205742Z
UID:34601-1592564400-1592566200@birminghammommy.com
SUMMARY:Storytime with Author Carmen Agra Deedy at Homewood Library.
DESCRIPTION:Carmen Agra Deedy is this year’s “Imagine Your Story” Summer Reading Champion and will read and share stories every Friday in June and July from her Facebook page!
URL:https://birminghammommy.com/event/storytime-with-author-carmen-agra-deedy-at-homewood-library/
LOCATION:Homewood Public Library\, 1721 Oxmoor Road\, Homewood\, AL\, 35209\, United States
GEO:33.4750533;-86.795404
X-APPLE-STRUCTURED-LOCATION;VALUE=URI;X-ADDRESS=Homewood Public Library 1721 Oxmoor Road Homewood AL 35209 United States;X-APPLE-RADIUS=500;X-TITLE=1721 Oxmoor Road:geo:-86.795404,33.4750533
END:VEVENT
BEGIN:VEVENT
DTSTART;TZID=America/Chicago:20200618T180000
DTEND;TZID=America/Chicago:20200618T190000
DTSTAMP:20260420T155252
CREATED:20200622T205742Z
LAST-MODIFIED:20200622T205742Z
UID:34599-1592503200-1592506800@birminghammommy.com
SUMMARY:Family Fun on Zoom - Nailed It Challenge.
DESCRIPTION:Check out this video for how to make your own dough at home! No dough\, no problem! Use your creativity and draw the challenge or make the challenge out of food – whatever you’ve got! You’ll have 30 minutes to recreate the challenge. At the end of the program we will give away a $50 Homewood Instagift card.
URL:https://birminghammommy.com/event/family-fun-on-zoom-nailed-it-challenge/
LOCATION:Homewood Public Library\, Select a Country:
GEO:-12.0470469;-77.032263
END:VEVENT
BEGIN:VEVENT
DTSTART;VALUE=DATE:20200618
DTEND;VALUE=DATE:20200803
DTSTAMP:20260420T155252
CREATED:20200622T205742Z
LAST-MODIFIED:20200622T205742Z
UID:34593-1592438400-1596412799@birminghammommy.com
SUMMARY:6 Word Story Contest at Homewood Library.
DESCRIPTION:Now it is your turn! The Homewood Public Library is challenging any rising K-12th grader in Jefferson County to write a story with just six words. Students can submit two original six word stories via the library’s website. If submitting two stories\, please submit them one at a time. Our judges will read each story and determine 1st\, 2nd\, & 3rd place winners based on K-2\, 3rd-5th\, 6th-8th and 9th-12th graders. Last day to enter is August 2.
URL:https://birminghammommy.com/event/6-word-story-contest-at-homewood-library/
LOCATION:Homewood Public Library\, 1721 Oxmoor Road\, Homewood\, AL\, 35209\, United States
GEO:33.4750533;-86.795404
X-APPLE-STRUCTURED-LOCATION;VALUE=URI;X-ADDRESS=Homewood Public Library 1721 Oxmoor Road Homewood AL 35209 United States;X-APPLE-RADIUS=500;X-TITLE=1721 Oxmoor Road:geo:-86.795404,33.4750533
END:VEVENT
BEGIN:VEVENT
DTSTART;VALUE=DATE:20200618
DTEND;VALUE=DATE:20200803
DTSTAMP:20260420T155252
CREATED:20200622T205742Z
LAST-MODIFIED:20200622T205742Z
UID:34595-1592438400-1596412799@birminghammommy.com
SUMMARY:Imagine Your Story Online Summer Reading at Homewood Library.
DESCRIPTION:From May 18 – August 2 log what you’ve been reading or listening to on your Beanstack account at Homewood.beanstack.org or on the Beanstack Tracker app. All ages are eligible to participate. There will be separate challenges for youth\, teens\, and adults. Each challenge is tailor-made for that age group and contains activity badges\, weekly drawings\, and a grand prize! This program is made possible by the Friends of the Homewood Public Library and Shades Creek Dental. For more details on each challenge\, please visit Homewood.beanstack.org or download the Beanstack Tracker app.
URL:https://birminghammommy.com/event/imagine-your-story-online-summer-reading-at-homewood-library/
LOCATION:Homewood Public Library\, 1721 Oxmoor Road\, Homewood\, AL\, 35209\, United States
GEO:33.4750533;-86.795404
X-APPLE-STRUCTURED-LOCATION;VALUE=URI;X-ADDRESS=Homewood Public Library 1721 Oxmoor Road Homewood AL 35209 United States;X-APPLE-RADIUS=500;X-TITLE=1721 Oxmoor Road:geo:-86.795404,33.4750533
END:VEVENT
BEGIN:VEVENT
DTSTART;TZID=America/Chicago:20200610T130000
DTEND;TZID=America/Chicago:20200610T133000
DTSTAMP:20260420T155252
CREATED:20200622T205643Z
LAST-MODIFIED:20200622T205643Z
UID:34552-1591794000-1591795800@birminghammommy.com
SUMMARY:Virtual Self Defense Class for Ages 12-23
DESCRIPTION:A virtual self defense class for ages 12-23\, taught by Impact Martial Arts owner\, Karen Mitchell. \nRegister for this program here.
URL:https://birminghammommy.com/event/virtual-self-defense-class-for-ages-12-23/
LOCATION:Virtual Event
CATEGORIES:Virtual Event
ATTACH;FMTTYPE=image/jpeg:https://birminghammommy.com/wp-content/uploads/2020/06/96722917_3073796062681868_3760663296974258176_n.jpg
END:VEVENT
BEGIN:VEVENT
DTSTART;VALUE=DATE:20200608
DTEND;VALUE=DATE:20200629
DTSTAMP:20260420T155252
CREATED:20200622T205742Z
LAST-MODIFIED:20200622T205742Z
UID:34597-1591574400-1593388799@birminghammommy.com
SUMMARY:Show Us Your Library Card Contest at Homewood Library.
DESCRIPTION:June 8-28 \nShow us your love for Homewood Public Library by taking a creative photo of you with your Jefferson County Public Library card! Then send us your photo via Facebook Messenger\, email it to hwinfo@homewoodpubliclibrary.org\, or post it on  Instagram (tag @homewoodpublic and use #librarycardsofhomewood. Our favorite photo will win a gift card. All ages.
URL:https://birminghammommy.com/event/show-us-your-library-card-contest-at-homewood-library/
LOCATION:Homewood Public Library\, 1721 Oxmoor Road\, Homewood\, AL\, 35209\, United States
GEO:33.4750533;-86.795404
X-APPLE-STRUCTURED-LOCATION;VALUE=URI;X-ADDRESS=Homewood Public Library 1721 Oxmoor Road Homewood AL 35209 United States;X-APPLE-RADIUS=500;X-TITLE=1721 Oxmoor Road:geo:-86.795404,33.4750533
END:VEVENT
BEGIN:VEVENT
DTSTART;TZID=America/Chicago:20200528T183000
DTEND;TZID=America/Chicago:20200528T190000
DTSTAMP:20260420T155252
CREATED:20200414T225602Z
LAST-MODIFIED:20200414T225602Z
UID:34360-1590690600-1590692400@birminghammommy.com
SUMMARY:Digital PJ Storytime
DESCRIPTION:On their Facebook page on the 2nd and 4th Thursdays at 6:30 pm for a cozy fun story with Ms. Kristy. Don’t forget to wear your PJs! If you can’t be here at 6:30 pm\, don’t worry! The video will still be available so you can view at your family’s leisure.
URL:https://birminghammommy.com/event/digital-pj-storytime-2/
LOCATION:Virtual Event
CATEGORIES:Virtual Event
END:VEVENT
BEGIN:VEVENT
DTSTART;TZID=America/Chicago:20200526T110000
DTEND;TZID=America/Chicago:20200621T170000
DTSTAMP:20260420T155252
CREATED:20200622T205643Z
LAST-MODIFIED:20200622T205643Z
UID:34491-1590490800-1592758800@birminghammommy.com
SUMMARY:Live online classes for kids - FREE
DESCRIPTION:Live online classes for kids – FREE! Kids and families can join our online classes from home while school is out. Our special guests teach kids about art\, medicine\, music\, cooking\, science and more! Kids can ask questions online and show off their work. Different classes every day!
URL:https://birminghammommy.com/event/live-online-classes-for-kids-free/2020-05-26/
LOCATION:Online at your home
CATEGORIES:Virtual Event
ATTACH;FMTTYPE=image/jpeg:https://birminghammommy.com/wp-content/uploads/2020/05/9e4af76a-0baa-47b5-a02c-d98630994d59.jpg
ORGANIZER;CN="ActivityHero":MAILTO:community@activityhero.com
END:VEVENT
BEGIN:VEVENT
DTSTART;TZID=America/Chicago:20200525T103000
DTEND;TZID=America/Chicago:20200525T104500
DTSTAMP:20260420T155252
CREATED:20200414T225940Z
LAST-MODIFIED:20200414T225940Z
UID:34365-1590402600-1590403500@birminghammommy.com
SUMMARY:Digital Toddler Tales
DESCRIPTION:Join Ms. Kristy here on Facebook on the 2nd and 4th Mondays of the month at 10:30 am for digital Toddler Tales! If you can’t make it at those times\, don’t worry! The videos will still be here on Facebook to view at your family’s leisure.
URL:https://birminghammommy.com/event/digital-toddler-tales-2/
LOCATION:Virtual Event
CATEGORIES:Virtual Event
END:VEVENT
BEGIN:VEVENT
DTSTART;TZID=America/Chicago:20200506T060000
DTEND;TZID=America/Chicago:20200510T170000
DTSTAMP:20260420T155252
CREATED:20200126T235117Z
LAST-MODIFIED:20200126T235117Z
UID:33489-1588744800-1589130000@birminghammommy.com
SUMMARY:Regions Tradition
DESCRIPTION:Major Championship golf returns to Greystone Golf & Country Club.  See golf legends like defending champion Steve Stricker\, Miguel Angel Jimenez\, Bernhard Langer\, John Daly\, Rocco Mediate\, Tom Lehman\, Fred Funk\, Fred Couples\, Tom Watson\, Mark O’Meara and Nick Price take on one of the country’s finest golf courses\, the Founders Course at Greystone. It will be televised live on the Golf Channel.
URL:https://birminghammommy.com/event/regions-tradition-3/
LOCATION:Greystone Golf & Country Club\, 4100 Greystone Drive\, Hoover\, 35242\, United States
ATTACH;FMTTYPE=image/png:https://birminghammommy.com/wp-content/uploads/2020/01/Screen-Shot-2020-01-15-at-3.59.50-PM.png
END:VEVENT
BEGIN:VEVENT
DTSTART;TZID=America/Chicago:20200504T140000
DTEND;TZID=America/Chicago:20200504T143000
DTSTAMP:20260420T155252
CREATED:20200414T223608Z
LAST-MODIFIED:20200414T223608Z
UID:34354-1588600800-1588602600@birminghammommy.com
SUMMARY:Digital Puppet Crafts
DESCRIPTION:Join Ms. Vanessa on Facebook for a simple but fun puppet craft on the 1st and 3rd Mondays of the month at 2:00 pm. If you can’t make it at that time\, don’t worry! The video will still be here for your family’s viewing leisure. \nAlso\, please check out these fantastic puppet organizations for more fun at-home puppetry ideas and entertainment: \nCenter for Puppetry Arts \nMicheLee Puppets \nWonderSpark Puppets
URL:https://birminghammommy.com/event/digital-puppet-crafts-2/2020-05-04/
LOCATION:Virtual Event
CATEGORIES:Virtual Event
END:VEVENT
BEGIN:VEVENT
DTSTART;TZID=America/Chicago:20200427T103000
DTEND;TZID=America/Chicago:20200427T110000
DTSTAMP:20260420T155252
CREATED:20200414T215452Z
LAST-MODIFIED:20200414T215452Z
UID:34343-1587983400-1587985200@birminghammommy.com
SUMMARY:Streaming Storytime
DESCRIPTION:We’re bringing storytime to YOU! Join us each weekday at 10:30 AM for a fun and engaging storytime brought to you by the Hoover Library storytellers.
URL:https://birminghammommy.com/event/streaming-storytime-3/2020-04-27/
LOCATION:Virtual Event
CATEGORIES:Virtual Event
END:VEVENT
BEGIN:VEVENT
DTSTART;TZID=America/Chicago:20200427T103000
DTEND;TZID=America/Chicago:20200427T104500
DTSTAMP:20260420T155252
CREATED:20200414T225810Z
LAST-MODIFIED:20200414T225810Z
UID:34362-1587983400-1587984300@birminghammommy.com
SUMMARY:Digital Toddler Tales
DESCRIPTION:Join Ms. Kristy here on Facebook on the 2nd and 4th Mondays of the month at 10:30 am for digital Toddler Tales! If you can’t make it at those times\, don’t worry! The videos will still be here on Facebook to view at your family’s leisure.
URL:https://birminghammommy.com/event/digital-toddler-tales/2020-04-27/
LOCATION:Virtual Event
CATEGORIES:Virtual Event
END:VEVENT
BEGIN:VEVENT
DTSTART;TZID=America/Chicago:20200423T183000
DTEND;TZID=America/Chicago:20200423T190000
DTSTAMP:20260420T155252
CREATED:20200414T225023Z
LAST-MODIFIED:20200414T225023Z
UID:34357-1587666600-1587668400@birminghammommy.com
SUMMARY:Digital PJ Storytime
DESCRIPTION:On Facebook on the 2nd and 4th Thursdays at 6:30 pm for a cozy fun story with Ms. Kristy. Don’t forget to wear your PJs! If you can’t be here at 6:30 pm\, don’t worry! The video will still be available so you can view at your family’s leisure.
URL:https://birminghammommy.com/event/digital-pj-storytime/2020-04-23/
LOCATION:Virtual Event
CATEGORIES:Virtual Event
END:VEVENT
BEGIN:VEVENT
DTSTART;TZID=America/Chicago:20200423T180000
DTEND;TZID=America/Chicago:20200423T183000
DTSTAMP:20260420T155252
CREATED:20200414T182817Z
LAST-MODIFIED:20200414T182817Z
UID:34112-1587664800-1587666600@birminghammommy.com
SUMMARY:Hot of the Press Bookclub
DESCRIPTION:Join us for a virtual Hot Off the Press!\nRegister for this program to receive an email containing the Zoom Meeting ID.\nShare a book you’ve enjoyed and get to know some of Ms. Morgan’s latest favorites.
URL:https://birminghammommy.com/event/hot-of-the-press-bookclub/
LOCATION:Virtual Event
CATEGORIES:Virtual Event
END:VEVENT
BEGIN:VEVENT
DTSTART;TZID=America/Chicago:20200420T140000
DTEND;TZID=America/Chicago:20200420T143000
DTSTAMP:20260420T155252
CREATED:20200414T222610Z
LAST-MODIFIED:20200414T222610Z
UID:34352-1587391200-1587393000@birminghammommy.com
SUMMARY:Digital Puppet Crafts
DESCRIPTION:Join Ms. Vanessa on Facebook for a simple but fun puppet craft on the 1st and 3rd Mondays of the month at 2:00 pm. If you can’t make it at that time\, don’t worry! The video will still be here for your family’s viewing leisure. \nAlso\, please check out these fantastic puppet organizations for more fun at-home puppetry ideas and entertainment: \nCenter for Puppetry Arts \nMicheLee Puppets \nWonderSpark Puppets
URL:https://birminghammommy.com/event/digital-puppet-crafts/
LOCATION:Virtual Event
CATEGORIES:Virtual Event
END:VEVENT
END:VCALENDAR