BEGIN:VCALENDAR
VERSION:2.0
PRODID:-//Birmingham Mommy - ECPv6.3.5//NONSGML v1.0//EN
CALSCALE:GREGORIAN
METHOD:PUBLISH
X-WR-CALNAME:Birmingham Mommy
X-ORIGINAL-URL:https://birminghammommy.com
X-WR-CALDESC:Events for Birmingham Mommy
REFRESH-INTERVAL;VALUE=DURATION:PT1H
X-Robots-Tag:noindex
X-PUBLISHED-TTL:PT1H
BEGIN:VTIMEZONE
TZID:America/Chicago
BEGIN:DAYLIGHT
TZOFFSETFROM:-0600
TZOFFSETTO:-0500
TZNAME:CDT
DTSTART:20180311T080000
END:DAYLIGHT
BEGIN:STANDARD
TZOFFSETFROM:-0500
TZOFFSETTO:-0600
TZNAME:CST
DTSTART:20181104T070000
END:STANDARD
END:VTIMEZONE
BEGIN:VEVENT
DTSTART;TZID=America/Chicago:20181116T170000
DTEND;TZID=America/Chicago:20181116T180000
DTSTAMP:20260420T212603
CREATED:20181111T152505Z
LAST-MODIFIED:20181111T152658Z
UID:27110-1542387600-1542391200@birminghammommy.com
SUMMARY:North Pole Express
DESCRIPTION:“All Aboard!”\, calls the conductor\, and your family’s magical journey to the beautiful North Pole begins! \nThrough the dark night\, the North Pole Express makes its way by starlight to the top of the world. On the way\, you’ll listen to a whimsical Christmas story\, sing your favorite holiday carols\, and watch out the windows for the bright lights of the North Pole to appear. \nUpon arrival at the brilliantly decorated home of the Toymaker himself\, the elves\, Santa\, and Mrs. Claus will all board the train to visit your family and to take photos with every child. Be sure to whisper your wish for what you’re hoping to find under your tree on Christmas morning! \nAfter your special visit with the Christmas couple\, you’ll enjoy chocolate drinks and a yummy treat – delivered by the North Pole Express chefs. You can dance with the elves\, receive a lovely Christmas keepsake\, and relax for the music-filled ride back to the Depot. \nYour North Pole Express adventure will make lasting Christmas memories for you and your family for years to come — And for even more festive fun\, be sure to wear your pajamas for the ride! \nFor tickets and information visit http://www.hodrrm.org or call (205) 757-8383 \nWe hope to see you at the North Pole!
URL:https://birminghammommy.com/event/north-pole-express/2018-11-16/
LOCATION:Heart of Dixie Railroad Museum\, 1919 9th Street\, \, Calera\, Alabama \, 35040\, United States
GEO:33.0992505;-86.7499069
X-APPLE-STRUCTURED-LOCATION;VALUE=URI;X-ADDRESS=Heart of Dixie Railroad Museum 1919 9th Street  Calera Alabama  35040 United States;X-APPLE-RADIUS=500;X-TITLE=1919 9th Street\,:geo:-86.7499069,33.0992505
END:VEVENT
BEGIN:VEVENT
DTSTART;TZID=America/Chicago:20181116T153000
DTEND;TZID=America/Chicago:20181116T170000
DTSTAMP:20260420T212603
CREATED:20181111T143936Z
LAST-MODIFIED:20181111T143936Z
UID:27079-1542382200-1542387600@birminghammommy.com
SUMMARY:Won't you be my Neighbor
DESCRIPTION:Filmmaker Morgan Neville examines the life and legacy of Fred Rogers\, the beloved host of the popular children’s TV show “Mister Rogers’ Neighborhood.”
URL:https://birminghammommy.com/event/wont-you-be-my-neighbor/
LOCATION:Homewood Public Library\, 1721 Oxmoor Road\, Homewood\, AL\, 35209\, United States
GEO:33.4750533;-86.795404
X-APPLE-STRUCTURED-LOCATION;VALUE=URI;X-ADDRESS=Homewood Public Library 1721 Oxmoor Road Homewood AL 35209 United States;X-APPLE-RADIUS=500;X-TITLE=1721 Oxmoor Road:geo:-86.795404,33.4750533
END:VEVENT
BEGIN:VEVENT
DTSTART;TZID=America/Chicago:20181116T100000
DTEND;TZID=America/Chicago:20181116T103000
DTSTAMP:20260420T212603
CREATED:20181103T004225Z
LAST-MODIFIED:20181103T004225Z
UID:27038-1542362400-1542364200@birminghammommy.com
SUMMARY:Mt Laurel Toddler Time
DESCRIPTION:Stories\, songs\, fingerplays\, and more make up a lively 30 minute program designed especially for short attention spans and their caregiver. Registration begins two weeks prior to each storytime. Ages 36 months and younger.
URL:https://birminghammommy.com/event/mt-laurel-toddler-time/
LOCATION:Mt Laurel Library\, 111 Olmsted St\, Birmingham\, AL\, 35242
GEO:33.4096347;-86.6292618
X-APPLE-STRUCTURED-LOCATION;VALUE=URI;X-ADDRESS=Mt Laurel Library 111 Olmsted St Birmingham AL 35242;X-APPLE-RADIUS=500;X-TITLE=111 Olmsted St:geo:-86.6292618,33.4096347
END:VEVENT
BEGIN:VEVENT
DTSTART;TZID=America/Chicago:20181115T193000
DTEND;TZID=America/Chicago:20181115T213000
DTSTAMP:20260420T212603
CREATED:20181111T143754Z
LAST-MODIFIED:20181111T143754Z
UID:27077-1542310200-1542317400@birminghammommy.com
SUMMARY:Birmingham Bulls Hockey
DESCRIPTION:V. Quad City Storm \nAs You Walk Through the Door\, Your Hearts Starts Pumping! The irresistible lure of HOCKEY and the buzz of a packed house causes your ADRENALIN to surge. The music is PUMPING\, the lights fade and the smoke swirls – and that’s just the beginning. Monster hits\, UNBELIEVABLE GOALS and in-your-face hockey keeps you on the edge of your seat. The action is NON-STOP! With heart pounding music\, and contests\, what are you waiting for? It’s an EXPERIENCE to remember.
URL:https://birminghammommy.com/event/birmingham-bulls-hockey-8/
LOCATION:Pelham Civic Complex\, 500 Amphitheater Road\, Pelham\, AL\, 35124\, United States
GEO:33.3294394;-86.7891985
X-APPLE-STRUCTURED-LOCATION;VALUE=URI;X-ADDRESS=Pelham Civic Complex 500 Amphitheater Road Pelham AL 35124 United States;X-APPLE-RADIUS=500;X-TITLE=500 Amphitheater Road:geo:-86.7891985,33.3294394
END:VEVENT
BEGIN:VEVENT
DTSTART;TZID=America/Chicago:20181115T183000
DTEND;TZID=America/Chicago:20181115T191500
DTSTAMP:20260420T212603
CREATED:20181102T005627Z
LAST-MODIFIED:20181102T005627Z
UID:26961-1542306600-1542309300@birminghammommy.com
SUMMARY:Family Night of Wonder
DESCRIPTION:(All Ages) Join us for crafts and activities centered around the book Wonder by R. J. Palacio.
URL:https://birminghammommy.com/event/family-night-of-wonder/
LOCATION:Homewood Public Library\, 1721 Oxmoor Road\, Homewood\, AL\, 35209\, United States
GEO:33.4750533;-86.795404
X-APPLE-STRUCTURED-LOCATION;VALUE=URI;X-ADDRESS=Homewood Public Library 1721 Oxmoor Road Homewood AL 35209 United States;X-APPLE-RADIUS=500;X-TITLE=1721 Oxmoor Road:geo:-86.795404,33.4750533
END:VEVENT
BEGIN:VEVENT
DTSTART;TZID=America/Chicago:20181115T183000
DTEND;TZID=America/Chicago:20181115T190000
DTSTAMP:20260420T212604
CREATED:20181103T004118Z
LAST-MODIFIED:20181103T004118Z
UID:27036-1542306600-1542308400@birminghammommy.com
SUMMARY:Pajama Storytime at North Shelby
DESCRIPTION:Come in your PJs\, have milk and cookies\, and hear some wonderful bedtime tales. Suited for ages 3 and up. No Registration Required.
URL:https://birminghammommy.com/event/pajama-storytime-at-north-shelby/
LOCATION:North Shelby Library\, 5521 Cahaba Valley Road\, Birmingham\, AL\, 35242
GEO:33.3646429;-86.7165499
X-APPLE-STRUCTURED-LOCATION;VALUE=URI;X-ADDRESS=North Shelby Library 5521 Cahaba Valley Road Birmingham AL 35242;X-APPLE-RADIUS=500;X-TITLE=5521 Cahaba Valley Road:geo:-86.7165499,33.3646429
END:VEVENT
BEGIN:VEVENT
DTSTART;TZID=America/Chicago:20181115T180000
DTEND;TZID=America/Chicago:20181115T190000
DTSTAMP:20260420T212604
CREATED:20181114T001922Z
LAST-MODIFIED:20181114T001922Z
UID:27213-1542304800-1542308400@birminghammommy.com
SUMMARY:Bookmania grades 3 - 6
DESCRIPTION:Percy Jackson Edition: The Titan’s Curse
URL:https://birminghammommy.com/event/bookmania-grades-3-6/
LOCATION:Emmet O’ Neal Library\, 50 Oak Street\, Mountain Brook\, AL\, 35213
GEO:33.5012941;-86.7565774
X-APPLE-STRUCTURED-LOCATION;VALUE=URI;X-ADDRESS=Emmet O’ Neal Library 50 Oak Street Mountain Brook AL 35213;X-APPLE-RADIUS=500;X-TITLE=50 Oak Street:geo:-86.7565774,33.5012941
END:VEVENT
BEGIN:VEVENT
DTSTART;TZID=America/Chicago:20181115T153000
DTEND;TZID=America/Chicago:20181115T170500
DTSTAMP:20260420T212604
CREATED:20181114T001756Z
LAST-MODIFIED:20181114T001756Z
UID:27211-1542295800-1542301500@birminghammommy.com
SUMMARY:SNAP 3rd - 6th grade
DESCRIPTION:Movie & Popcorn: Hotel Transylvania 3 (3:30-5:05)
URL:https://birminghammommy.com/event/snap-3rd-6th-grade/
LOCATION:Emmet O’ Neal Library\, 50 Oak Street\, Mountain Brook\, AL\, 35213
GEO:33.5012941;-86.7565774
X-APPLE-STRUCTURED-LOCATION;VALUE=URI;X-ADDRESS=Emmet O’ Neal Library 50 Oak Street Mountain Brook AL 35213;X-APPLE-RADIUS=500;X-TITLE=50 Oak Street:geo:-86.7565774,33.5012941
END:VEVENT
BEGIN:VEVENT
DTSTART;TZID=America/Chicago:20181115T103000
DTEND;TZID=America/Chicago:20181115T105000
DTSTAMP:20260420T212604
CREATED:20181114T001636Z
LAST-MODIFIED:20181114T001636Z
UID:27205-1542277800-1542279000@birminghammommy.com
SUMMARY:Patty Cake Storytime
DESCRIPTION:Early language enrichment program composed of stories\, rhymes\, and songs designed to nurture the bond between caregiver and baby. \n0-12 Months with a Caregiver. Registration Required
URL:https://birminghammommy.com/event/patty-cake-storytime-4/2018-11-15/
LOCATION:Emmet O’ Neal Library\, 50 Oak Street\, Mountain Brook\, AL\, 35213
GEO:33.5012941;-86.7565774
X-APPLE-STRUCTURED-LOCATION;VALUE=URI;X-ADDRESS=Emmet O’ Neal Library 50 Oak Street Mountain Brook AL 35213;X-APPLE-RADIUS=500;X-TITLE=50 Oak Street:geo:-86.7565774,33.5012941
END:VEVENT
BEGIN:VEVENT
DTSTART;TZID=America/Chicago:20181115T100000
DTEND;TZID=America/Chicago:20181115T104500
DTSTAMP:20260420T212604
CREATED:20181103T003959Z
LAST-MODIFIED:20181103T003959Z
UID:27034-1542276000-1542278700@birminghammommy.com
SUMMARY:Baby Tales North Shelby Library
DESCRIPTION:A story time designed especially for babies and their caregivers. Stories and music provide interaction for the babies and time for caregivers to talk and share with each other. Ages: Birth to 18 months. Registration Required. Registration will begin two weeks prior to program date.
URL:https://birminghammommy.com/event/baby-tales-north-shelby-library-6/
LOCATION:North Shelby Library\, 5521 Cahaba Valley Road\, Birmingham\, AL\, 35242
GEO:33.3646429;-86.7165499
X-APPLE-STRUCTURED-LOCATION;VALUE=URI;X-ADDRESS=North Shelby Library 5521 Cahaba Valley Road Birmingham AL 35242;X-APPLE-RADIUS=500;X-TITLE=5521 Cahaba Valley Road:geo:-86.7165499,33.3646429
END:VEVENT
BEGIN:VEVENT
DTSTART;TZID=America/Chicago:20181115T093000
DTEND;TZID=America/Chicago:20181115T095000
DTSTAMP:20260420T212604
CREATED:20181114T001504Z
LAST-MODIFIED:20181114T001504Z
UID:27199-1542274200-1542275400@birminghammommy.com
SUMMARY:Patty Cake Storytime
DESCRIPTION:Early language enrichment program composed of stories\, rhymes\, and songs designed to nurture the bond between caregiver and baby. \n0-12 Months with a Caregiver. Registration Required
URL:https://birminghammommy.com/event/patty-cake-storytime-3/2018-11-15/
LOCATION:Emmet O’ Neal Library\, 50 Oak Street\, Mountain Brook\, AL\, 35213
GEO:33.5012941;-86.7565774
X-APPLE-STRUCTURED-LOCATION;VALUE=URI;X-ADDRESS=Emmet O’ Neal Library 50 Oak Street Mountain Brook AL 35213;X-APPLE-RADIUS=500;X-TITLE=50 Oak Street:geo:-86.7565774,33.5012941
END:VEVENT
BEGIN:VEVENT
DTSTART;TZID=America/Chicago:20181114T133000
DTEND;TZID=America/Chicago:20181114T141500
DTSTAMP:20260420T212604
CREATED:20181114T001115Z
LAST-MODIFIED:20181114T001115Z
UID:27197-1542202200-1542204900@birminghammommy.com
SUMMARY:Movers and Makers
DESCRIPTION:Preschoolers ages 3-5 – Build cooperation\, reading\, and school readiness skills.
URL:https://birminghammommy.com/event/movers-and-makers-3/
LOCATION:Emmet O’ Neal Library\, 50 Oak Street\, Mountain Brook\, AL\, 35213
GEO:33.5012941;-86.7565774
X-APPLE-STRUCTURED-LOCATION;VALUE=URI;X-ADDRESS=Emmet O’ Neal Library 50 Oak Street Mountain Brook AL 35213;X-APPLE-RADIUS=500;X-TITLE=50 Oak Street:geo:-86.7565774,33.5012941
END:VEVENT
BEGIN:VEVENT
DTSTART;TZID=America/Chicago:20181114T130000
DTEND;TZID=America/Chicago:20181114T140000
DTSTAMP:20260420T212604
CREATED:20181103T003827Z
LAST-MODIFIED:20181103T003827Z
UID:27032-1542200400-1542204000@birminghammommy.com
SUMMARY:Tween Homeschool Hangout
DESCRIPTION:Join us as we explore the properties and power of magnets.   Ages 7-12. Registration required.  Space is Limited.  Contact Kristy at 439-5505 or nschild@shelbycounty-al.org for more information.
URL:https://birminghammommy.com/event/tween-homeschool-hangout/
LOCATION:North Shelby Library\, 5521 Cahaba Valley Road\, Birmingham\, AL\, 35242
GEO:33.3646429;-86.7165499
X-APPLE-STRUCTURED-LOCATION;VALUE=URI;X-ADDRESS=North Shelby Library 5521 Cahaba Valley Road Birmingham AL 35242;X-APPLE-RADIUS=500;X-TITLE=5521 Cahaba Valley Road:geo:-86.7165499,33.3646429
END:VEVENT
BEGIN:VEVENT
DTSTART;TZID=America/Chicago:20181114T130000
DTEND;TZID=America/Chicago:20181114T140000
DTSTAMP:20260420T212604
CREATED:20181102T223439Z
LAST-MODIFIED:20181102T223439Z
UID:27030-1542200400-1542204000@birminghammommy.com
SUMMARY:Kids Corner at North Shelby
DESCRIPTION:Stop by the Children’s Department for some small games and activities. Designed for 3-6 year olds. No registration required.
URL:https://birminghammommy.com/event/kids-corner-at-north-shelby/
LOCATION:North Shelby Library\, 5521 Cahaba Valley Road\, Birmingham\, AL\, 35242
GEO:33.3646429;-86.7165499
X-APPLE-STRUCTURED-LOCATION;VALUE=URI;X-ADDRESS=North Shelby Library 5521 Cahaba Valley Road Birmingham AL 35242;X-APPLE-RADIUS=500;X-TITLE=5521 Cahaba Valley Road:geo:-86.7165499,33.3646429
END:VEVENT
BEGIN:VEVENT
DTSTART;TZID=America/Chicago:20181114T103000
DTEND;TZID=America/Chicago:20181114T110000
DTSTAMP:20260420T212604
CREATED:20181114T000952Z
LAST-MODIFIED:20181114T000952Z
UID:27194-1542191400-1542193200@birminghammommy.com
SUMMARY:Books in the Brook Pop Up Storytime
DESCRIPTION:Pop-up storytime at the Tot Lot at 10:30 am!
URL:https://birminghammommy.com/event/books-in-the-brook-pop-up-storytime/
LOCATION:Tot Lot
END:VEVENT
BEGIN:VEVENT
DTSTART;TZID=America/Chicago:20181113T153000
DTEND;TZID=America/Chicago:20181113T173000
DTSTAMP:20260420T212604
CREATED:20181102T004937Z
LAST-MODIFIED:20181102T004937Z
UID:26949-1542123000-1542130200@birminghammommy.com
SUMMARY:Fantastic Beasts and Where to Find Them
DESCRIPTION:The adventures of writer Newt Scamander in New York’s secret community of witches and wizards seventy years before Harry Potter reads his book in school.
URL:https://birminghammommy.com/event/fantastic-beasts-and-where-to-find-them/
LOCATION:Homewood Public Library\, 1721 Oxmoor Road\, Homewood\, AL\, 35209\, United States
GEO:33.4750533;-86.795404
X-APPLE-STRUCTURED-LOCATION;VALUE=URI;X-ADDRESS=Homewood Public Library 1721 Oxmoor Road Homewood AL 35209 United States;X-APPLE-RADIUS=500;X-TITLE=1721 Oxmoor Road:geo:-86.795404,33.4750533
END:VEVENT
BEGIN:VEVENT
DTSTART;TZID=America/Chicago:20181113T100000
DTEND;TZID=America/Chicago:20181113T104500
DTSTAMP:20260420T212604
CREATED:20181102T223310Z
LAST-MODIFIED:20181102T223310Z
UID:27028-1542103200-1542105900@birminghammommy.com
SUMMARY:Picture Book Club: Olivia the Pig
DESCRIPTION:Everyone’s favorite pig is ready for fun! Join us for stories\, games\, crafts\, and snacks!  Suited for ages 3-5. Registration required and begins 2 weeks before event.
URL:https://birminghammommy.com/event/picture-book-club-olivia-the-pig/
LOCATION:North Shelby Library\, 5521 Cahaba Valley Road\, Birmingham\, AL\, 35242
GEO:33.3646429;-86.7165499
X-APPLE-STRUCTURED-LOCATION;VALUE=URI;X-ADDRESS=North Shelby Library 5521 Cahaba Valley Road Birmingham AL 35242;X-APPLE-RADIUS=500;X-TITLE=5521 Cahaba Valley Road:geo:-86.7165499,33.3646429
END:VEVENT
BEGIN:VEVENT
DTSTART;TZID=America/Chicago:20181112T133000
DTEND;TZID=America/Chicago:20181112T153000
DTSTAMP:20260420T212604
CREATED:20181111T143319Z
LAST-MODIFIED:20181111T143319Z
UID:27075-1542029400-1542036600@birminghammommy.com
SUMMARY:Veterans Day Parade
DESCRIPTION:Stand and be counted.\nPARADE BEGINS AT 1:30 \nNew route this year due to downtown construction. This year the parade will be around Railroad Park. \nParade Start: Richard Arrington Blvd. & 1st Ave S.\nTurn Right on 3rd Ave S.\nTurn Right on 14th St. S.\nTurn Right on 1st Ave S.\nParade End: 1st Ave S. & 20th St. S.
URL:https://birminghammommy.com/event/veterans-day-parade-2/
LOCATION:Railroad Park\, 1600 1st Ave South\, Bir\, AL\, 35233
GEO:36.5211925;9.9443281
X-APPLE-STRUCTURED-LOCATION;VALUE=URI;X-ADDRESS=Railroad Park 1600 1st Ave South Bir AL 35233;X-APPLE-RADIUS=500;X-TITLE=1600 1st Ave South:geo:9.9443281,36.5211925
END:VEVENT
BEGIN:VEVENT
DTSTART;TZID=America/Chicago:20181111T000000
DTEND;TZID=America/Chicago:20181111T000000
DTSTAMP:20260420T212604
CREATED:20181111T152109Z
LAST-MODIFIED:20181111T152109Z
UID:27101-1541894400-1541894400@birminghammommy.com
SUMMARY:McWane Membership Drive
DESCRIPTION:We’re offering this AMAZING discount of $10 off any membership level to our readers\, and it’s good for 1 week only!! November 11th – November 17th. \nIt’s THE biggest discount you will see this year for the McWane Science Center and it’s only available through BirminghamMommy.com \nHere’s how to take advantage of this deal: \nUse Code BHAMMOMMY18 to purchase online at McWane.org\nPurchase in person from a BirminghamMommy representative  (Schedule of locations below)\nIn person at the McWane Center \nIf you’re currently a McWane member\, you can renew for next year at this rate! \nYou can purchase as many of these memberships as you want as gifts! Tip: Call the grandparents\, aunts and uncles and let them know this is what your kids want for Christmas. They can mark you off of their shopping list and it takes up no space in your house! A win/win for everyone. \nWe’re moms\, we know you’ll be out and running errands.  To make purchasing easier\, we will be set up at some offsite locations that we hope will be convenient for you. \nHere is a tentative schedule of where we will be and when. We will be updating any changes to these locations and times on Social Media. Please make sure to check before heading out. Look for a BirminghamMommy Rep in the following locations. (We’ll be wearing our BhamMommy t-shirts!) \nTuesday: \nStarbucks in Hoover off of Hwy 31\n9am – 11am \nDIYC Crafts in Homewood\,\nNo rep on location but forms available during regular business hours. 10am-6pm \nInstant Sign Center in Trussville\nNo rep on location but forms available during regular business hours. 10am-4pm \nWednesday: \nDIYC Crafts in Homewood\,\nNo rep on location but forms available during regular business hours. 10am-6pm \nInstant Sign Center in Trussville\nNo rep on location but forms available during regular business hours. 10am-4pm \nThursday: \nDIYC Crafts in Homewood\,\nNo rep on location but forms available during regular business hours. 10am-6pm \nInstant Sign Center in Trussville\nNo rep on location but forms available during regular business hours. 10am-4pm \nFriday: \nLights Up at the Summit\nBetween the Movie theater and the former Pier One \n5pm – 8pm\nWe’ll have forms available at our table\, stop by and see us! \nDIYC Crafts in Homewood\,\nNo rep on location but forms available during regular business hours. 10am-6pm \nSaturday: \nThe Heavenly Donut Co.\n4911 Cahaba River Rd\, Ste 105\nBirmingham\, Alabama 35243 \n8am – 10am\n*Free doughnut and BhamMommy t-shirt with purchase of a membership \nDIYC Crafts in Homewood\,\nNo rep on location but forms available during regular business hours. 10am-6pm
URL:https://birminghammommy.com/event/mcwane-membership-drive/2018-11-11/
LOCATION:online
END:VEVENT
BEGIN:VEVENT
DTSTART;TZID=America/Chicago:20181110T100000
DTEND;TZID=America/Chicago:20181110T140000
DTSTAMP:20260420T212604
CREATED:20181102T223102Z
LAST-MODIFIED:20181102T223102Z
UID:27026-1541844000-1541858400@birminghammommy.com
SUMMARY:Mt Laurel Crafty Saturday
DESCRIPTION:Drop in to make a craft at the library. All ages with parent help. Registration is not required but supplies are limited.
URL:https://birminghammommy.com/event/mt-laurel-crafty-saturday-2/
LOCATION:Mt Laurel Library\, 111 Olmsted St\, Birmingham\, AL\, 35242
GEO:33.4096347;-86.6292618
X-APPLE-STRUCTURED-LOCATION;VALUE=URI;X-ADDRESS=Mt Laurel Library 111 Olmsted St Birmingham AL 35242;X-APPLE-RADIUS=500;X-TITLE=111 Olmsted St:geo:-86.6292618,33.4096347
END:VEVENT
BEGIN:VEVENT
DTSTART;TZID=America/Chicago:20181110T100000
DTEND;TZID=America/Chicago:20181110T113000
DTSTAMP:20260420T212604
CREATED:20181002T134228Z
LAST-MODIFIED:20181002T134228Z
UID:26662-1541844000-1541849400@birminghammommy.com
SUMMARY:VBAC Education Class
DESCRIPTION:ICAN of Birmingham is offering a second date for our instructional VBAC (Vaginal Birth After Cesarean) course for parents\, grandparents\, support people\, doulas and birth professionals! Using evidence-based resources as our guide\, this class will: \n– Present a general overview of both the risks and benefits of VBAC\n– Answer commonly asked questions about VBAC\n– Address factors that may influence the success of a trial of labor after a cesarean (TOLAC)\n– Provide you with further resources to assist you/your clients in making informed decisions about birthing after a previous cesarean \nThis class is free and open to the public. However\, because of the nature of this particular course\, we do ask that you leave children at home for this event. Registration is required to attend. The meeting will take place at East59 Vintage and Cafe in the East Lake neighborhood of Birmingham.
URL:https://birminghammommy.com/event/vbac-education-class/
LOCATION:East59 Vintage & Cafe\, 7619 1st Ave N\, Birmingham\, AL\, 35206\, United States
ATTACH;FMTTYPE=image/png:https://birminghammommy.com/wp-content/uploads/2018/09/vbacclassnov.png
ORGANIZER;CN="ICAN of Birmingham":MAILTO:birmingham.al@ican-online.org
END:VEVENT
BEGIN:VEVENT
DTSTART;TZID=America/Chicago:20181110T090000
DTEND;TZID=America/Chicago:20181110T163000
DTSTAMP:20260420T212604
CREATED:20181102T221315Z
LAST-MODIFIED:20181102T221315Z
UID:26934-1541840400-1541867400@birminghammommy.com
SUMMARY:Honor Our Veterans Day at CHOM!
DESCRIPTION:Honor our Veterans Day at CHOM! \nSaturday\, November 10\, 2018 9-4:30 pm \nMake a card to send to the Tuscaloosa Veteran Affairs Medical Center\nor to give to a Veteran you know!\nAll Activities Included in Admission
URL:https://birminghammommy.com/event/honor-our-veterans-day-at-chom/
LOCATION:Children’s Hands-On Museum\, 2213 University Blvd.\, Tuscaloosa\, AL\, 35401\, United States
ATTACH;FMTTYPE=image/jpeg:https://birminghammommy.com/wp-content/uploads/2018/10/Honor-Our-Veterans-Day-11-10-18-RG.jpg
END:VEVENT
BEGIN:VEVENT
DTSTART;TZID=America/Chicago:20181108T180000
DTEND;TZID=America/Chicago:20181108T193000
DTSTAMP:20260420T212604
CREATED:20181102T222913Z
LAST-MODIFIED:20181102T222913Z
UID:27024-1541700000-1541705400@birminghammommy.com
SUMMARY:Family Board Game Night
DESCRIPTION:Drop by the Children’s Department between 6:00 pm – 7:30 pm and play some board games together and with other families! The librarian will be available to teach a game and demonstrate others as well! Families can play with each other and with other Family Fun Night friends. The classics will be on hand as well. All ages with caregivers. No registration. Snacks will be available.
URL:https://birminghammommy.com/event/family-board-game-night-2/
LOCATION:North Shelby Library\, 5521 Cahaba Valley Road\, Birmingham\, AL\, 35242
GEO:33.3646429;-86.7165499
X-APPLE-STRUCTURED-LOCATION;VALUE=URI;X-ADDRESS=North Shelby Library 5521 Cahaba Valley Road Birmingham AL 35242;X-APPLE-RADIUS=500;X-TITLE=5521 Cahaba Valley Road:geo:-86.7165499,33.3646429
END:VEVENT
BEGIN:VEVENT
DTSTART;TZID=America/Chicago:20181108T103000
DTEND;TZID=America/Chicago:20181108T110000
DTSTAMP:20260420T212604
CREATED:20181102T005425Z
LAST-MODIFIED:20181102T005425Z
UID:26956-1541673000-1541674800@birminghammommy.com
SUMMARY:Storyday with Nene
DESCRIPTION:(preschool) Join Ms. Nay Nay for this fun-filled storytime for preschoolers!
URL:https://birminghammommy.com/event/storyday-with-nene-2/2018-11-08/
LOCATION:Homewood Public Library\, 1721 Oxmoor Road\, Homewood\, AL\, 35209\, United States
GEO:33.4750533;-86.795404
X-APPLE-STRUCTURED-LOCATION;VALUE=URI;X-ADDRESS=Homewood Public Library 1721 Oxmoor Road Homewood AL 35209 United States;X-APPLE-RADIUS=500;X-TITLE=1721 Oxmoor Road:geo:-86.795404,33.4750533
END:VEVENT
BEGIN:VEVENT
DTSTART;TZID=America/Chicago:20181108T093000
DTEND;TZID=America/Chicago:20181108T100000
DTSTAMP:20260420T212604
CREATED:20181102T005300Z
LAST-MODIFIED:20181102T005300Z
UID:26951-1541669400-1541671200@birminghammommy.com
SUMMARY:Storyday with Nene
DESCRIPTION:(preschool) Join Ms. Nay Nay for this fun-filled storytime for preschoolers!
URL:https://birminghammommy.com/event/storyday-with-nene/2018-11-08/
LOCATION:Homewood Public Library\, 1721 Oxmoor Road\, Homewood\, AL\, 35209\, United States
GEO:33.4750533;-86.795404
X-APPLE-STRUCTURED-LOCATION;VALUE=URI;X-ADDRESS=Homewood Public Library 1721 Oxmoor Road Homewood AL 35209 United States;X-APPLE-RADIUS=500;X-TITLE=1721 Oxmoor Road:geo:-86.795404,33.4750533
END:VEVENT
BEGIN:VEVENT
DTSTART;TZID=America/Chicago:20181107T153000
DTEND;TZID=America/Chicago:20181107T161500
DTSTAMP:20260420T212604
CREATED:20181030T134611Z
LAST-MODIFIED:20181030T134611Z
UID:26929-1541604600-1541607300@birminghammommy.com
SUMMARY:Kids Create LEGO Club
DESCRIPTION:(K-5 Grade) Get ready to use your creativity for our exciting building challenges!
URL:https://birminghammommy.com/event/kids-create-lego-club-2/
LOCATION:Homewood Public Library\, 1721 Oxmoor Road\, Homewood\, AL\, 35209\, United States
GEO:33.4750533;-86.795404
X-APPLE-STRUCTURED-LOCATION;VALUE=URI;X-ADDRESS=Homewood Public Library 1721 Oxmoor Road Homewood AL 35209 United States;X-APPLE-RADIUS=500;X-TITLE=1721 Oxmoor Road:geo:-86.795404,33.4750533
END:VEVENT
BEGIN:VEVENT
DTSTART;TZID=America/Chicago:20181107T113000
DTEND;TZID=America/Chicago:20181107T120000
DTSTAMP:20260420T212604
CREATED:20181102T222746Z
LAST-MODIFIED:20181102T222746Z
UID:27019-1541590200-1541592000@birminghammommy.com
SUMMARY:Hedgie Hello
DESCRIPTION:Stop by to say hello to our pet hedgehog\, Oliver! We’ll take him out of his cage and feed him a few treats while you watch. All ages welcome. No registration required.
URL:https://birminghammommy.com/event/hedgie-hello-9/2018-11-07/
LOCATION:North Shelby Library\, 5521 Cahaba Valley Road\, Birmingham\, AL\, 35242
GEO:33.3646429;-86.7165499
X-APPLE-STRUCTURED-LOCATION;VALUE=URI;X-ADDRESS=North Shelby Library 5521 Cahaba Valley Road Birmingham AL 35242;X-APPLE-RADIUS=500;X-TITLE=5521 Cahaba Valley Road:geo:-86.7165499,33.3646429
END:VEVENT
BEGIN:VEVENT
DTSTART;TZID=America/Chicago:20181107T104500
DTEND;TZID=America/Chicago:20181107T111500
DTSTAMP:20260420T212604
CREATED:20181102T222555Z
LAST-MODIFIED:20181102T222555Z
UID:27014-1541587500-1541589300@birminghammommy.com
SUMMARY:Family Storytime with Mr Mac
DESCRIPTION:Stories\, puppets\, and lots of music for every member of the family. All Ages. No Registration.
URL:https://birminghammommy.com/event/family-storytime-with-mr-mac-7/2018-11-07/
LOCATION:North Shelby Library\, 5521 Cahaba Valley Road\, Birmingham\, AL\, 35242
GEO:33.3646429;-86.7165499
X-APPLE-STRUCTURED-LOCATION;VALUE=URI;X-ADDRESS=North Shelby Library 5521 Cahaba Valley Road Birmingham AL 35242;X-APPLE-RADIUS=500;X-TITLE=5521 Cahaba Valley Road:geo:-86.7165499,33.3646429
END:VEVENT
BEGIN:VEVENT
DTSTART;TZID=America/Chicago:20181107T103000
DTEND;TZID=America/Chicago:20181107T110000
DTSTAMP:20260420T212604
CREATED:20181030T002321Z
LAST-MODIFIED:20181030T002513Z
UID:26914-1541586600-1541588400@birminghammommy.com
SUMMARY:Sensory Storytime
DESCRIPTION:(preschool) Join Ms. Laura for books\, songs\, and activities that stimulate the senses and promote learning in a sensory-inclusive atmosphere.
URL:https://birminghammommy.com/event/sensory-storytime-7/2018-11-07/
LOCATION:Homewood Public Library\, 1721 Oxmoor Road\, Homewood\, AL\, 35209\, United States
GEO:33.4750533;-86.795404
X-APPLE-STRUCTURED-LOCATION;VALUE=URI;X-ADDRESS=Homewood Public Library 1721 Oxmoor Road Homewood AL 35209 United States;X-APPLE-RADIUS=500;X-TITLE=1721 Oxmoor Road:geo:-86.795404,33.4750533
END:VEVENT
BEGIN:VEVENT
DTSTART;TZID=America/Chicago:20181106T190000
DTEND;TZID=America/Chicago:20181106T210000
DTSTAMP:20260420T212604
CREATED:20181002T134228Z
LAST-MODIFIED:20181002T134228Z
UID:26668-1541530800-1541538000@birminghammommy.com
SUMMARY:November Support Meeting: Practicing Self-Compassion after a Difficult Birth
DESCRIPTION:When birth doesn’t go as we hoped or planned it would\, it’s often easy for us to beat ourselves up over what happened. A loss of self-confidence and feelings of failure are common for mothers who experience a birth outcome that was not ideal. \nFor our November meeting\, we will be talking about how to practice compassion and kindness with yourself after a difficult or disappointing birth. (Spoiler alert: you’re going to be reminded that you that you ARE most definitely worthy of compassion and kindness!!) \nPartners and support people are welcome. Due to space limitations\, babies in arms only\, please! Our monthly support meetings are always FREE. For more information about our ICAN chapter\, please check out our Facebook page.
URL:https://birminghammommy.com/event/november-support-meeting-practicing-self-compassion-after-a-difficult-birth/
LOCATION:The Retreat Day Spa\, 5236 Overton Rd\, Irondale\, 35210\, United States
ATTACH;FMTTYPE=image/png:https://birminghammommy.com/wp-content/uploads/2018/09/ICAN-of-Birmingham_November-Meeting-3.png
ORGANIZER;CN="ICAN of Birmingham":MAILTO:birmingham.al@ican-online.org
END:VEVENT
END:VCALENDAR